BEGIN:VCALENDAR
VERSION:2.0
PRODID:https://www.kufer.de/kuferweb / DE
METHOD:PUBLISH
CALSCALE:GREGORIAN
X-WR-TIMEZONE:Europe/Berlin
BEGIN:VTIMEZONE
TZID:Europe/Berlin
X-LIC-LOCATION:Europe/Berlin
BEGIN:DAYLIGHT
TZOFFSETFROM:+0100
TZOFFSETTO:+0200
TZNAME:CEST
DTSTART:19700329T020000
RRULE:FREQ=YEARLY;INTERVAL=1;BYDAY=-1SU;BYMONTH=3
END:DAYLIGHT
BEGIN:STANDARD
TZOFFSETFROM:+0200
TZOFFSETTO:+0100
TZNAME:CET
DTSTART:19701025T030000
RRULE:FREQ=YEARLY;INTERVAL=1;BYDAY=-1SU;BYMONTH=10
END:STANDARD
END:VTIMEZONE
BEGIN:VEVENT
DTSTAMP:20260423T065736
DTSTART;TZID=Europe/Berlin:20270414T083000
DTEND;TZID=Europe/Berlin:20270414T123000
UID:X46229001-20270414T083000@VHSBÖBLINGEN-SINDELFINGEN
SUMMARY:Deutsch A1, Integrationskurs GL 9 (X46229001) 
LOCATION:vhs.Studio, Pestalozzistr. 4, 71032 Böblingen
END:VEVENT
BEGIN:VEVENT
DTSTAMP:20260423T065736
DTSTART;TZID=Europe/Berlin:20270415T083000
DTEND;TZID=Europe/Berlin:20270415T123000
UID:X46229001-20270415T083000@VHSBÖBLINGEN-SINDELFINGEN
SUMMARY:Deutsch A1, Integrationskurs GL 9 (X46229001) 
LOCATION:vhs.Studio, Pestalozzistr. 4, 71032 Böblingen
END:VEVENT
BEGIN:VEVENT
DTSTAMP:20260423T065736
DTSTART;TZID=Europe/Berlin:20270416T083000
DTEND;TZID=Europe/Berlin:20270416T123000
UID:X46229001-20270416T083000@VHSBÖBLINGEN-SINDELFINGEN
SUMMARY:Deutsch A1, Integrationskurs GL 9 (X46229001) 
LOCATION:vhs.Studio, Pestalozzistr. 4, 71032 Böblingen
END:VEVENT
BEGIN:VEVENT
DTSTAMP:20260423T065736
DTSTART;TZID=Europe/Berlin:20270419T083000
DTEND;TZID=Europe/Berlin:20270419T123000
UID:X46229001-20270419T083000@VHSBÖBLINGEN-SINDELFINGEN
SUMMARY:Deutsch A1, Integrationskurs GL 9 (X46229001) 
LOCATION:vhs.Studio, Pestalozzistr. 4, 71032 Böblingen
END:VEVENT
BEGIN:VEVENT
DTSTAMP:20260423T065736
DTSTART;TZID=Europe/Berlin:20270420T083000
DTEND;TZID=Europe/Berlin:20270420T123000
UID:X46229001-20270420T083000@VHSBÖBLINGEN-SINDELFINGEN
SUMMARY:Deutsch A1, Integrationskurs GL 9 (X46229001) 
LOCATION:vhs.Studio, Pestalozzistr. 4, 71032 Böblingen
END:VEVENT
BEGIN:VEVENT
DTSTAMP:20260423T065736
DTSTART;TZID=Europe/Berlin:20270421T083000
DTEND;TZID=Europe/Berlin:20270421T123000
UID:X46229001-20270421T083000@VHSBÖBLINGEN-SINDELFINGEN
SUMMARY:Deutsch A1, Integrationskurs GL 9 (X46229001) 
LOCATION:vhs.Studio, Pestalozzistr. 4, 71032 Böblingen
END:VEVENT
BEGIN:VEVENT
DTSTAMP:20260423T065736
DTSTART;TZID=Europe/Berlin:20270422T083000
DTEND;TZID=Europe/Berlin:20270422T123000
UID:X46229001-20270422T083000@VHSBÖBLINGEN-SINDELFINGEN
SUMMARY:Deutsch A1, Integrationskurs GL 9 (X46229001) 
LOCATION:vhs.Studio, Pestalozzistr. 4, 71032 Böblingen
END:VEVENT
BEGIN:VEVENT
DTSTAMP:20260423T065736
DTSTART;TZID=Europe/Berlin:20270423T083000
DTEND;TZID=Europe/Berlin:20270423T123000
UID:X46229001-20270423T083000@VHSBÖBLINGEN-SINDELFINGEN
SUMMARY:Deutsch A1, Integrationskurs GL 9 (X46229001) 
LOCATION:vhs.Studio, Pestalozzistr. 4, 71032 Böblingen
END:VEVENT
BEGIN:VEVENT
DTSTAMP:20260423T065736
DTSTART;TZID=Europe/Berlin:20270426T083000
DTEND;TZID=Europe/Berlin:20270426T123000
UID:X46229001-20270426T083000@VHSBÖBLINGEN-SINDELFINGEN
SUMMARY:Deutsch A1, Integrationskurs GL 9 (X46229001) 
LOCATION:vhs.Studio, Pestalozzistr. 4, 71032 Böblingen
END:VEVENT
BEGIN:VEVENT
DTSTAMP:20260423T065736
DTSTART;TZID=Europe/Berlin:20270427T083000
DTEND;TZID=Europe/Berlin:20270427T123000
UID:X46229001-20270427T083000@VHSBÖBLINGEN-SINDELFINGEN
SUMMARY:Deutsch A1, Integrationskurs GL 9 (X46229001) 
LOCATION:vhs.Studio, Pestalozzistr. 4, 71032 Böblingen
END:VEVENT
BEGIN:VEVENT
DTSTAMP:20260423T065736
DTSTART;TZID=Europe/Berlin:20270428T083000
DTEND;TZID=Europe/Berlin:20270428T123000
UID:X46229001-20270428T083000@VHSBÖBLINGEN-SINDELFINGEN
SUMMARY:Deutsch A1, Integrationskurs GL 9 (X46229001) 
LOCATION:vhs.Studio, Pestalozzistr. 4, 71032 Böblingen
END:VEVENT
BEGIN:VEVENT
DTSTAMP:20260423T065736
DTSTART;TZID=Europe/Berlin:20270429T083000
DTEND;TZID=Europe/Berlin:20270429T123000
UID:X46229001-20270429T083000@VHSBÖBLINGEN-SINDELFINGEN
SUMMARY:Deutsch A1, Integrationskurs GL 9 (X46229001) 
LOCATION:vhs.Studio, Pestalozzistr. 4, 71032 Böblingen
END:VEVENT
BEGIN:VEVENT
DTSTAMP:20260423T065736
DTSTART;TZID=Europe/Berlin:20270430T083000
DTEND;TZID=Europe/Berlin:20270430T123000
UID:X46229001-20270430T083000@VHSBÖBLINGEN-SINDELFINGEN
SUMMARY:Deutsch A1, Integrationskurs GL 9 (X46229001) 
LOCATION:vhs.Studio, Pestalozzistr. 4, 71032 Böblingen
END:VEVENT
BEGIN:VEVENT
DTSTAMP:20260423T065736
DTSTART;TZID=Europe/Berlin:20270503T083000
DTEND;TZID=Europe/Berlin:20270503T123000
UID:X46229001-20270503T083000@VHSBÖBLINGEN-SINDELFINGEN
SUMMARY:Deutsch A1, Integrationskurs GL 9 (X46229001) 
LOCATION:vhs.Studio, Pestalozzistr. 4, 71032 Böblingen
END:VEVENT
BEGIN:VEVENT
DTSTAMP:20260423T065736
DTSTART;TZID=Europe/Berlin:20270504T083000
DTEND;TZID=Europe/Berlin:20270504T123000
UID:X46229001-20270504T083000@VHSBÖBLINGEN-SINDELFINGEN
SUMMARY:Deutsch A1, Integrationskurs GL 9 (X46229001) 
LOCATION:vhs.Studio, Pestalozzistr. 4, 71032 Böblingen
END:VEVENT
BEGIN:VEVENT
DTSTAMP:20260423T065736
DTSTART;TZID=Europe/Berlin:20270505T083000
DTEND;TZID=Europe/Berlin:20270505T123000
UID:X46229001-20270505T083000@VHSBÖBLINGEN-SINDELFINGEN
SUMMARY:Deutsch A1, Integrationskurs GL 9 (X46229001) 
LOCATION:vhs.Studio, Pestalozzistr. 4, 71032 Böblingen
END:VEVENT
BEGIN:VEVENT
DTSTAMP:20260423T065736
DTSTART;TZID=Europe/Berlin:20270507T083000
DTEND;TZID=Europe/Berlin:20270507T123000
UID:X46229001-20270507T083000@VHSBÖBLINGEN-SINDELFINGEN
SUMMARY:Deutsch A1, Integrationskurs GL 9 (X46229001) 
LOCATION:vhs.Studio, Pestalozzistr. 4, 71032 Böblingen
END:VEVENT
BEGIN:VEVENT
DTSTAMP:20260423T065736
DTSTART;TZID=Europe/Berlin:20270510T083000
DTEND;TZID=Europe/Berlin:20270510T123000
UID:X46229001-20270510T083000@VHSBÖBLINGEN-SINDELFINGEN
SUMMARY:Deutsch A1, Integrationskurs GL 9 (X46229001) 
LOCATION:vhs.Studio, Pestalozzistr. 4, 71032 Böblingen
END:VEVENT
BEGIN:VEVENT
DTSTAMP:20260423T065736
DTSTART;TZID=Europe/Berlin:20270511T083000
DTEND;TZID=Europe/Berlin:20270511T123000
UID:X46229001-20270511T083000@VHSBÖBLINGEN-SINDELFINGEN
SUMMARY:Deutsch A1, Integrationskurs GL 9 (X46229001) 
LOCATION:vhs.Studio, Pestalozzistr. 4, 71032 Böblingen
END:VEVENT
BEGIN:VEVENT
DTSTAMP:20260423T065736
DTSTART;TZID=Europe/Berlin:20270512T083000
DTEND;TZID=Europe/Berlin:20270512T123000
UID:X46229001-20270512T083000@VHSBÖBLINGEN-SINDELFINGEN
SUMMARY:Deutsch A1, Integrationskurs GL 9 (X46229001) 
LOCATION:vhs.Studio, Pestalozzistr. 4, 71032 Böblingen
END:VEVENT
END:VCALENDAR