BEGIN:VCALENDAR
VERSION:2.0
PRODID:https://www.kufer.de/kuferweb / DE
METHOD:PUBLISH
CALSCALE:GREGORIAN
X-WR-TIMEZONE:Europe/Berlin
BEGIN:VTIMEZONE
TZID:Europe/Berlin
X-LIC-LOCATION:Europe/Berlin
BEGIN:DAYLIGHT
TZOFFSETFROM:+0100
TZOFFSETTO:+0200
TZNAME:CEST
DTSTART:19700329T020000
RRULE:FREQ=YEARLY;INTERVAL=1;BYDAY=-1SU;BYMONTH=3
END:DAYLIGHT
BEGIN:STANDARD
TZOFFSETFROM:+0200
TZOFFSETTO:+0100
TZNAME:CET
DTSTART:19701025T030000
RRULE:FREQ=YEARLY;INTERVAL=1;BYDAY=-1SU;BYMONTH=10
END:STANDARD
END:VTIMEZONE
BEGIN:VEVENT
DTSTAMP:20260422T184424
DTSTART;TZID=Europe/Berlin:20270308T080000
DTEND;TZID=Europe/Berlin:20270308T120000
UID:X46129002-20270308T080000@VHSBÖBLINGEN-SINDELFINGEN
SUMMARY:Deutsch A1, Integrationskurs GL 9 (X46129002) 
LOCATION:GHH, U 006, UG, Böblinger Str. 8 , 71065 Sindelfingen
END:VEVENT
BEGIN:VEVENT
DTSTAMP:20260422T184424
DTSTART;TZID=Europe/Berlin:20270309T080000
DTEND;TZID=Europe/Berlin:20270309T120000
UID:X46129002-20270309T080000@VHSBÖBLINGEN-SINDELFINGEN
SUMMARY:Deutsch A1, Integrationskurs GL 9 (X46129002) 
LOCATION:GHH, U 006, UG, Böblinger Str. 8 , 71065 Sindelfingen
END:VEVENT
BEGIN:VEVENT
DTSTAMP:20260422T184424
DTSTART;TZID=Europe/Berlin:20270310T080000
DTEND;TZID=Europe/Berlin:20270310T120000
UID:X46129002-20270310T080000@VHSBÖBLINGEN-SINDELFINGEN
SUMMARY:Deutsch A1, Integrationskurs GL 9 (X46129002) 
LOCATION:GHH, U 006, UG, Böblinger Str. 8 , 71065 Sindelfingen
END:VEVENT
BEGIN:VEVENT
DTSTAMP:20260422T184424
DTSTART;TZID=Europe/Berlin:20270311T080000
DTEND;TZID=Europe/Berlin:20270311T120000
UID:X46129002-20270311T080000@VHSBÖBLINGEN-SINDELFINGEN
SUMMARY:Deutsch A1, Integrationskurs GL 9 (X46129002) 
LOCATION:GHH, U 006, UG, Böblinger Str. 8 , 71065 Sindelfingen
END:VEVENT
BEGIN:VEVENT
DTSTAMP:20260422T184424
DTSTART;TZID=Europe/Berlin:20270312T080000
DTEND;TZID=Europe/Berlin:20270312T120000
UID:X46129002-20270312T080000@VHSBÖBLINGEN-SINDELFINGEN
SUMMARY:Deutsch A1, Integrationskurs GL 9 (X46129002) 
LOCATION:GHH, U 006, UG, Böblinger Str. 8 , 71065 Sindelfingen
END:VEVENT
BEGIN:VEVENT
DTSTAMP:20260422T184424
DTSTART;TZID=Europe/Berlin:20270315T080000
DTEND;TZID=Europe/Berlin:20270315T120000
UID:X46129002-20270315T080000@VHSBÖBLINGEN-SINDELFINGEN
SUMMARY:Deutsch A1, Integrationskurs GL 9 (X46129002) 
LOCATION:GHH, U 006, UG, Böblinger Str. 8 , 71065 Sindelfingen
END:VEVENT
BEGIN:VEVENT
DTSTAMP:20260422T184424
DTSTART;TZID=Europe/Berlin:20270316T080000
DTEND;TZID=Europe/Berlin:20270316T120000
UID:X46129002-20270316T080000@VHSBÖBLINGEN-SINDELFINGEN
SUMMARY:Deutsch A1, Integrationskurs GL 9 (X46129002) 
LOCATION:GHH, U 006, UG, Böblinger Str. 8 , 71065 Sindelfingen
END:VEVENT
BEGIN:VEVENT
DTSTAMP:20260422T184424
DTSTART;TZID=Europe/Berlin:20270317T080000
DTEND;TZID=Europe/Berlin:20270317T120000
UID:X46129002-20270317T080000@VHSBÖBLINGEN-SINDELFINGEN
SUMMARY:Deutsch A1, Integrationskurs GL 9 (X46129002) 
LOCATION:GHH, U 006, UG, Böblinger Str. 8 , 71065 Sindelfingen
END:VEVENT
BEGIN:VEVENT
DTSTAMP:20260422T184424
DTSTART;TZID=Europe/Berlin:20270318T080000
DTEND;TZID=Europe/Berlin:20270318T120000
UID:X46129002-20270318T080000@VHSBÖBLINGEN-SINDELFINGEN
SUMMARY:Deutsch A1, Integrationskurs GL 9 (X46129002) 
LOCATION:GHH, U 006, UG, Böblinger Str. 8 , 71065 Sindelfingen
END:VEVENT
BEGIN:VEVENT
DTSTAMP:20260422T184424
DTSTART;TZID=Europe/Berlin:20270319T080000
DTEND;TZID=Europe/Berlin:20270319T120000
UID:X46129002-20270319T080000@VHSBÖBLINGEN-SINDELFINGEN
SUMMARY:Deutsch A1, Integrationskurs GL 9 (X46129002) 
LOCATION:GHH, U 006, UG, Böblinger Str. 8 , 71065 Sindelfingen
END:VEVENT
BEGIN:VEVENT
DTSTAMP:20260422T184424
DTSTART;TZID=Europe/Berlin:20270322T080000
DTEND;TZID=Europe/Berlin:20270322T120000
UID:X46129002-20270322T080000@VHSBÖBLINGEN-SINDELFINGEN
SUMMARY:Deutsch A1, Integrationskurs GL 9 (X46129002) 
LOCATION:GHH, U 006, UG, Böblinger Str. 8 , 71065 Sindelfingen
END:VEVENT
BEGIN:VEVENT
DTSTAMP:20260422T184424
DTSTART;TZID=Europe/Berlin:20270323T080000
DTEND;TZID=Europe/Berlin:20270323T120000
UID:X46129002-20270323T080000@VHSBÖBLINGEN-SINDELFINGEN
SUMMARY:Deutsch A1, Integrationskurs GL 9 (X46129002) 
LOCATION:GHH, U 006, UG, Böblinger Str. 8 , 71065 Sindelfingen
END:VEVENT
BEGIN:VEVENT
DTSTAMP:20260422T184424
DTSTART;TZID=Europe/Berlin:20270324T080000
DTEND;TZID=Europe/Berlin:20270324T120000
UID:X46129002-20270324T080000@VHSBÖBLINGEN-SINDELFINGEN
SUMMARY:Deutsch A1, Integrationskurs GL 9 (X46129002) 
LOCATION:GHH, U 006, UG, Böblinger Str. 8 , 71065 Sindelfingen
END:VEVENT
BEGIN:VEVENT
DTSTAMP:20260422T184424
DTSTART;TZID=Europe/Berlin:20270405T080000
DTEND;TZID=Europe/Berlin:20270405T120000
UID:X46129002-20270405T080000@VHSBÖBLINGEN-SINDELFINGEN
SUMMARY:Deutsch A1, Integrationskurs GL 9 (X46129002) 
LOCATION:GHH, U 006, UG, Böblinger Str. 8 , 71065 Sindelfingen
END:VEVENT
BEGIN:VEVENT
DTSTAMP:20260422T184424
DTSTART;TZID=Europe/Berlin:20270406T080000
DTEND;TZID=Europe/Berlin:20270406T120000
UID:X46129002-20270406T080000@VHSBÖBLINGEN-SINDELFINGEN
SUMMARY:Deutsch A1, Integrationskurs GL 9 (X46129002) 
LOCATION:GHH, U 006, UG, Böblinger Str. 8 , 71065 Sindelfingen
END:VEVENT
BEGIN:VEVENT
DTSTAMP:20260422T184424
DTSTART;TZID=Europe/Berlin:20270407T080000
DTEND;TZID=Europe/Berlin:20270407T120000
UID:X46129002-20270407T080000@VHSBÖBLINGEN-SINDELFINGEN
SUMMARY:Deutsch A1, Integrationskurs GL 9 (X46129002) 
LOCATION:GHH, U 006, UG, Böblinger Str. 8 , 71065 Sindelfingen
END:VEVENT
BEGIN:VEVENT
DTSTAMP:20260422T184424
DTSTART;TZID=Europe/Berlin:20270408T080000
DTEND;TZID=Europe/Berlin:20270408T120000
UID:X46129002-20270408T080000@VHSBÖBLINGEN-SINDELFINGEN
SUMMARY:Deutsch A1, Integrationskurs GL 9 (X46129002) 
LOCATION:GHH, U 006, UG, Böblinger Str. 8 , 71065 Sindelfingen
END:VEVENT
BEGIN:VEVENT
DTSTAMP:20260422T184424
DTSTART;TZID=Europe/Berlin:20270409T080000
DTEND;TZID=Europe/Berlin:20270409T120000
UID:X46129002-20270409T080000@VHSBÖBLINGEN-SINDELFINGEN
SUMMARY:Deutsch A1, Integrationskurs GL 9 (X46129002) 
LOCATION:GHH, U 006, UG, Böblinger Str. 8 , 71065 Sindelfingen
END:VEVENT
BEGIN:VEVENT
DTSTAMP:20260422T184424
DTSTART;TZID=Europe/Berlin:20270412T080000
DTEND;TZID=Europe/Berlin:20270412T120000
UID:X46129002-20270412T080000@VHSBÖBLINGEN-SINDELFINGEN
SUMMARY:Deutsch A1, Integrationskurs GL 9 (X46129002) 
LOCATION:GHH, U 006, UG, Böblinger Str. 8 , 71065 Sindelfingen
END:VEVENT
BEGIN:VEVENT
DTSTAMP:20260422T184424
DTSTART;TZID=Europe/Berlin:20270413T080000
DTEND;TZID=Europe/Berlin:20270413T120000
UID:X46129002-20270413T080000@VHSBÖBLINGEN-SINDELFINGEN
SUMMARY:Deutsch A1, Integrationskurs GL 9 (X46129002) 
LOCATION:GHH, U 006, UG, Böblinger Str. 8 , 71065 Sindelfingen
END:VEVENT
END:VCALENDAR