BEGIN:VCALENDAR
VERSION:2.0
PRODID:https://www.kufer.de/kuferweb / DE
METHOD:PUBLISH
CALSCALE:GREGORIAN
X-WR-TIMEZONE:Europe/Berlin
BEGIN:VTIMEZONE
TZID:Europe/Berlin
X-LIC-LOCATION:Europe/Berlin
BEGIN:DAYLIGHT
TZOFFSETFROM:+0100
TZOFFSETTO:+0200
TZNAME:CEST
DTSTART:19700329T020000
RRULE:FREQ=YEARLY;INTERVAL=1;BYDAY=-1SU;BYMONTH=3
END:DAYLIGHT
BEGIN:STANDARD
TZOFFSETFROM:+0200
TZOFFSETTO:+0100
TZNAME:CET
DTSTART:19701025T030000
RRULE:FREQ=YEARLY;INTERVAL=1;BYDAY=-1SU;BYMONTH=10
END:STANDARD
END:VTIMEZONE
BEGIN:VEVENT
DTSTAMP:20260423T082855
DTSTART;TZID=Europe/Berlin:20270308T083000
DTEND;TZID=Europe/Berlin:20270308T123000
UID:X46128001-20270308T083000@VHSBÖBLINGEN-SINDELFINGEN
SUMMARY:Deutsch A1, Integrationskurs GL 8 (X46128001) 
LOCATION:vhs.Studio, Pestalozzistr. 4, 71032 Böblingen
END:VEVENT
BEGIN:VEVENT
DTSTAMP:20260423T082855
DTSTART;TZID=Europe/Berlin:20270309T083000
DTEND;TZID=Europe/Berlin:20270309T123000
UID:X46128001-20270309T083000@VHSBÖBLINGEN-SINDELFINGEN
SUMMARY:Deutsch A1, Integrationskurs GL 8 (X46128001) 
LOCATION:vhs.Studio, Pestalozzistr. 4, 71032 Böblingen
END:VEVENT
BEGIN:VEVENT
DTSTAMP:20260423T082855
DTSTART;TZID=Europe/Berlin:20270310T083000
DTEND;TZID=Europe/Berlin:20270310T123000
UID:X46128001-20270310T083000@VHSBÖBLINGEN-SINDELFINGEN
SUMMARY:Deutsch A1, Integrationskurs GL 8 (X46128001) 
LOCATION:vhs.Studio, Pestalozzistr. 4, 71032 Böblingen
END:VEVENT
BEGIN:VEVENT
DTSTAMP:20260423T082855
DTSTART;TZID=Europe/Berlin:20270311T083000
DTEND;TZID=Europe/Berlin:20270311T123000
UID:X46128001-20270311T083000@VHSBÖBLINGEN-SINDELFINGEN
SUMMARY:Deutsch A1, Integrationskurs GL 8 (X46128001) 
LOCATION:vhs.Studio, Pestalozzistr. 4, 71032 Böblingen
END:VEVENT
BEGIN:VEVENT
DTSTAMP:20260423T082855
DTSTART;TZID=Europe/Berlin:20270312T083000
DTEND;TZID=Europe/Berlin:20270312T123000
UID:X46128001-20270312T083000@VHSBÖBLINGEN-SINDELFINGEN
SUMMARY:Deutsch A1, Integrationskurs GL 8 (X46128001) 
LOCATION:vhs.Studio, Pestalozzistr. 4, 71032 Böblingen
END:VEVENT
BEGIN:VEVENT
DTSTAMP:20260423T082855
DTSTART;TZID=Europe/Berlin:20270315T083000
DTEND;TZID=Europe/Berlin:20270315T123000
UID:X46128001-20270315T083000@VHSBÖBLINGEN-SINDELFINGEN
SUMMARY:Deutsch A1, Integrationskurs GL 8 (X46128001) 
LOCATION:vhs.Studio, Pestalozzistr. 4, 71032 Böblingen
END:VEVENT
BEGIN:VEVENT
DTSTAMP:20260423T082855
DTSTART;TZID=Europe/Berlin:20270316T083000
DTEND;TZID=Europe/Berlin:20270316T123000
UID:X46128001-20270316T083000@VHSBÖBLINGEN-SINDELFINGEN
SUMMARY:Deutsch A1, Integrationskurs GL 8 (X46128001) 
LOCATION:vhs.Studio, Pestalozzistr. 4, 71032 Böblingen
END:VEVENT
BEGIN:VEVENT
DTSTAMP:20260423T082855
DTSTART;TZID=Europe/Berlin:20270317T083000
DTEND;TZID=Europe/Berlin:20270317T123000
UID:X46128001-20270317T083000@VHSBÖBLINGEN-SINDELFINGEN
SUMMARY:Deutsch A1, Integrationskurs GL 8 (X46128001) 
LOCATION:vhs.Studio, Pestalozzistr. 4, 71032 Böblingen
END:VEVENT
BEGIN:VEVENT
DTSTAMP:20260423T082855
DTSTART;TZID=Europe/Berlin:20270318T083000
DTEND;TZID=Europe/Berlin:20270318T123000
UID:X46128001-20270318T083000@VHSBÖBLINGEN-SINDELFINGEN
SUMMARY:Deutsch A1, Integrationskurs GL 8 (X46128001) 
LOCATION:vhs.Studio, Pestalozzistr. 4, 71032 Böblingen
END:VEVENT
BEGIN:VEVENT
DTSTAMP:20260423T082855
DTSTART;TZID=Europe/Berlin:20270319T083000
DTEND;TZID=Europe/Berlin:20270319T123000
UID:X46128001-20270319T083000@VHSBÖBLINGEN-SINDELFINGEN
SUMMARY:Deutsch A1, Integrationskurs GL 8 (X46128001) 
LOCATION:vhs.Studio, Pestalozzistr. 4, 71032 Böblingen
END:VEVENT
BEGIN:VEVENT
DTSTAMP:20260423T082855
DTSTART;TZID=Europe/Berlin:20270322T083000
DTEND;TZID=Europe/Berlin:20270322T123000
UID:X46128001-20270322T083000@VHSBÖBLINGEN-SINDELFINGEN
SUMMARY:Deutsch A1, Integrationskurs GL 8 (X46128001) 
LOCATION:vhs.Studio, Pestalozzistr. 4, 71032 Böblingen
END:VEVENT
BEGIN:VEVENT
DTSTAMP:20260423T082855
DTSTART;TZID=Europe/Berlin:20270323T083000
DTEND;TZID=Europe/Berlin:20270323T123000
UID:X46128001-20270323T083000@VHSBÖBLINGEN-SINDELFINGEN
SUMMARY:Deutsch A1, Integrationskurs GL 8 (X46128001) 
LOCATION:vhs.Studio, Pestalozzistr. 4, 71032 Böblingen
END:VEVENT
BEGIN:VEVENT
DTSTAMP:20260423T082855
DTSTART;TZID=Europe/Berlin:20270324T083000
DTEND;TZID=Europe/Berlin:20270324T123000
UID:X46128001-20270324T083000@VHSBÖBLINGEN-SINDELFINGEN
SUMMARY:Deutsch A1, Integrationskurs GL 8 (X46128001) 
LOCATION:vhs.Studio, Pestalozzistr. 4, 71032 Böblingen
END:VEVENT
BEGIN:VEVENT
DTSTAMP:20260423T082855
DTSTART;TZID=Europe/Berlin:20270405T083000
DTEND;TZID=Europe/Berlin:20270405T123000
UID:X46128001-20270405T083000@VHSBÖBLINGEN-SINDELFINGEN
SUMMARY:Deutsch A1, Integrationskurs GL 8 (X46128001) 
LOCATION:vhs.Studio, Pestalozzistr. 4, 71032 Böblingen
END:VEVENT
BEGIN:VEVENT
DTSTAMP:20260423T082855
DTSTART;TZID=Europe/Berlin:20270406T083000
DTEND;TZID=Europe/Berlin:20270406T123000
UID:X46128001-20270406T083000@VHSBÖBLINGEN-SINDELFINGEN
SUMMARY:Deutsch A1, Integrationskurs GL 8 (X46128001) 
LOCATION:vhs.Studio, Pestalozzistr. 4, 71032 Böblingen
END:VEVENT
BEGIN:VEVENT
DTSTAMP:20260423T082855
DTSTART;TZID=Europe/Berlin:20270407T083000
DTEND;TZID=Europe/Berlin:20270407T123000
UID:X46128001-20270407T083000@VHSBÖBLINGEN-SINDELFINGEN
SUMMARY:Deutsch A1, Integrationskurs GL 8 (X46128001) 
LOCATION:vhs.Studio, Pestalozzistr. 4, 71032 Böblingen
END:VEVENT
BEGIN:VEVENT
DTSTAMP:20260423T082855
DTSTART;TZID=Europe/Berlin:20270408T083000
DTEND;TZID=Europe/Berlin:20270408T123000
UID:X46128001-20270408T083000@VHSBÖBLINGEN-SINDELFINGEN
SUMMARY:Deutsch A1, Integrationskurs GL 8 (X46128001) 
LOCATION:vhs.Studio, Pestalozzistr. 4, 71032 Böblingen
END:VEVENT
BEGIN:VEVENT
DTSTAMP:20260423T082855
DTSTART;TZID=Europe/Berlin:20270409T083000
DTEND;TZID=Europe/Berlin:20270409T123000
UID:X46128001-20270409T083000@VHSBÖBLINGEN-SINDELFINGEN
SUMMARY:Deutsch A1, Integrationskurs GL 8 (X46128001) 
LOCATION:vhs.Studio, Pestalozzistr. 4, 71032 Böblingen
END:VEVENT
BEGIN:VEVENT
DTSTAMP:20260423T082855
DTSTART;TZID=Europe/Berlin:20270412T083000
DTEND;TZID=Europe/Berlin:20270412T123000
UID:X46128001-20270412T083000@VHSBÖBLINGEN-SINDELFINGEN
SUMMARY:Deutsch A1, Integrationskurs GL 8 (X46128001) 
LOCATION:vhs.Studio, Pestalozzistr. 4, 71032 Böblingen
END:VEVENT
BEGIN:VEVENT
DTSTAMP:20260423T082855
DTSTART;TZID=Europe/Berlin:20270413T083000
DTEND;TZID=Europe/Berlin:20270413T123000
UID:X46128001-20270413T083000@VHSBÖBLINGEN-SINDELFINGEN
SUMMARY:Deutsch A1, Integrationskurs GL 8 (X46128001) 
LOCATION:vhs.Studio, Pestalozzistr. 4, 71032 Böblingen
END:VEVENT
END:VCALENDAR