BEGIN:VCALENDAR
VERSION:2.0
PRODID:https://www.kufer.de/kuferweb / DE
METHOD:PUBLISH
CALSCALE:GREGORIAN
X-WR-TIMEZONE:Europe/Berlin
BEGIN:VTIMEZONE
TZID:Europe/Berlin
X-LIC-LOCATION:Europe/Berlin
BEGIN:DAYLIGHT
TZOFFSETFROM:+0100
TZOFFSETTO:+0200
TZNAME:CEST
DTSTART:19700329T020000
RRULE:FREQ=YEARLY;INTERVAL=1;BYDAY=-1SU;BYMONTH=3
END:DAYLIGHT
BEGIN:STANDARD
TZOFFSETFROM:+0200
TZOFFSETTO:+0100
TZNAME:CET
DTSTART:19701025T030000
RRULE:FREQ=YEARLY;INTERVAL=1;BYDAY=-1SU;BYMONTH=10
END:STANDARD
END:VTIMEZONE
BEGIN:VEVENT
DTSTAMP:20260421T041340
DTSTART;TZID=Europe/Berlin:20270115T180000
DTEND;TZID=Europe/Berlin:20270115T193000
UID:W85145010-20270115T180000@VHSBÖBLINGEN-SINDELFINGEN
SUMMARY:Argumentation und Gesprächsführung (W85145010) 
LOCATION:Online vhs, Zürich (Alfaview), Online vhs
END:VEVENT
BEGIN:VEVENT
DTSTAMP:20260421T041340
DTSTART;TZID=Europe/Berlin:20270122T180000
DTEND;TZID=Europe/Berlin:20270122T193000
UID:W85145010-20270122T180000@VHSBÖBLINGEN-SINDELFINGEN
SUMMARY:Argumentation und Gesprächsführung (W85145010) 
LOCATION:Online vhs, Zürich (Alfaview), Online vhs
END:VEVENT
BEGIN:VEVENT
DTSTAMP:20260421T041340
DTSTART;TZID=Europe/Berlin:20270129T180000
DTEND;TZID=Europe/Berlin:20270129T193000
UID:W85145010-20270129T180000@VHSBÖBLINGEN-SINDELFINGEN
SUMMARY:Argumentation und Gesprächsführung (W85145010) 
LOCATION:Online vhs, Zürich (Alfaview), Online vhs
END:VEVENT
END:VCALENDAR