BEGIN:VCALENDAR
VERSION:2.0
PRODID:https://www.kufer.de/kuferweb / DE
METHOD:PUBLISH
CALSCALE:GREGORIAN
X-WR-TIMEZONE:Europe/Berlin
BEGIN:VTIMEZONE
TZID:Europe/Berlin
X-LIC-LOCATION:Europe/Berlin
BEGIN:DAYLIGHT
TZOFFSETFROM:+0100
TZOFFSETTO:+0200
TZNAME:CEST
DTSTART:19700329T020000
RRULE:FREQ=YEARLY;INTERVAL=1;BYDAY=-1SU;BYMONTH=3
END:DAYLIGHT
BEGIN:STANDARD
TZOFFSETFROM:+0200
TZOFFSETTO:+0100
TZNAME:CET
DTSTART:19701025T030000
RRULE:FREQ=YEARLY;INTERVAL=1;BYDAY=-1SU;BYMONTH=10
END:STANDARD
END:VTIMEZONE
BEGIN:VEVENT
DTSTAMP:20260420T140250
DTSTART;TZID=Europe/Berlin:20261008T090000
DTEND;TZID=Europe/Berlin:20261008T120000
UID:W85012010-20261008T090000@VHSBÖBLINGEN-SINDELFINGEN
SUMMARY:Grundlagen Buchführung - Grundkurs (W85012010) 
LOCATION:Online vhs, Zürich (Alfaview), Online vhs
END:VEVENT
BEGIN:VEVENT
DTSTAMP:20260420T140250
DTSTART;TZID=Europe/Berlin:20261015T090000
DTEND;TZID=Europe/Berlin:20261015T120000
UID:W85012010-20261015T090000@VHSBÖBLINGEN-SINDELFINGEN
SUMMARY:Grundlagen Buchführung - Grundkurs (W85012010) 
LOCATION:Online vhs, Zürich (Alfaview), Online vhs
END:VEVENT
BEGIN:VEVENT
DTSTAMP:20260420T140250
DTSTART;TZID=Europe/Berlin:20261029T090000
DTEND;TZID=Europe/Berlin:20261029T120000
UID:W85012010-20261029T090000@VHSBÖBLINGEN-SINDELFINGEN
SUMMARY:Grundlagen Buchführung - Grundkurs (W85012010) 
LOCATION:Online vhs, Zürich (Alfaview), Online vhs
END:VEVENT
BEGIN:VEVENT
DTSTAMP:20260420T140250
DTSTART;TZID=Europe/Berlin:20261105T090000
DTEND;TZID=Europe/Berlin:20261105T120000
UID:W85012010-20261105T090000@VHSBÖBLINGEN-SINDELFINGEN
SUMMARY:Grundlagen Buchführung - Grundkurs (W85012010) 
LOCATION:Online vhs, Zürich (Alfaview), Online vhs
END:VEVENT
END:VCALENDAR