BEGIN:VCALENDAR
VERSION:2.0
PRODID:https://www.kufer.de/kuferweb / DE
METHOD:PUBLISH
CALSCALE:GREGORIAN
X-WR-TIMEZONE:Europe/Berlin
BEGIN:VTIMEZONE
TZID:Europe/Berlin
X-LIC-LOCATION:Europe/Berlin
BEGIN:DAYLIGHT
TZOFFSETFROM:+0100
TZOFFSETTO:+0200
TZNAME:CEST
DTSTART:19700329T020000
RRULE:FREQ=YEARLY;INTERVAL=1;BYDAY=-1SU;BYMONTH=3
END:DAYLIGHT
BEGIN:STANDARD
TZOFFSETFROM:+0200
TZOFFSETTO:+0100
TZNAME:CET
DTSTART:19701025T030000
RRULE:FREQ=YEARLY;INTERVAL=1;BYDAY=-1SU;BYMONTH=10
END:STANDARD
END:VTIMEZONE
BEGIN:VEVENT
DTSTAMP:20260420T212241
DTSTART;TZID=Europe/Berlin:20270115T180000
DTEND;TZID=Europe/Berlin:20270115T210000
UID:W54735010-20270115T180000@VHSBÖBLINGEN-SINDELFINGEN
SUMMARY:Excel-Automatisierung und -Programmierung mit Excel 2024 (W54735010) 
LOCATION:Höfle, 104, 1. OG, Pestalozzistr. 4, 71032 Böblingen
END:VEVENT
BEGIN:VEVENT
DTSTAMP:20260420T212241
DTSTART;TZID=Europe/Berlin:20270116T090000
DTEND;TZID=Europe/Berlin:20270116T160000
UID:W54735010-20270116T090000@VHSBÖBLINGEN-SINDELFINGEN
SUMMARY:Excel-Automatisierung und -Programmierung mit Excel 2024 (W54735010) 
LOCATION:Höfle, 104, 1. OG, Pestalozzistr. 4, 71032 Böblingen
END:VEVENT
BEGIN:VEVENT
DTSTAMP:20260420T212241
DTSTART;TZID=Europe/Berlin:20270122T180000
DTEND;TZID=Europe/Berlin:20270122T210000
UID:W54735010-20270122T180000@VHSBÖBLINGEN-SINDELFINGEN
SUMMARY:Excel-Automatisierung und -Programmierung mit Excel 2024 (W54735010) 
LOCATION:Höfle, 104, 1. OG, Pestalozzistr. 4, 71032 Böblingen
END:VEVENT
BEGIN:VEVENT
DTSTAMP:20260420T212241
DTSTART;TZID=Europe/Berlin:20270123T090000
DTEND;TZID=Europe/Berlin:20270123T160000
UID:W54735010-20270123T090000@VHSBÖBLINGEN-SINDELFINGEN
SUMMARY:Excel-Automatisierung und -Programmierung mit Excel 2024 (W54735010) 
LOCATION:Höfle, 104, 1. OG, Pestalozzistr. 4, 71032 Böblingen
END:VEVENT
END:VCALENDAR