BEGIN:VCALENDAR
VERSION:2.0
PRODID:https://www.kufer.de/kuferweb / DE
METHOD:PUBLISH
CALSCALE:GREGORIAN
X-WR-TIMEZONE:Europe/Berlin
BEGIN:VTIMEZONE
TZID:Europe/Berlin
X-LIC-LOCATION:Europe/Berlin
BEGIN:DAYLIGHT
TZOFFSETFROM:+0100
TZOFFSETTO:+0200
TZNAME:CEST
DTSTART:19700329T020000
RRULE:FREQ=YEARLY;INTERVAL=1;BYDAY=-1SU;BYMONTH=3
END:DAYLIGHT
BEGIN:STANDARD
TZOFFSETFROM:+0200
TZOFFSETTO:+0100
TZNAME:CET
DTSTART:19701025T030000
RRULE:FREQ=YEARLY;INTERVAL=1;BYDAY=-1SU;BYMONTH=10
END:STANDARD
END:VTIMEZONE
BEGIN:VEVENT
DTSTAMP:20260421T152729
DTSTART;TZID=Europe/Berlin:20261103T180000
DTEND;TZID=Europe/Berlin:20261103T210000
UID:W54331510-20261103T180000@VHSBÖBLINGEN-SINDELFINGEN
SUMMARY:Online-Grundlagen (W54331510) 
LOCATION:GHH, 102, 1.OG, Böblinger Str. 8, 71065 Sindelfingen
END:VEVENT
BEGIN:VEVENT
DTSTAMP:20260421T152729
DTSTART;TZID=Europe/Berlin:20261105T180000
DTEND;TZID=Europe/Berlin:20261105T210000
UID:W54331510-20261105T180000@VHSBÖBLINGEN-SINDELFINGEN
SUMMARY:Online-Grundlagen (W54331510) 
LOCATION:GHH, 102, 1.OG, Böblinger Str. 8, 71065 Sindelfingen
END:VEVENT
BEGIN:VEVENT
DTSTAMP:20260421T152729
DTSTART;TZID=Europe/Berlin:20261110T180000
DTEND;TZID=Europe/Berlin:20261110T210000
UID:W54331510-20261110T180000@VHSBÖBLINGEN-SINDELFINGEN
SUMMARY:Online-Grundlagen (W54331510) 
LOCATION:GHH, 102, 1.OG, Böblinger Str. 8, 71065 Sindelfingen
END:VEVENT
BEGIN:VEVENT
DTSTAMP:20260421T152729
DTSTART;TZID=Europe/Berlin:20261112T180000
DTEND;TZID=Europe/Berlin:20261112T210000
UID:W54331510-20261112T180000@VHSBÖBLINGEN-SINDELFINGEN
SUMMARY:Online-Grundlagen (W54331510) 
LOCATION:GHH, 102, 1.OG, Böblinger Str. 8, 71065 Sindelfingen
END:VEVENT
END:VCALENDAR