BEGIN:VCALENDAR
VERSION:2.0
PRODID:https://www.kufer.de/kuferweb / DE
METHOD:PUBLISH
CALSCALE:GREGORIAN
X-WR-TIMEZONE:Europe/Berlin
BEGIN:VTIMEZONE
TZID:Europe/Berlin
X-LIC-LOCATION:Europe/Berlin
BEGIN:DAYLIGHT
TZOFFSETFROM:+0100
TZOFFSETTO:+0200
TZNAME:CEST
DTSTART:19700329T020000
RRULE:FREQ=YEARLY;INTERVAL=1;BYDAY=-1SU;BYMONTH=3
END:DAYLIGHT
BEGIN:STANDARD
TZOFFSETFROM:+0200
TZOFFSETTO:+0100
TZNAME:CET
DTSTART:19701025T030000
RRULE:FREQ=YEARLY;INTERVAL=1;BYDAY=-1SU;BYMONTH=10
END:STANDARD
END:VTIMEZONE
BEGIN:VEVENT
DTSTAMP:20260423T034218
DTSTART;TZID=Europe/Berlin:20261020T174500
DTEND;TZID=Europe/Berlin:20261020T221500
UID:W46913002-20261020T174500@VHSBÖBLINGEN-SINDELFINGEN
SUMMARY:Deutsch A2, Integrationskurs 3 (W46913002) 
LOCATION:Höfle, 005, EG, Pestalozzistr. 4, 71032 Böblingen
END:VEVENT
BEGIN:VEVENT
DTSTAMP:20260423T034218
DTSTART;TZID=Europe/Berlin:20261022T174500
DTEND;TZID=Europe/Berlin:20261022T221500
UID:W46913002-20261022T174500@VHSBÖBLINGEN-SINDELFINGEN
SUMMARY:Deutsch A2, Integrationskurs 3 (W46913002) 
LOCATION:Höfle, 005, EG, Pestalozzistr. 4, 71032 Böblingen
END:VEVENT
BEGIN:VEVENT
DTSTAMP:20260423T034218
DTSTART;TZID=Europe/Berlin:20261103T174500
DTEND;TZID=Europe/Berlin:20261103T221500
UID:W46913002-20261103T174500@VHSBÖBLINGEN-SINDELFINGEN
SUMMARY:Deutsch A2, Integrationskurs 3 (W46913002) 
LOCATION:Höfle, 005, EG, Pestalozzistr. 4, 71032 Böblingen
END:VEVENT
BEGIN:VEVENT
DTSTAMP:20260423T034218
DTSTART;TZID=Europe/Berlin:20261105T174500
DTEND;TZID=Europe/Berlin:20261105T221500
UID:W46913002-20261105T174500@VHSBÖBLINGEN-SINDELFINGEN
SUMMARY:Deutsch A2, Integrationskurs 3 (W46913002) 
LOCATION:Höfle, 005, EG, Pestalozzistr. 4, 71032 Böblingen
END:VEVENT
BEGIN:VEVENT
DTSTAMP:20260423T034218
DTSTART;TZID=Europe/Berlin:20261110T174500
DTEND;TZID=Europe/Berlin:20261110T221500
UID:W46913002-20261110T174500@VHSBÖBLINGEN-SINDELFINGEN
SUMMARY:Deutsch A2, Integrationskurs 3 (W46913002) 
LOCATION:Höfle, 005, EG, Pestalozzistr. 4, 71032 Böblingen
END:VEVENT
BEGIN:VEVENT
DTSTAMP:20260423T034218
DTSTART;TZID=Europe/Berlin:20261112T174500
DTEND;TZID=Europe/Berlin:20261112T221500
UID:W46913002-20261112T174500@VHSBÖBLINGEN-SINDELFINGEN
SUMMARY:Deutsch A2, Integrationskurs 3 (W46913002) 
LOCATION:Höfle, 005, EG, Pestalozzistr. 4, 71032 Böblingen
END:VEVENT
BEGIN:VEVENT
DTSTAMP:20260423T034218
DTSTART;TZID=Europe/Berlin:20261117T174500
DTEND;TZID=Europe/Berlin:20261117T221500
UID:W46913002-20261117T174500@VHSBÖBLINGEN-SINDELFINGEN
SUMMARY:Deutsch A2, Integrationskurs 3 (W46913002) 
LOCATION:Höfle, 005, EG, Pestalozzistr. 4, 71032 Böblingen
END:VEVENT
BEGIN:VEVENT
DTSTAMP:20260423T034218
DTSTART;TZID=Europe/Berlin:20261119T174500
DTEND;TZID=Europe/Berlin:20261119T221500
UID:W46913002-20261119T174500@VHSBÖBLINGEN-SINDELFINGEN
SUMMARY:Deutsch A2, Integrationskurs 3 (W46913002) 
LOCATION:Höfle, 005, EG, Pestalozzistr. 4, 71032 Böblingen
END:VEVENT
BEGIN:VEVENT
DTSTAMP:20260423T034218
DTSTART;TZID=Europe/Berlin:20261124T174500
DTEND;TZID=Europe/Berlin:20261124T221500
UID:W46913002-20261124T174500@VHSBÖBLINGEN-SINDELFINGEN
SUMMARY:Deutsch A2, Integrationskurs 3 (W46913002) 
LOCATION:Höfle, 005, EG, Pestalozzistr. 4, 71032 Böblingen
END:VEVENT
BEGIN:VEVENT
DTSTAMP:20260423T034218
DTSTART;TZID=Europe/Berlin:20261126T174500
DTEND;TZID=Europe/Berlin:20261126T221500
UID:W46913002-20261126T174500@VHSBÖBLINGEN-SINDELFINGEN
SUMMARY:Deutsch A2, Integrationskurs 3 (W46913002) 
LOCATION:Höfle, 005, EG, Pestalozzistr. 4, 71032 Böblingen
END:VEVENT
BEGIN:VEVENT
DTSTAMP:20260423T034218
DTSTART;TZID=Europe/Berlin:20261201T174500
DTEND;TZID=Europe/Berlin:20261201T221500
UID:W46913002-20261201T174500@VHSBÖBLINGEN-SINDELFINGEN
SUMMARY:Deutsch A2, Integrationskurs 3 (W46913002) 
LOCATION:Höfle, 005, EG, Pestalozzistr. 4, 71032 Böblingen
END:VEVENT
BEGIN:VEVENT
DTSTAMP:20260423T034218
DTSTART;TZID=Europe/Berlin:20261203T174500
DTEND;TZID=Europe/Berlin:20261203T221500
UID:W46913002-20261203T174500@VHSBÖBLINGEN-SINDELFINGEN
SUMMARY:Deutsch A2, Integrationskurs 3 (W46913002) 
LOCATION:Höfle, 005, EG, Pestalozzistr. 4, 71032 Böblingen
END:VEVENT
BEGIN:VEVENT
DTSTAMP:20260423T034218
DTSTART;TZID=Europe/Berlin:20261208T174500
DTEND;TZID=Europe/Berlin:20261208T221500
UID:W46913002-20261208T174500@VHSBÖBLINGEN-SINDELFINGEN
SUMMARY:Deutsch A2, Integrationskurs 3 (W46913002) 
LOCATION:Höfle, 005, EG, Pestalozzistr. 4, 71032 Böblingen
END:VEVENT
BEGIN:VEVENT
DTSTAMP:20260423T034218
DTSTART;TZID=Europe/Berlin:20261210T174500
DTEND;TZID=Europe/Berlin:20261210T221500
UID:W46913002-20261210T174500@VHSBÖBLINGEN-SINDELFINGEN
SUMMARY:Deutsch A2, Integrationskurs 3 (W46913002) 
LOCATION:Höfle, 005, EG, Pestalozzistr. 4, 71032 Böblingen
END:VEVENT
BEGIN:VEVENT
DTSTAMP:20260423T034218
DTSTART;TZID=Europe/Berlin:20261215T174500
DTEND;TZID=Europe/Berlin:20261215T221500
UID:W46913002-20261215T174500@VHSBÖBLINGEN-SINDELFINGEN
SUMMARY:Deutsch A2, Integrationskurs 3 (W46913002) 
LOCATION:Höfle, 005, EG, Pestalozzistr. 4, 71032 Böblingen
END:VEVENT
BEGIN:VEVENT
DTSTAMP:20260423T034218
DTSTART;TZID=Europe/Berlin:20261217T174500
DTEND;TZID=Europe/Berlin:20261217T204500
UID:W46913002-20261217T174500@VHSBÖBLINGEN-SINDELFINGEN
SUMMARY:Deutsch A2, Integrationskurs 3 (W46913002) 
LOCATION:Höfle, 005, EG, Pestalozzistr. 4, 71032 Böblingen
END:VEVENT
BEGIN:VEVENT
DTSTAMP:20260423T034218
DTSTART;TZID=Europe/Berlin:20261222T174500
DTEND;TZID=Europe/Berlin:20261222T221500
UID:W46913002-20261222T174500@VHSBÖBLINGEN-SINDELFINGEN
SUMMARY:Deutsch A2, Integrationskurs 3 (W46913002) 
LOCATION:Höfle, 005, EG, Pestalozzistr. 4, 71032 Böblingen
END:VEVENT
END:VCALENDAR