BEGIN:VCALENDAR
VERSION:2.0
PRODID:https://www.kufer.de/kuferweb / DE
METHOD:PUBLISH
CALSCALE:GREGORIAN
X-WR-TIMEZONE:Europe/Berlin
BEGIN:VTIMEZONE
TZID:Europe/Berlin
X-LIC-LOCATION:Europe/Berlin
BEGIN:DAYLIGHT
TZOFFSETFROM:+0100
TZOFFSETTO:+0200
TZNAME:CEST
DTSTART:19700329T020000
RRULE:FREQ=YEARLY;INTERVAL=1;BYDAY=-1SU;BYMONTH=3
END:DAYLIGHT
BEGIN:STANDARD
TZOFFSETFROM:+0200
TZOFFSETTO:+0100
TZNAME:CET
DTSTART:19701025T030000
RRULE:FREQ=YEARLY;INTERVAL=1;BYDAY=-1SU;BYMONTH=10
END:STANDARD
END:VTIMEZONE
BEGIN:VEVENT
DTSTAMP:20260422T201123
DTSTART;TZID=Europe/Berlin:20261005T173000
DTEND;TZID=Europe/Berlin:20261005T220000
UID:W46913001-20261005T173000@VHSBÖBLINGEN-SINDELFINGEN
SUMMARY:Deutsch A2, Integrationskurs 3 (W46913001) 
LOCATION:Neckarstraße, 005, Neckarstraße 16, 71065 Sindelfingen
END:VEVENT
BEGIN:VEVENT
DTSTAMP:20260422T201123
DTSTART;TZID=Europe/Berlin:20261008T173000
DTEND;TZID=Europe/Berlin:20261008T220000
UID:W46913001-20261008T173000@VHSBÖBLINGEN-SINDELFINGEN
SUMMARY:Deutsch A2, Integrationskurs 3 (W46913001) 
LOCATION:Neckarstraße, 005, Neckarstraße 16, 71065 Sindelfingen
END:VEVENT
BEGIN:VEVENT
DTSTAMP:20260422T201123
DTSTART;TZID=Europe/Berlin:20261012T173000
DTEND;TZID=Europe/Berlin:20261012T220000
UID:W46913001-20261012T173000@VHSBÖBLINGEN-SINDELFINGEN
SUMMARY:Deutsch A2, Integrationskurs 3 (W46913001) 
LOCATION:Neckarstraße, 005, Neckarstraße 16, 71065 Sindelfingen
END:VEVENT
BEGIN:VEVENT
DTSTAMP:20260422T201123
DTSTART;TZID=Europe/Berlin:20261015T173000
DTEND;TZID=Europe/Berlin:20261015T220000
UID:W46913001-20261015T173000@VHSBÖBLINGEN-SINDELFINGEN
SUMMARY:Deutsch A2, Integrationskurs 3 (W46913001) 
LOCATION:Neckarstraße, 005, Neckarstraße 16, 71065 Sindelfingen
END:VEVENT
BEGIN:VEVENT
DTSTAMP:20260422T201123
DTSTART;TZID=Europe/Berlin:20261019T173000
DTEND;TZID=Europe/Berlin:20261019T220000
UID:W46913001-20261019T173000@VHSBÖBLINGEN-SINDELFINGEN
SUMMARY:Deutsch A2, Integrationskurs 3 (W46913001) 
LOCATION:Neckarstraße, 005, Neckarstraße 16, 71065 Sindelfingen
END:VEVENT
BEGIN:VEVENT
DTSTAMP:20260422T201123
DTSTART;TZID=Europe/Berlin:20261022T173000
DTEND;TZID=Europe/Berlin:20261022T220000
UID:W46913001-20261022T173000@VHSBÖBLINGEN-SINDELFINGEN
SUMMARY:Deutsch A2, Integrationskurs 3 (W46913001) 
LOCATION:Neckarstraße, 005, Neckarstraße 16, 71065 Sindelfingen
END:VEVENT
BEGIN:VEVENT
DTSTAMP:20260422T201123
DTSTART;TZID=Europe/Berlin:20261102T173000
DTEND;TZID=Europe/Berlin:20261102T220000
UID:W46913001-20261102T173000@VHSBÖBLINGEN-SINDELFINGEN
SUMMARY:Deutsch A2, Integrationskurs 3 (W46913001) 
LOCATION:Neckarstraße, 005, Neckarstraße 16, 71065 Sindelfingen
END:VEVENT
BEGIN:VEVENT
DTSTAMP:20260422T201123
DTSTART;TZID=Europe/Berlin:20261105T173000
DTEND;TZID=Europe/Berlin:20261105T220000
UID:W46913001-20261105T173000@VHSBÖBLINGEN-SINDELFINGEN
SUMMARY:Deutsch A2, Integrationskurs 3 (W46913001) 
LOCATION:Neckarstraße, 005, Neckarstraße 16, 71065 Sindelfingen
END:VEVENT
BEGIN:VEVENT
DTSTAMP:20260422T201123
DTSTART;TZID=Europe/Berlin:20261109T173000
DTEND;TZID=Europe/Berlin:20261109T220000
UID:W46913001-20261109T173000@VHSBÖBLINGEN-SINDELFINGEN
SUMMARY:Deutsch A2, Integrationskurs 3 (W46913001) 
LOCATION:Neckarstraße, 005, Neckarstraße 16, 71065 Sindelfingen
END:VEVENT
BEGIN:VEVENT
DTSTAMP:20260422T201123
DTSTART;TZID=Europe/Berlin:20261112T173000
DTEND;TZID=Europe/Berlin:20261112T203000
UID:W46913001-20261112T173000@VHSBÖBLINGEN-SINDELFINGEN
SUMMARY:Deutsch A2, Integrationskurs 3 (W46913001) 
LOCATION:Neckarstraße, 005, Neckarstraße 16, 71065 Sindelfingen
END:VEVENT
BEGIN:VEVENT
DTSTAMP:20260422T201123
DTSTART;TZID=Europe/Berlin:20261116T173000
DTEND;TZID=Europe/Berlin:20261116T220000
UID:W46913001-20261116T173000@VHSBÖBLINGEN-SINDELFINGEN
SUMMARY:Deutsch A2, Integrationskurs 3 (W46913001) 
LOCATION:Neckarstraße, 005, Neckarstraße 16, 71065 Sindelfingen
END:VEVENT
BEGIN:VEVENT
DTSTAMP:20260422T201123
DTSTART;TZID=Europe/Berlin:20261119T173000
DTEND;TZID=Europe/Berlin:20261119T220000
UID:W46913001-20261119T173000@VHSBÖBLINGEN-SINDELFINGEN
SUMMARY:Deutsch A2, Integrationskurs 3 (W46913001) 
LOCATION:Neckarstraße, 005, Neckarstraße 16, 71065 Sindelfingen
END:VEVENT
BEGIN:VEVENT
DTSTAMP:20260422T201123
DTSTART;TZID=Europe/Berlin:20261123T173000
DTEND;TZID=Europe/Berlin:20261123T220000
UID:W46913001-20261123T173000@VHSBÖBLINGEN-SINDELFINGEN
SUMMARY:Deutsch A2, Integrationskurs 3 (W46913001) 
LOCATION:Neckarstraße, 005, Neckarstraße 16, 71065 Sindelfingen
END:VEVENT
BEGIN:VEVENT
DTSTAMP:20260422T201123
DTSTART;TZID=Europe/Berlin:20261126T173000
DTEND;TZID=Europe/Berlin:20261126T220000
UID:W46913001-20261126T173000@VHSBÖBLINGEN-SINDELFINGEN
SUMMARY:Deutsch A2, Integrationskurs 3 (W46913001) 
LOCATION:Neckarstraße, 005, Neckarstraße 16, 71065 Sindelfingen
END:VEVENT
BEGIN:VEVENT
DTSTAMP:20260422T201123
DTSTART;TZID=Europe/Berlin:20261130T173000
DTEND;TZID=Europe/Berlin:20261130T220000
UID:W46913001-20261130T173000@VHSBÖBLINGEN-SINDELFINGEN
SUMMARY:Deutsch A2, Integrationskurs 3 (W46913001) 
LOCATION:Neckarstraße, 005, Neckarstraße 16, 71065 Sindelfingen
END:VEVENT
BEGIN:VEVENT
DTSTAMP:20260422T201123
DTSTART;TZID=Europe/Berlin:20261203T173000
DTEND;TZID=Europe/Berlin:20261203T220000
UID:W46913001-20261203T173000@VHSBÖBLINGEN-SINDELFINGEN
SUMMARY:Deutsch A2, Integrationskurs 3 (W46913001) 
LOCATION:Neckarstraße, 005, Neckarstraße 16, 71065 Sindelfingen
END:VEVENT
BEGIN:VEVENT
DTSTAMP:20260422T201123
DTSTART;TZID=Europe/Berlin:20261207T173000
DTEND;TZID=Europe/Berlin:20261207T220000
UID:W46913001-20261207T173000@VHSBÖBLINGEN-SINDELFINGEN
SUMMARY:Deutsch A2, Integrationskurs 3 (W46913001) 
LOCATION:Neckarstraße, 005, Neckarstraße 16, 71065 Sindelfingen
END:VEVENT
END:VCALENDAR