BEGIN:VCALENDAR
VERSION:2.0
PRODID:https://www.kufer.de/kuferweb / DE
METHOD:PUBLISH
CALSCALE:GREGORIAN
X-WR-TIMEZONE:Europe/Berlin
BEGIN:VTIMEZONE
TZID:Europe/Berlin
X-LIC-LOCATION:Europe/Berlin
BEGIN:DAYLIGHT
TZOFFSETFROM:+0100
TZOFFSETTO:+0200
TZNAME:CEST
DTSTART:19700329T020000
RRULE:FREQ=YEARLY;INTERVAL=1;BYDAY=-1SU;BYMONTH=3
END:DAYLIGHT
BEGIN:STANDARD
TZOFFSETFROM:+0200
TZOFFSETTO:+0100
TZNAME:CET
DTSTART:19701025T030000
RRULE:FREQ=YEARLY;INTERVAL=1;BYDAY=-1SU;BYMONTH=10
END:STANDARD
END:VTIMEZONE
BEGIN:VEVENT
DTSTAMP:20260423T034228
DTSTART;TZID=Europe/Berlin:20270201T080000
DTEND;TZID=Europe/Berlin:20270201T120000
UID:W46528002-20270201T080000@VHSBÖBLINGEN-SINDELFINGEN
SUMMARY:Deutsch A1, Integrationskurs GL 8 (W46528002) 
LOCATION:GHH, U 006, UG, Böblinger Str. 8 , 71065 Sindelfingen
END:VEVENT
BEGIN:VEVENT
DTSTAMP:20260423T034228
DTSTART;TZID=Europe/Berlin:20270202T080000
DTEND;TZID=Europe/Berlin:20270202T120000
UID:W46528002-20270202T080000@VHSBÖBLINGEN-SINDELFINGEN
SUMMARY:Deutsch A1, Integrationskurs GL 8 (W46528002) 
LOCATION:GHH, U 006, UG, Böblinger Str. 8 , 71065 Sindelfingen
END:VEVENT
BEGIN:VEVENT
DTSTAMP:20260423T034228
DTSTART;TZID=Europe/Berlin:20270203T080000
DTEND;TZID=Europe/Berlin:20270203T120000
UID:W46528002-20270203T080000@VHSBÖBLINGEN-SINDELFINGEN
SUMMARY:Deutsch A1, Integrationskurs GL 8 (W46528002) 
LOCATION:GHH, U 006, UG, Böblinger Str. 8 , 71065 Sindelfingen
END:VEVENT
BEGIN:VEVENT
DTSTAMP:20260423T034228
DTSTART;TZID=Europe/Berlin:20270204T080000
DTEND;TZID=Europe/Berlin:20270204T120000
UID:W46528002-20270204T080000@VHSBÖBLINGEN-SINDELFINGEN
SUMMARY:Deutsch A1, Integrationskurs GL 8 (W46528002) 
LOCATION:GHH, U 006, UG, Böblinger Str. 8 , 71065 Sindelfingen
END:VEVENT
BEGIN:VEVENT
DTSTAMP:20260423T034228
DTSTART;TZID=Europe/Berlin:20270205T080000
DTEND;TZID=Europe/Berlin:20270205T120000
UID:W46528002-20270205T080000@VHSBÖBLINGEN-SINDELFINGEN
SUMMARY:Deutsch A1, Integrationskurs GL 8 (W46528002) 
LOCATION:GHH, U 006, UG, Böblinger Str. 8 , 71065 Sindelfingen
END:VEVENT
BEGIN:VEVENT
DTSTAMP:20260423T034228
DTSTART;TZID=Europe/Berlin:20270215T080000
DTEND;TZID=Europe/Berlin:20270215T120000
UID:W46528002-20270215T080000@VHSBÖBLINGEN-SINDELFINGEN
SUMMARY:Deutsch A1, Integrationskurs GL 8 (W46528002) 
LOCATION:GHH, U 006, UG, Böblinger Str. 8 , 71065 Sindelfingen
END:VEVENT
BEGIN:VEVENT
DTSTAMP:20260423T034228
DTSTART;TZID=Europe/Berlin:20270216T080000
DTEND;TZID=Europe/Berlin:20270216T120000
UID:W46528002-20270216T080000@VHSBÖBLINGEN-SINDELFINGEN
SUMMARY:Deutsch A1, Integrationskurs GL 8 (W46528002) 
LOCATION:GHH, U 006, UG, Böblinger Str. 8 , 71065 Sindelfingen
END:VEVENT
BEGIN:VEVENT
DTSTAMP:20260423T034228
DTSTART;TZID=Europe/Berlin:20270217T080000
DTEND;TZID=Europe/Berlin:20270217T120000
UID:W46528002-20270217T080000@VHSBÖBLINGEN-SINDELFINGEN
SUMMARY:Deutsch A1, Integrationskurs GL 8 (W46528002) 
LOCATION:GHH, U 006, UG, Böblinger Str. 8 , 71065 Sindelfingen
END:VEVENT
BEGIN:VEVENT
DTSTAMP:20260423T034228
DTSTART;TZID=Europe/Berlin:20270218T080000
DTEND;TZID=Europe/Berlin:20270218T120000
UID:W46528002-20270218T080000@VHSBÖBLINGEN-SINDELFINGEN
SUMMARY:Deutsch A1, Integrationskurs GL 8 (W46528002) 
LOCATION:GHH, U 006, UG, Böblinger Str. 8 , 71065 Sindelfingen
END:VEVENT
BEGIN:VEVENT
DTSTAMP:20260423T034228
DTSTART;TZID=Europe/Berlin:20270219T080000
DTEND;TZID=Europe/Berlin:20270219T120000
UID:W46528002-20270219T080000@VHSBÖBLINGEN-SINDELFINGEN
SUMMARY:Deutsch A1, Integrationskurs GL 8 (W46528002) 
LOCATION:GHH, U 006, UG, Böblinger Str. 8 , 71065 Sindelfingen
END:VEVENT
BEGIN:VEVENT
DTSTAMP:20260423T034228
DTSTART;TZID=Europe/Berlin:20270222T080000
DTEND;TZID=Europe/Berlin:20270222T120000
UID:W46528002-20270222T080000@VHSBÖBLINGEN-SINDELFINGEN
SUMMARY:Deutsch A1, Integrationskurs GL 8 (W46528002) 
LOCATION:GHH, U 006, UG, Böblinger Str. 8 , 71065 Sindelfingen
END:VEVENT
BEGIN:VEVENT
DTSTAMP:20260423T034228
DTSTART;TZID=Europe/Berlin:20270223T080000
DTEND;TZID=Europe/Berlin:20270223T120000
UID:W46528002-20270223T080000@VHSBÖBLINGEN-SINDELFINGEN
SUMMARY:Deutsch A1, Integrationskurs GL 8 (W46528002) 
LOCATION:GHH, U 006, UG, Böblinger Str. 8 , 71065 Sindelfingen
END:VEVENT
BEGIN:VEVENT
DTSTAMP:20260423T034228
DTSTART;TZID=Europe/Berlin:20270224T080000
DTEND;TZID=Europe/Berlin:20270224T120000
UID:W46528002-20270224T080000@VHSBÖBLINGEN-SINDELFINGEN
SUMMARY:Deutsch A1, Integrationskurs GL 8 (W46528002) 
LOCATION:GHH, U 006, UG, Böblinger Str. 8 , 71065 Sindelfingen
END:VEVENT
BEGIN:VEVENT
DTSTAMP:20260423T034228
DTSTART;TZID=Europe/Berlin:20270225T080000
DTEND;TZID=Europe/Berlin:20270225T120000
UID:W46528002-20270225T080000@VHSBÖBLINGEN-SINDELFINGEN
SUMMARY:Deutsch A1, Integrationskurs GL 8 (W46528002) 
LOCATION:GHH, U 006, UG, Böblinger Str. 8 , 71065 Sindelfingen
END:VEVENT
BEGIN:VEVENT
DTSTAMP:20260423T034228
DTSTART;TZID=Europe/Berlin:20270226T080000
DTEND;TZID=Europe/Berlin:20270226T120000
UID:W46528002-20270226T080000@VHSBÖBLINGEN-SINDELFINGEN
SUMMARY:Deutsch A1, Integrationskurs GL 8 (W46528002) 
LOCATION:GHH, U 006, UG, Böblinger Str. 8 , 71065 Sindelfingen
END:VEVENT
BEGIN:VEVENT
DTSTAMP:20260423T034228
DTSTART;TZID=Europe/Berlin:20270301T080000
DTEND;TZID=Europe/Berlin:20270301T120000
UID:W46528002-20270301T080000@VHSBÖBLINGEN-SINDELFINGEN
SUMMARY:Deutsch A1, Integrationskurs GL 8 (W46528002) 
LOCATION:GHH, U 006, UG, Böblinger Str. 8 , 71065 Sindelfingen
END:VEVENT
BEGIN:VEVENT
DTSTAMP:20260423T034228
DTSTART;TZID=Europe/Berlin:20270302T080000
DTEND;TZID=Europe/Berlin:20270302T120000
UID:W46528002-20270302T080000@VHSBÖBLINGEN-SINDELFINGEN
SUMMARY:Deutsch A1, Integrationskurs GL 8 (W46528002) 
LOCATION:GHH, U 006, UG, Böblinger Str. 8 , 71065 Sindelfingen
END:VEVENT
BEGIN:VEVENT
DTSTAMP:20260423T034228
DTSTART;TZID=Europe/Berlin:20270303T080000
DTEND;TZID=Europe/Berlin:20270303T120000
UID:W46528002-20270303T080000@VHSBÖBLINGEN-SINDELFINGEN
SUMMARY:Deutsch A1, Integrationskurs GL 8 (W46528002) 
LOCATION:GHH, U 006, UG, Böblinger Str. 8 , 71065 Sindelfingen
END:VEVENT
BEGIN:VEVENT
DTSTAMP:20260423T034228
DTSTART;TZID=Europe/Berlin:20270304T080000
DTEND;TZID=Europe/Berlin:20270304T120000
UID:W46528002-20270304T080000@VHSBÖBLINGEN-SINDELFINGEN
SUMMARY:Deutsch A1, Integrationskurs GL 8 (W46528002) 
LOCATION:GHH, U 006, UG, Böblinger Str. 8 , 71065 Sindelfingen
END:VEVENT
BEGIN:VEVENT
DTSTAMP:20260423T034228
DTSTART;TZID=Europe/Berlin:20270305T080000
DTEND;TZID=Europe/Berlin:20270305T120000
UID:W46528002-20270305T080000@VHSBÖBLINGEN-SINDELFINGEN
SUMMARY:Deutsch A1, Integrationskurs GL 8 (W46528002) 
LOCATION:GHH, U 006, UG, Böblinger Str. 8 , 71065 Sindelfingen
END:VEVENT
END:VCALENDAR