BEGIN:VCALENDAR
VERSION:2.0
PRODID:https://www.kufer.de/kuferweb / DE
METHOD:PUBLISH
CALSCALE:GREGORIAN
X-WR-TIMEZONE:Europe/Berlin
BEGIN:VTIMEZONE
TZID:Europe/Berlin
X-LIC-LOCATION:Europe/Berlin
BEGIN:DAYLIGHT
TZOFFSETFROM:+0100
TZOFFSETTO:+0200
TZNAME:CEST
DTSTART:19700329T020000
RRULE:FREQ=YEARLY;INTERVAL=1;BYDAY=-1SU;BYMONTH=3
END:DAYLIGHT
BEGIN:STANDARD
TZOFFSETFROM:+0200
TZOFFSETTO:+0100
TZNAME:CET
DTSTART:19701025T030000
RRULE:FREQ=YEARLY;INTERVAL=1;BYDAY=-1SU;BYMONTH=10
END:STANDARD
END:VTIMEZONE
BEGIN:VEVENT
DTSTAMP:20260423T020820
DTSTART;TZID=Europe/Berlin:20270201T083000
DTEND;TZID=Europe/Berlin:20270201T123000
UID:W46527001-20270201T083000@VHSBÖBLINGEN-SINDELFINGEN
SUMMARY:Deutsch A1, Integrationskurs GL 7 (W46527001) 
LOCATION:vhs.Studio, Pestalozzistr. 4, 71032 Böblingen
END:VEVENT
BEGIN:VEVENT
DTSTAMP:20260423T020820
DTSTART;TZID=Europe/Berlin:20270202T083000
DTEND;TZID=Europe/Berlin:20270202T123000
UID:W46527001-20270202T083000@VHSBÖBLINGEN-SINDELFINGEN
SUMMARY:Deutsch A1, Integrationskurs GL 7 (W46527001) 
LOCATION:vhs.Studio, Pestalozzistr. 4, 71032 Böblingen
END:VEVENT
BEGIN:VEVENT
DTSTAMP:20260423T020820
DTSTART;TZID=Europe/Berlin:20270203T083000
DTEND;TZID=Europe/Berlin:20270203T123000
UID:W46527001-20270203T083000@VHSBÖBLINGEN-SINDELFINGEN
SUMMARY:Deutsch A1, Integrationskurs GL 7 (W46527001) 
LOCATION:vhs.Studio, Pestalozzistr. 4, 71032 Böblingen
END:VEVENT
BEGIN:VEVENT
DTSTAMP:20260423T020820
DTSTART;TZID=Europe/Berlin:20270204T083000
DTEND;TZID=Europe/Berlin:20270204T123000
UID:W46527001-20270204T083000@VHSBÖBLINGEN-SINDELFINGEN
SUMMARY:Deutsch A1, Integrationskurs GL 7 (W46527001) 
LOCATION:vhs.Studio, Pestalozzistr. 4, 71032 Böblingen
END:VEVENT
BEGIN:VEVENT
DTSTAMP:20260423T020820
DTSTART;TZID=Europe/Berlin:20270205T083000
DTEND;TZID=Europe/Berlin:20270205T123000
UID:W46527001-20270205T083000@VHSBÖBLINGEN-SINDELFINGEN
SUMMARY:Deutsch A1, Integrationskurs GL 7 (W46527001) 
LOCATION:vhs.Studio, Pestalozzistr. 4, 71032 Böblingen
END:VEVENT
BEGIN:VEVENT
DTSTAMP:20260423T020820
DTSTART;TZID=Europe/Berlin:20270215T083000
DTEND;TZID=Europe/Berlin:20270215T123000
UID:W46527001-20270215T083000@VHSBÖBLINGEN-SINDELFINGEN
SUMMARY:Deutsch A1, Integrationskurs GL 7 (W46527001) 
LOCATION:vhs.Studio, Pestalozzistr. 4, 71032 Böblingen
END:VEVENT
BEGIN:VEVENT
DTSTAMP:20260423T020820
DTSTART;TZID=Europe/Berlin:20270216T083000
DTEND;TZID=Europe/Berlin:20270216T123000
UID:W46527001-20270216T083000@VHSBÖBLINGEN-SINDELFINGEN
SUMMARY:Deutsch A1, Integrationskurs GL 7 (W46527001) 
LOCATION:vhs.Studio, Pestalozzistr. 4, 71032 Böblingen
END:VEVENT
BEGIN:VEVENT
DTSTAMP:20260423T020820
DTSTART;TZID=Europe/Berlin:20270217T083000
DTEND;TZID=Europe/Berlin:20270217T123000
UID:W46527001-20270217T083000@VHSBÖBLINGEN-SINDELFINGEN
SUMMARY:Deutsch A1, Integrationskurs GL 7 (W46527001) 
LOCATION:vhs.Studio, Pestalozzistr. 4, 71032 Böblingen
END:VEVENT
BEGIN:VEVENT
DTSTAMP:20260423T020820
DTSTART;TZID=Europe/Berlin:20270218T083000
DTEND;TZID=Europe/Berlin:20270218T123000
UID:W46527001-20270218T083000@VHSBÖBLINGEN-SINDELFINGEN
SUMMARY:Deutsch A1, Integrationskurs GL 7 (W46527001) 
LOCATION:vhs.Studio, Pestalozzistr. 4, 71032 Böblingen
END:VEVENT
BEGIN:VEVENT
DTSTAMP:20260423T020820
DTSTART;TZID=Europe/Berlin:20270219T083000
DTEND;TZID=Europe/Berlin:20270219T123000
UID:W46527001-20270219T083000@VHSBÖBLINGEN-SINDELFINGEN
SUMMARY:Deutsch A1, Integrationskurs GL 7 (W46527001) 
LOCATION:vhs.Studio, Pestalozzistr. 4, 71032 Böblingen
END:VEVENT
BEGIN:VEVENT
DTSTAMP:20260423T020820
DTSTART;TZID=Europe/Berlin:20270222T083000
DTEND;TZID=Europe/Berlin:20270222T123000
UID:W46527001-20270222T083000@VHSBÖBLINGEN-SINDELFINGEN
SUMMARY:Deutsch A1, Integrationskurs GL 7 (W46527001) 
LOCATION:vhs.Studio, Pestalozzistr. 4, 71032 Böblingen
END:VEVENT
BEGIN:VEVENT
DTSTAMP:20260423T020820
DTSTART;TZID=Europe/Berlin:20270223T083000
DTEND;TZID=Europe/Berlin:20270223T123000
UID:W46527001-20270223T083000@VHSBÖBLINGEN-SINDELFINGEN
SUMMARY:Deutsch A1, Integrationskurs GL 7 (W46527001) 
LOCATION:vhs.Studio, Pestalozzistr. 4, 71032 Böblingen
END:VEVENT
BEGIN:VEVENT
DTSTAMP:20260423T020820
DTSTART;TZID=Europe/Berlin:20270224T083000
DTEND;TZID=Europe/Berlin:20270224T123000
UID:W46527001-20270224T083000@VHSBÖBLINGEN-SINDELFINGEN
SUMMARY:Deutsch A1, Integrationskurs GL 7 (W46527001) 
LOCATION:vhs.Studio, Pestalozzistr. 4, 71032 Böblingen
END:VEVENT
BEGIN:VEVENT
DTSTAMP:20260423T020820
DTSTART;TZID=Europe/Berlin:20270225T083000
DTEND;TZID=Europe/Berlin:20270225T123000
UID:W46527001-20270225T083000@VHSBÖBLINGEN-SINDELFINGEN
SUMMARY:Deutsch A1, Integrationskurs GL 7 (W46527001) 
LOCATION:vhs.Studio, Pestalozzistr. 4, 71032 Böblingen
END:VEVENT
BEGIN:VEVENT
DTSTAMP:20260423T020820
DTSTART;TZID=Europe/Berlin:20270226T083000
DTEND;TZID=Europe/Berlin:20270226T123000
UID:W46527001-20270226T083000@VHSBÖBLINGEN-SINDELFINGEN
SUMMARY:Deutsch A1, Integrationskurs GL 7 (W46527001) 
LOCATION:vhs.Studio, Pestalozzistr. 4, 71032 Böblingen
END:VEVENT
BEGIN:VEVENT
DTSTAMP:20260423T020820
DTSTART;TZID=Europe/Berlin:20270301T083000
DTEND;TZID=Europe/Berlin:20270301T123000
UID:W46527001-20270301T083000@VHSBÖBLINGEN-SINDELFINGEN
SUMMARY:Deutsch A1, Integrationskurs GL 7 (W46527001) 
LOCATION:vhs.Studio, Pestalozzistr. 4, 71032 Böblingen
END:VEVENT
BEGIN:VEVENT
DTSTAMP:20260423T020820
DTSTART;TZID=Europe/Berlin:20270302T083000
DTEND;TZID=Europe/Berlin:20270302T123000
UID:W46527001-20270302T083000@VHSBÖBLINGEN-SINDELFINGEN
SUMMARY:Deutsch A1, Integrationskurs GL 7 (W46527001) 
LOCATION:vhs.Studio, Pestalozzistr. 4, 71032 Böblingen
END:VEVENT
BEGIN:VEVENT
DTSTAMP:20260423T020820
DTSTART;TZID=Europe/Berlin:20270303T083000
DTEND;TZID=Europe/Berlin:20270303T123000
UID:W46527001-20270303T083000@VHSBÖBLINGEN-SINDELFINGEN
SUMMARY:Deutsch A1, Integrationskurs GL 7 (W46527001) 
LOCATION:vhs.Studio, Pestalozzistr. 4, 71032 Böblingen
END:VEVENT
BEGIN:VEVENT
DTSTAMP:20260423T020820
DTSTART;TZID=Europe/Berlin:20270304T083000
DTEND;TZID=Europe/Berlin:20270304T123000
UID:W46527001-20270304T083000@VHSBÖBLINGEN-SINDELFINGEN
SUMMARY:Deutsch A1, Integrationskurs GL 7 (W46527001) 
LOCATION:vhs.Studio, Pestalozzistr. 4, 71032 Böblingen
END:VEVENT
BEGIN:VEVENT
DTSTAMP:20260423T020820
DTSTART;TZID=Europe/Berlin:20270305T083000
DTEND;TZID=Europe/Berlin:20270305T123000
UID:W46527001-20270305T083000@VHSBÖBLINGEN-SINDELFINGEN
SUMMARY:Deutsch A1, Integrationskurs GL 7 (W46527001) 
LOCATION:vhs.Studio, Pestalozzistr. 4, 71032 Böblingen
END:VEVENT
END:VCALENDAR