BEGIN:VCALENDAR
VERSION:2.0
PRODID:https://www.kufer.de/kuferweb / DE
METHOD:PUBLISH
CALSCALE:GREGORIAN
X-WR-TIMEZONE:Europe/Berlin
BEGIN:VTIMEZONE
TZID:Europe/Berlin
X-LIC-LOCATION:Europe/Berlin
BEGIN:DAYLIGHT
TZOFFSETFROM:+0100
TZOFFSETTO:+0200
TZNAME:CEST
DTSTART:19700329T020000
RRULE:FREQ=YEARLY;INTERVAL=1;BYDAY=-1SU;BYMONTH=3
END:DAYLIGHT
BEGIN:STANDARD
TZOFFSETFROM:+0200
TZOFFSETTO:+0100
TZNAME:CET
DTSTART:19701025T030000
RRULE:FREQ=YEARLY;INTERVAL=1;BYDAY=-1SU;BYMONTH=10
END:STANDARD
END:VTIMEZONE
BEGIN:VEVENT
DTSTAMP:20260423T003704
DTSTART;TZID=Europe/Berlin:20261214T123000
DTEND;TZID=Europe/Berlin:20261214T163000
UID:W46429003-20261214T123000@VHSBÖBLINGEN-SINDELFINGEN
SUMMARY:Deutsch A1, Integrationskurs GL 9 (W46429003) 
LOCATION:Höfle, 001, EG, Pestalozzistr. 4, 71032 Böblingen
END:VEVENT
BEGIN:VEVENT
DTSTAMP:20260423T003704
DTSTART;TZID=Europe/Berlin:20261215T123000
DTEND;TZID=Europe/Berlin:20261215T163000
UID:W46429003-20261215T123000@VHSBÖBLINGEN-SINDELFINGEN
SUMMARY:Deutsch A1, Integrationskurs GL 9 (W46429003) 
LOCATION:Höfle, 001, EG, Pestalozzistr. 4, 71032 Böblingen
END:VEVENT
BEGIN:VEVENT
DTSTAMP:20260423T003704
DTSTART;TZID=Europe/Berlin:20261216T123000
DTEND;TZID=Europe/Berlin:20261216T163000
UID:W46429003-20261216T123000@VHSBÖBLINGEN-SINDELFINGEN
SUMMARY:Deutsch A1, Integrationskurs GL 9 (W46429003) 
LOCATION:Höfle, 001, EG, Pestalozzistr. 4, 71032 Böblingen
END:VEVENT
BEGIN:VEVENT
DTSTAMP:20260423T003704
DTSTART;TZID=Europe/Berlin:20261217T123000
DTEND;TZID=Europe/Berlin:20261217T163000
UID:W46429003-20261217T123000@VHSBÖBLINGEN-SINDELFINGEN
SUMMARY:Deutsch A1, Integrationskurs GL 9 (W46429003) 
LOCATION:Höfle, 001, EG, Pestalozzistr. 4, 71032 Böblingen
END:VEVENT
BEGIN:VEVENT
DTSTAMP:20260423T003704
DTSTART;TZID=Europe/Berlin:20261218T123000
DTEND;TZID=Europe/Berlin:20261218T163000
UID:W46429003-20261218T123000@VHSBÖBLINGEN-SINDELFINGEN
SUMMARY:Deutsch A1, Integrationskurs GL 9 (W46429003) 
LOCATION:Höfle, 001, EG, Pestalozzistr. 4, 71032 Böblingen
END:VEVENT
BEGIN:VEVENT
DTSTAMP:20260423T003704
DTSTART;TZID=Europe/Berlin:20270111T123000
DTEND;TZID=Europe/Berlin:20270111T163000
UID:W46429003-20270111T123000@VHSBÖBLINGEN-SINDELFINGEN
SUMMARY:Deutsch A1, Integrationskurs GL 9 (W46429003) 
LOCATION:Höfle, 001, EG, Pestalozzistr. 4, 71032 Böblingen
END:VEVENT
BEGIN:VEVENT
DTSTAMP:20260423T003704
DTSTART;TZID=Europe/Berlin:20270112T123000
DTEND;TZID=Europe/Berlin:20270112T163000
UID:W46429003-20270112T123000@VHSBÖBLINGEN-SINDELFINGEN
SUMMARY:Deutsch A1, Integrationskurs GL 9 (W46429003) 
LOCATION:Höfle, 001, EG, Pestalozzistr. 4, 71032 Böblingen
END:VEVENT
BEGIN:VEVENT
DTSTAMP:20260423T003704
DTSTART;TZID=Europe/Berlin:20270113T123000
DTEND;TZID=Europe/Berlin:20270113T163000
UID:W46429003-20270113T123000@VHSBÖBLINGEN-SINDELFINGEN
SUMMARY:Deutsch A1, Integrationskurs GL 9 (W46429003) 
LOCATION:Höfle, 001, EG, Pestalozzistr. 4, 71032 Böblingen
END:VEVENT
BEGIN:VEVENT
DTSTAMP:20260423T003704
DTSTART;TZID=Europe/Berlin:20270114T123000
DTEND;TZID=Europe/Berlin:20270114T163000
UID:W46429003-20270114T123000@VHSBÖBLINGEN-SINDELFINGEN
SUMMARY:Deutsch A1, Integrationskurs GL 9 (W46429003) 
LOCATION:Höfle, 001, EG, Pestalozzistr. 4, 71032 Böblingen
END:VEVENT
BEGIN:VEVENT
DTSTAMP:20260423T003704
DTSTART;TZID=Europe/Berlin:20270115T123000
DTEND;TZID=Europe/Berlin:20270115T163000
UID:W46429003-20270115T123000@VHSBÖBLINGEN-SINDELFINGEN
SUMMARY:Deutsch A1, Integrationskurs GL 9 (W46429003) 
LOCATION:Höfle, 001, EG, Pestalozzistr. 4, 71032 Böblingen
END:VEVENT
BEGIN:VEVENT
DTSTAMP:20260423T003704
DTSTART;TZID=Europe/Berlin:20270118T123000
DTEND;TZID=Europe/Berlin:20270118T163000
UID:W46429003-20270118T123000@VHSBÖBLINGEN-SINDELFINGEN
SUMMARY:Deutsch A1, Integrationskurs GL 9 (W46429003) 
LOCATION:Höfle, 001, EG, Pestalozzistr. 4, 71032 Böblingen
END:VEVENT
BEGIN:VEVENT
DTSTAMP:20260423T003704
DTSTART;TZID=Europe/Berlin:20270119T123000
DTEND;TZID=Europe/Berlin:20270119T163000
UID:W46429003-20270119T123000@VHSBÖBLINGEN-SINDELFINGEN
SUMMARY:Deutsch A1, Integrationskurs GL 9 (W46429003) 
LOCATION:Höfle, 001, EG, Pestalozzistr. 4, 71032 Böblingen
END:VEVENT
BEGIN:VEVENT
DTSTAMP:20260423T003704
DTSTART;TZID=Europe/Berlin:20270120T123000
DTEND;TZID=Europe/Berlin:20270120T163000
UID:W46429003-20270120T123000@VHSBÖBLINGEN-SINDELFINGEN
SUMMARY:Deutsch A1, Integrationskurs GL 9 (W46429003) 
LOCATION:Höfle, 001, EG, Pestalozzistr. 4, 71032 Böblingen
END:VEVENT
BEGIN:VEVENT
DTSTAMP:20260423T003704
DTSTART;TZID=Europe/Berlin:20270121T123000
DTEND;TZID=Europe/Berlin:20270121T163000
UID:W46429003-20270121T123000@VHSBÖBLINGEN-SINDELFINGEN
SUMMARY:Deutsch A1, Integrationskurs GL 9 (W46429003) 
LOCATION:Höfle, 001, EG, Pestalozzistr. 4, 71032 Böblingen
END:VEVENT
BEGIN:VEVENT
DTSTAMP:20260423T003704
DTSTART;TZID=Europe/Berlin:20270122T123000
DTEND;TZID=Europe/Berlin:20270122T163000
UID:W46429003-20270122T123000@VHSBÖBLINGEN-SINDELFINGEN
SUMMARY:Deutsch A1, Integrationskurs GL 9 (W46429003) 
LOCATION:Höfle, 001, EG, Pestalozzistr. 4, 71032 Böblingen
END:VEVENT
BEGIN:VEVENT
DTSTAMP:20260423T003704
DTSTART;TZID=Europe/Berlin:20270125T123000
DTEND;TZID=Europe/Berlin:20270125T163000
UID:W46429003-20270125T123000@VHSBÖBLINGEN-SINDELFINGEN
SUMMARY:Deutsch A1, Integrationskurs GL 9 (W46429003) 
LOCATION:Höfle, 001, EG, Pestalozzistr. 4, 71032 Böblingen
END:VEVENT
BEGIN:VEVENT
DTSTAMP:20260423T003704
DTSTART;TZID=Europe/Berlin:20270126T123000
DTEND;TZID=Europe/Berlin:20270126T163000
UID:W46429003-20270126T123000@VHSBÖBLINGEN-SINDELFINGEN
SUMMARY:Deutsch A1, Integrationskurs GL 9 (W46429003) 
LOCATION:Höfle, 001, EG, Pestalozzistr. 4, 71032 Böblingen
END:VEVENT
BEGIN:VEVENT
DTSTAMP:20260423T003704
DTSTART;TZID=Europe/Berlin:20270127T123000
DTEND;TZID=Europe/Berlin:20270127T163000
UID:W46429003-20270127T123000@VHSBÖBLINGEN-SINDELFINGEN
SUMMARY:Deutsch A1, Integrationskurs GL 9 (W46429003) 
LOCATION:Höfle, 001, EG, Pestalozzistr. 4, 71032 Böblingen
END:VEVENT
BEGIN:VEVENT
DTSTAMP:20260423T003704
DTSTART;TZID=Europe/Berlin:20270128T123000
DTEND;TZID=Europe/Berlin:20270128T163000
UID:W46429003-20270128T123000@VHSBÖBLINGEN-SINDELFINGEN
SUMMARY:Deutsch A1, Integrationskurs GL 9 (W46429003) 
LOCATION:Höfle, 001, EG, Pestalozzistr. 4, 71032 Böblingen
END:VEVENT
BEGIN:VEVENT
DTSTAMP:20260423T003704
DTSTART;TZID=Europe/Berlin:20270129T123000
DTEND;TZID=Europe/Berlin:20270129T163000
UID:W46429003-20270129T123000@VHSBÖBLINGEN-SINDELFINGEN
SUMMARY:Deutsch A1, Integrationskurs GL 9 (W46429003) 
LOCATION:Höfle, 001, EG, Pestalozzistr. 4, 71032 Böblingen
END:VEVENT
END:VCALENDAR