BEGIN:VCALENDAR
VERSION:2.0
PRODID:https://www.kufer.de/kuferweb / DE
METHOD:PUBLISH
CALSCALE:GREGORIAN
X-WR-TIMEZONE:Europe/Berlin
BEGIN:VTIMEZONE
TZID:Europe/Berlin
X-LIC-LOCATION:Europe/Berlin
BEGIN:DAYLIGHT
TZOFFSETFROM:+0100
TZOFFSETTO:+0200
TZNAME:CEST
DTSTART:19700329T020000
RRULE:FREQ=YEARLY;INTERVAL=1;BYDAY=-1SU;BYMONTH=3
END:DAYLIGHT
BEGIN:STANDARD
TZOFFSETFROM:+0200
TZOFFSETTO:+0100
TZNAME:CET
DTSTART:19701025T030000
RRULE:FREQ=YEARLY;INTERVAL=1;BYDAY=-1SU;BYMONTH=10
END:STANDARD
END:VTIMEZONE
BEGIN:VEVENT
DTSTAMP:20260423T003708
DTSTART;TZID=Europe/Berlin:20261214T080000
DTEND;TZID=Europe/Berlin:20261214T120000
UID:W46429002-20261214T080000@VHSBÖBLINGEN-SINDELFINGEN
SUMMARY:Deutsch A1, Integrationskurs GL 9 (W46429002) 
LOCATION:GHH, 206, 2.OG, Böblinger Str. 8, 71065 Sindelfingen
END:VEVENT
BEGIN:VEVENT
DTSTAMP:20260423T003708
DTSTART;TZID=Europe/Berlin:20261215T080000
DTEND;TZID=Europe/Berlin:20261215T120000
UID:W46429002-20261215T080000@VHSBÖBLINGEN-SINDELFINGEN
SUMMARY:Deutsch A1, Integrationskurs GL 9 (W46429002) 
LOCATION:GHH, 206, 2.OG, Böblinger Str. 8, 71065 Sindelfingen
END:VEVENT
BEGIN:VEVENT
DTSTAMP:20260423T003708
DTSTART;TZID=Europe/Berlin:20261216T080000
DTEND;TZID=Europe/Berlin:20261216T120000
UID:W46429002-20261216T080000@VHSBÖBLINGEN-SINDELFINGEN
SUMMARY:Deutsch A1, Integrationskurs GL 9 (W46429002) 
LOCATION:GHH, 206, 2.OG, Böblinger Str. 8, 71065 Sindelfingen
END:VEVENT
BEGIN:VEVENT
DTSTAMP:20260423T003708
DTSTART;TZID=Europe/Berlin:20261217T080000
DTEND;TZID=Europe/Berlin:20261217T120000
UID:W46429002-20261217T080000@VHSBÖBLINGEN-SINDELFINGEN
SUMMARY:Deutsch A1, Integrationskurs GL 9 (W46429002) 
LOCATION:GHH, 206, 2.OG, Böblinger Str. 8, 71065 Sindelfingen
END:VEVENT
BEGIN:VEVENT
DTSTAMP:20260423T003708
DTSTART;TZID=Europe/Berlin:20261218T080000
DTEND;TZID=Europe/Berlin:20261218T120000
UID:W46429002-20261218T080000@VHSBÖBLINGEN-SINDELFINGEN
SUMMARY:Deutsch A1, Integrationskurs GL 9 (W46429002) 
LOCATION:GHH, 206, 2.OG, Böblinger Str. 8, 71065 Sindelfingen
END:VEVENT
BEGIN:VEVENT
DTSTAMP:20260423T003708
DTSTART;TZID=Europe/Berlin:20270111T080000
DTEND;TZID=Europe/Berlin:20270111T120000
UID:W46429002-20270111T080000@VHSBÖBLINGEN-SINDELFINGEN
SUMMARY:Deutsch A1, Integrationskurs GL 9 (W46429002) 
LOCATION:GHH, 206, 2.OG, Böblinger Str. 8, 71065 Sindelfingen
END:VEVENT
BEGIN:VEVENT
DTSTAMP:20260423T003708
DTSTART;TZID=Europe/Berlin:20270112T080000
DTEND;TZID=Europe/Berlin:20270112T120000
UID:W46429002-20270112T080000@VHSBÖBLINGEN-SINDELFINGEN
SUMMARY:Deutsch A1, Integrationskurs GL 9 (W46429002) 
LOCATION:GHH, 206, 2.OG, Böblinger Str. 8, 71065 Sindelfingen
END:VEVENT
BEGIN:VEVENT
DTSTAMP:20260423T003708
DTSTART;TZID=Europe/Berlin:20270113T080000
DTEND;TZID=Europe/Berlin:20270113T120000
UID:W46429002-20270113T080000@VHSBÖBLINGEN-SINDELFINGEN
SUMMARY:Deutsch A1, Integrationskurs GL 9 (W46429002) 
LOCATION:GHH, 206, 2.OG, Böblinger Str. 8, 71065 Sindelfingen
END:VEVENT
BEGIN:VEVENT
DTSTAMP:20260423T003708
DTSTART;TZID=Europe/Berlin:20270114T080000
DTEND;TZID=Europe/Berlin:20270114T120000
UID:W46429002-20270114T080000@VHSBÖBLINGEN-SINDELFINGEN
SUMMARY:Deutsch A1, Integrationskurs GL 9 (W46429002) 
LOCATION:GHH, 206, 2.OG, Böblinger Str. 8, 71065 Sindelfingen
END:VEVENT
BEGIN:VEVENT
DTSTAMP:20260423T003708
DTSTART;TZID=Europe/Berlin:20270115T080000
DTEND;TZID=Europe/Berlin:20270115T120000
UID:W46429002-20270115T080000@VHSBÖBLINGEN-SINDELFINGEN
SUMMARY:Deutsch A1, Integrationskurs GL 9 (W46429002) 
LOCATION:GHH, 206, 2.OG, Böblinger Str. 8, 71065 Sindelfingen
END:VEVENT
BEGIN:VEVENT
DTSTAMP:20260423T003708
DTSTART;TZID=Europe/Berlin:20270118T080000
DTEND;TZID=Europe/Berlin:20270118T120000
UID:W46429002-20270118T080000@VHSBÖBLINGEN-SINDELFINGEN
SUMMARY:Deutsch A1, Integrationskurs GL 9 (W46429002) 
LOCATION:GHH, 206, 2.OG, Böblinger Str. 8, 71065 Sindelfingen
END:VEVENT
BEGIN:VEVENT
DTSTAMP:20260423T003708
DTSTART;TZID=Europe/Berlin:20270119T080000
DTEND;TZID=Europe/Berlin:20270119T120000
UID:W46429002-20270119T080000@VHSBÖBLINGEN-SINDELFINGEN
SUMMARY:Deutsch A1, Integrationskurs GL 9 (W46429002) 
LOCATION:GHH, 206, 2.OG, Böblinger Str. 8, 71065 Sindelfingen
END:VEVENT
BEGIN:VEVENT
DTSTAMP:20260423T003708
DTSTART;TZID=Europe/Berlin:20270120T080000
DTEND;TZID=Europe/Berlin:20270120T120000
UID:W46429002-20270120T080000@VHSBÖBLINGEN-SINDELFINGEN
SUMMARY:Deutsch A1, Integrationskurs GL 9 (W46429002) 
LOCATION:GHH, 206, 2.OG, Böblinger Str. 8, 71065 Sindelfingen
END:VEVENT
BEGIN:VEVENT
DTSTAMP:20260423T003708
DTSTART;TZID=Europe/Berlin:20270121T080000
DTEND;TZID=Europe/Berlin:20270121T120000
UID:W46429002-20270121T080000@VHSBÖBLINGEN-SINDELFINGEN
SUMMARY:Deutsch A1, Integrationskurs GL 9 (W46429002) 
LOCATION:GHH, 206, 2.OG, Böblinger Str. 8, 71065 Sindelfingen
END:VEVENT
BEGIN:VEVENT
DTSTAMP:20260423T003708
DTSTART;TZID=Europe/Berlin:20270122T080000
DTEND;TZID=Europe/Berlin:20270122T120000
UID:W46429002-20270122T080000@VHSBÖBLINGEN-SINDELFINGEN
SUMMARY:Deutsch A1, Integrationskurs GL 9 (W46429002) 
LOCATION:GHH, 206, 2.OG, Böblinger Str. 8, 71065 Sindelfingen
END:VEVENT
BEGIN:VEVENT
DTSTAMP:20260423T003708
DTSTART;TZID=Europe/Berlin:20270125T080000
DTEND;TZID=Europe/Berlin:20270125T120000
UID:W46429002-20270125T080000@VHSBÖBLINGEN-SINDELFINGEN
SUMMARY:Deutsch A1, Integrationskurs GL 9 (W46429002) 
LOCATION:GHH, 206, 2.OG, Böblinger Str. 8, 71065 Sindelfingen
END:VEVENT
BEGIN:VEVENT
DTSTAMP:20260423T003708
DTSTART;TZID=Europe/Berlin:20270126T080000
DTEND;TZID=Europe/Berlin:20270126T120000
UID:W46429002-20270126T080000@VHSBÖBLINGEN-SINDELFINGEN
SUMMARY:Deutsch A1, Integrationskurs GL 9 (W46429002) 
LOCATION:GHH, 206, 2.OG, Böblinger Str. 8, 71065 Sindelfingen
END:VEVENT
BEGIN:VEVENT
DTSTAMP:20260423T003708
DTSTART;TZID=Europe/Berlin:20270127T080000
DTEND;TZID=Europe/Berlin:20270127T120000
UID:W46429002-20270127T080000@VHSBÖBLINGEN-SINDELFINGEN
SUMMARY:Deutsch A1, Integrationskurs GL 9 (W46429002) 
LOCATION:GHH, 206, 2.OG, Böblinger Str. 8, 71065 Sindelfingen
END:VEVENT
BEGIN:VEVENT
DTSTAMP:20260423T003708
DTSTART;TZID=Europe/Berlin:20270128T080000
DTEND;TZID=Europe/Berlin:20270128T120000
UID:W46429002-20270128T080000@VHSBÖBLINGEN-SINDELFINGEN
SUMMARY:Deutsch A1, Integrationskurs GL 9 (W46429002) 
LOCATION:GHH, 206, 2.OG, Böblinger Str. 8, 71065 Sindelfingen
END:VEVENT
BEGIN:VEVENT
DTSTAMP:20260423T003708
DTSTART;TZID=Europe/Berlin:20270129T080000
DTEND;TZID=Europe/Berlin:20270129T120000
UID:W46429002-20270129T080000@VHSBÖBLINGEN-SINDELFINGEN
SUMMARY:Deutsch A1, Integrationskurs GL 9 (W46429002) 
LOCATION:GHH, 206, 2.OG, Böblinger Str. 8, 71065 Sindelfingen
END:VEVENT
END:VCALENDAR