BEGIN:VCALENDAR
VERSION:2.0
PRODID:https://www.kufer.de/kuferweb / DE
METHOD:PUBLISH
CALSCALE:GREGORIAN
X-WR-TIMEZONE:Europe/Berlin
BEGIN:VTIMEZONE
TZID:Europe/Berlin
X-LIC-LOCATION:Europe/Berlin
BEGIN:DAYLIGHT
TZOFFSETFROM:+0100
TZOFFSETTO:+0200
TZNAME:CEST
DTSTART:19700329T020000
RRULE:FREQ=YEARLY;INTERVAL=1;BYDAY=-1SU;BYMONTH=3
END:DAYLIGHT
BEGIN:STANDARD
TZOFFSETFROM:+0200
TZOFFSETTO:+0100
TZNAME:CET
DTSTART:19701025T030000
RRULE:FREQ=YEARLY;INTERVAL=1;BYDAY=-1SU;BYMONTH=10
END:STANDARD
END:VTIMEZONE
BEGIN:VEVENT
DTSTAMP:20260423T003835
DTSTART;TZID=Europe/Berlin:20270121T080000
DTEND;TZID=Europe/Berlin:20270121T120000
UID:W46428001-20270121T080000@VHSBÖBLINGEN-SINDELFINGEN
SUMMARY:Deutsch A1, Integrationskurs GL 8 (W46428001) 
LOCATION:Höfle, 103, 1. OG, Pestalozzistr. 4, 71032 Böblingen
END:VEVENT
BEGIN:VEVENT
DTSTAMP:20260423T003835
DTSTART;TZID=Europe/Berlin:20270122T080000
DTEND;TZID=Europe/Berlin:20270122T120000
UID:W46428001-20270122T080000@VHSBÖBLINGEN-SINDELFINGEN
SUMMARY:Deutsch A1, Integrationskurs GL 8 (W46428001) 
LOCATION:Höfle, 103, 1. OG, Pestalozzistr. 4, 71032 Böblingen
END:VEVENT
BEGIN:VEVENT
DTSTAMP:20260423T003835
DTSTART;TZID=Europe/Berlin:20270125T080000
DTEND;TZID=Europe/Berlin:20270125T120000
UID:W46428001-20270125T080000@VHSBÖBLINGEN-SINDELFINGEN
SUMMARY:Deutsch A1, Integrationskurs GL 8 (W46428001) 
LOCATION:Höfle, 103, 1. OG, Pestalozzistr. 4, 71032 Böblingen
END:VEVENT
BEGIN:VEVENT
DTSTAMP:20260423T003835
DTSTART;TZID=Europe/Berlin:20270126T080000
DTEND;TZID=Europe/Berlin:20270126T120000
UID:W46428001-20270126T080000@VHSBÖBLINGEN-SINDELFINGEN
SUMMARY:Deutsch A1, Integrationskurs GL 8 (W46428001) 
LOCATION:Höfle, 103, 1. OG, Pestalozzistr. 4, 71032 Böblingen
END:VEVENT
BEGIN:VEVENT
DTSTAMP:20260423T003835
DTSTART;TZID=Europe/Berlin:20270128T080000
DTEND;TZID=Europe/Berlin:20270128T120000
UID:W46428001-20270128T080000@VHSBÖBLINGEN-SINDELFINGEN
SUMMARY:Deutsch A1, Integrationskurs GL 8 (W46428001) 
LOCATION:Höfle, 103, 1. OG, Pestalozzistr. 4, 71032 Böblingen
END:VEVENT
BEGIN:VEVENT
DTSTAMP:20260423T003835
DTSTART;TZID=Europe/Berlin:20270129T080000
DTEND;TZID=Europe/Berlin:20270129T120000
UID:W46428001-20270129T080000@VHSBÖBLINGEN-SINDELFINGEN
SUMMARY:Deutsch A1, Integrationskurs GL 8 (W46428001) 
LOCATION:Höfle, 103, 1. OG, Pestalozzistr. 4, 71032 Böblingen
END:VEVENT
BEGIN:VEVENT
DTSTAMP:20260423T003835
DTSTART;TZID=Europe/Berlin:20270201T080000
DTEND;TZID=Europe/Berlin:20270201T120000
UID:W46428001-20270201T080000@VHSBÖBLINGEN-SINDELFINGEN
SUMMARY:Deutsch A1, Integrationskurs GL 8 (W46428001) 
LOCATION:Höfle, 103, 1. OG, Pestalozzistr. 4, 71032 Böblingen
END:VEVENT
BEGIN:VEVENT
DTSTAMP:20260423T003835
DTSTART;TZID=Europe/Berlin:20270202T080000
DTEND;TZID=Europe/Berlin:20270202T120000
UID:W46428001-20270202T080000@VHSBÖBLINGEN-SINDELFINGEN
SUMMARY:Deutsch A1, Integrationskurs GL 8 (W46428001) 
LOCATION:Höfle, 103, 1. OG, Pestalozzistr. 4, 71032 Böblingen
END:VEVENT
BEGIN:VEVENT
DTSTAMP:20260423T003835
DTSTART;TZID=Europe/Berlin:20270204T080000
DTEND;TZID=Europe/Berlin:20270204T120000
UID:W46428001-20270204T080000@VHSBÖBLINGEN-SINDELFINGEN
SUMMARY:Deutsch A1, Integrationskurs GL 8 (W46428001) 
LOCATION:Höfle, 103, 1. OG, Pestalozzistr. 4, 71032 Böblingen
END:VEVENT
BEGIN:VEVENT
DTSTAMP:20260423T003835
DTSTART;TZID=Europe/Berlin:20270205T080000
DTEND;TZID=Europe/Berlin:20270205T120000
UID:W46428001-20270205T080000@VHSBÖBLINGEN-SINDELFINGEN
SUMMARY:Deutsch A1, Integrationskurs GL 8 (W46428001) 
LOCATION:Höfle, 103, 1. OG, Pestalozzistr. 4, 71032 Böblingen
END:VEVENT
BEGIN:VEVENT
DTSTAMP:20260423T003835
DTSTART;TZID=Europe/Berlin:20270215T080000
DTEND;TZID=Europe/Berlin:20270215T120000
UID:W46428001-20270215T080000@VHSBÖBLINGEN-SINDELFINGEN
SUMMARY:Deutsch A1, Integrationskurs GL 8 (W46428001) 
LOCATION:Höfle, 103, 1. OG, Pestalozzistr. 4, 71032 Böblingen
END:VEVENT
BEGIN:VEVENT
DTSTAMP:20260423T003835
DTSTART;TZID=Europe/Berlin:20270216T080000
DTEND;TZID=Europe/Berlin:20270216T120000
UID:W46428001-20270216T080000@VHSBÖBLINGEN-SINDELFINGEN
SUMMARY:Deutsch A1, Integrationskurs GL 8 (W46428001) 
LOCATION:Höfle, 103, 1. OG, Pestalozzistr. 4, 71032 Böblingen
END:VEVENT
BEGIN:VEVENT
DTSTAMP:20260423T003835
DTSTART;TZID=Europe/Berlin:20270218T080000
DTEND;TZID=Europe/Berlin:20270218T120000
UID:W46428001-20270218T080000@VHSBÖBLINGEN-SINDELFINGEN
SUMMARY:Deutsch A1, Integrationskurs GL 8 (W46428001) 
LOCATION:Höfle, 103, 1. OG, Pestalozzistr. 4, 71032 Böblingen
END:VEVENT
BEGIN:VEVENT
DTSTAMP:20260423T003835
DTSTART;TZID=Europe/Berlin:20270219T080000
DTEND;TZID=Europe/Berlin:20270219T120000
UID:W46428001-20270219T080000@VHSBÖBLINGEN-SINDELFINGEN
SUMMARY:Deutsch A1, Integrationskurs GL 8 (W46428001) 
LOCATION:Höfle, 103, 1. OG, Pestalozzistr. 4, 71032 Böblingen
END:VEVENT
BEGIN:VEVENT
DTSTAMP:20260423T003835
DTSTART;TZID=Europe/Berlin:20270222T080000
DTEND;TZID=Europe/Berlin:20270222T120000
UID:W46428001-20270222T080000@VHSBÖBLINGEN-SINDELFINGEN
SUMMARY:Deutsch A1, Integrationskurs GL 8 (W46428001) 
LOCATION:Höfle, 103, 1. OG, Pestalozzistr. 4, 71032 Böblingen
END:VEVENT
BEGIN:VEVENT
DTSTAMP:20260423T003835
DTSTART;TZID=Europe/Berlin:20270223T080000
DTEND;TZID=Europe/Berlin:20270223T120000
UID:W46428001-20270223T080000@VHSBÖBLINGEN-SINDELFINGEN
SUMMARY:Deutsch A1, Integrationskurs GL 8 (W46428001) 
LOCATION:Höfle, 103, 1. OG, Pestalozzistr. 4, 71032 Böblingen
END:VEVENT
BEGIN:VEVENT
DTSTAMP:20260423T003835
DTSTART;TZID=Europe/Berlin:20270225T080000
DTEND;TZID=Europe/Berlin:20270225T120000
UID:W46428001-20270225T080000@VHSBÖBLINGEN-SINDELFINGEN
SUMMARY:Deutsch A1, Integrationskurs GL 8 (W46428001) 
LOCATION:Höfle, 103, 1. OG, Pestalozzistr. 4, 71032 Böblingen
END:VEVENT
BEGIN:VEVENT
DTSTAMP:20260423T003835
DTSTART;TZID=Europe/Berlin:20270226T080000
DTEND;TZID=Europe/Berlin:20270226T120000
UID:W46428001-20270226T080000@VHSBÖBLINGEN-SINDELFINGEN
SUMMARY:Deutsch A1, Integrationskurs GL 8 (W46428001) 
LOCATION:Höfle, 103, 1. OG, Pestalozzistr. 4, 71032 Böblingen
END:VEVENT
BEGIN:VEVENT
DTSTAMP:20260423T003835
DTSTART;TZID=Europe/Berlin:20270301T080000
DTEND;TZID=Europe/Berlin:20270301T120000
UID:W46428001-20270301T080000@VHSBÖBLINGEN-SINDELFINGEN
SUMMARY:Deutsch A1, Integrationskurs GL 8 (W46428001) 
LOCATION:Höfle, 103, 1. OG, Pestalozzistr. 4, 71032 Böblingen
END:VEVENT
BEGIN:VEVENT
DTSTAMP:20260423T003835
DTSTART;TZID=Europe/Berlin:20270302T080000
DTEND;TZID=Europe/Berlin:20270302T120000
UID:W46428001-20270302T080000@VHSBÖBLINGEN-SINDELFINGEN
SUMMARY:Deutsch A1, Integrationskurs GL 8 (W46428001) 
LOCATION:Höfle, 103, 1. OG, Pestalozzistr. 4, 71032 Böblingen
END:VEVENT
END:VCALENDAR