BEGIN:VCALENDAR
VERSION:2.0
PRODID:https://www.kufer.de/kuferweb / DE
METHOD:PUBLISH
CALSCALE:GREGORIAN
X-WR-TIMEZONE:Europe/Berlin
BEGIN:VTIMEZONE
TZID:Europe/Berlin
X-LIC-LOCATION:Europe/Berlin
BEGIN:DAYLIGHT
TZOFFSETFROM:+0100
TZOFFSETTO:+0200
TZNAME:CEST
DTSTART:19700329T020000
RRULE:FREQ=YEARLY;INTERVAL=1;BYDAY=-1SU;BYMONTH=3
END:DAYLIGHT
BEGIN:STANDARD
TZOFFSETFROM:+0200
TZOFFSETTO:+0100
TZNAME:CET
DTSTART:19701025T030000
RRULE:FREQ=YEARLY;INTERVAL=1;BYDAY=-1SU;BYMONTH=10
END:STANDARD
END:VTIMEZONE
BEGIN:VEVENT
DTSTAMP:20260423T021820
DTSTART;TZID=Europe/Berlin:20261214T083000
DTEND;TZID=Europe/Berlin:20261214T123000
UID:W46426001-20261214T083000@VHSBÖBLINGEN-SINDELFINGEN
SUMMARY:Deutsch A1, Integrationskurs GL 6 (W46426001) 
LOCATION:vhs.Studio, Pestalozzistr. 4, 71032 Böblingen
END:VEVENT
BEGIN:VEVENT
DTSTAMP:20260423T021820
DTSTART;TZID=Europe/Berlin:20261215T083000
DTEND;TZID=Europe/Berlin:20261215T123000
UID:W46426001-20261215T083000@VHSBÖBLINGEN-SINDELFINGEN
SUMMARY:Deutsch A1, Integrationskurs GL 6 (W46426001) 
LOCATION:vhs.Studio, Pestalozzistr. 4, 71032 Böblingen
END:VEVENT
BEGIN:VEVENT
DTSTAMP:20260423T021820
DTSTART;TZID=Europe/Berlin:20261216T083000
DTEND;TZID=Europe/Berlin:20261216T123000
UID:W46426001-20261216T083000@VHSBÖBLINGEN-SINDELFINGEN
SUMMARY:Deutsch A1, Integrationskurs GL 6 (W46426001) 
LOCATION:vhs.Studio, Pestalozzistr. 4, 71032 Böblingen
END:VEVENT
BEGIN:VEVENT
DTSTAMP:20260423T021820
DTSTART;TZID=Europe/Berlin:20261217T083000
DTEND;TZID=Europe/Berlin:20261217T123000
UID:W46426001-20261217T083000@VHSBÖBLINGEN-SINDELFINGEN
SUMMARY:Deutsch A1, Integrationskurs GL 6 (W46426001) 
LOCATION:vhs.Studio, Pestalozzistr. 4, 71032 Böblingen
END:VEVENT
BEGIN:VEVENT
DTSTAMP:20260423T021820
DTSTART;TZID=Europe/Berlin:20261218T083000
DTEND;TZID=Europe/Berlin:20261218T123000
UID:W46426001-20261218T083000@VHSBÖBLINGEN-SINDELFINGEN
SUMMARY:Deutsch A1, Integrationskurs GL 6 (W46426001) 
LOCATION:vhs.Studio, Pestalozzistr. 4, 71032 Böblingen
END:VEVENT
BEGIN:VEVENT
DTSTAMP:20260423T021820
DTSTART;TZID=Europe/Berlin:20270111T083000
DTEND;TZID=Europe/Berlin:20270111T123000
UID:W46426001-20270111T083000@VHSBÖBLINGEN-SINDELFINGEN
SUMMARY:Deutsch A1, Integrationskurs GL 6 (W46426001) 
LOCATION:vhs.Studio, Pestalozzistr. 4, 71032 Böblingen
END:VEVENT
BEGIN:VEVENT
DTSTAMP:20260423T021820
DTSTART;TZID=Europe/Berlin:20270112T083000
DTEND;TZID=Europe/Berlin:20270112T123000
UID:W46426001-20270112T083000@VHSBÖBLINGEN-SINDELFINGEN
SUMMARY:Deutsch A1, Integrationskurs GL 6 (W46426001) 
LOCATION:vhs.Studio, Pestalozzistr. 4, 71032 Böblingen
END:VEVENT
BEGIN:VEVENT
DTSTAMP:20260423T021820
DTSTART;TZID=Europe/Berlin:20270113T083000
DTEND;TZID=Europe/Berlin:20270113T123000
UID:W46426001-20270113T083000@VHSBÖBLINGEN-SINDELFINGEN
SUMMARY:Deutsch A1, Integrationskurs GL 6 (W46426001) 
LOCATION:vhs.Studio, Pestalozzistr. 4, 71032 Böblingen
END:VEVENT
BEGIN:VEVENT
DTSTAMP:20260423T021820
DTSTART;TZID=Europe/Berlin:20270114T083000
DTEND;TZID=Europe/Berlin:20270114T123000
UID:W46426001-20270114T083000@VHSBÖBLINGEN-SINDELFINGEN
SUMMARY:Deutsch A1, Integrationskurs GL 6 (W46426001) 
LOCATION:vhs.Studio, Pestalozzistr. 4, 71032 Böblingen
END:VEVENT
BEGIN:VEVENT
DTSTAMP:20260423T021820
DTSTART;TZID=Europe/Berlin:20270115T083000
DTEND;TZID=Europe/Berlin:20270115T123000
UID:W46426001-20270115T083000@VHSBÖBLINGEN-SINDELFINGEN
SUMMARY:Deutsch A1, Integrationskurs GL 6 (W46426001) 
LOCATION:vhs.Studio, Pestalozzistr. 4, 71032 Böblingen
END:VEVENT
BEGIN:VEVENT
DTSTAMP:20260423T021820
DTSTART;TZID=Europe/Berlin:20270118T083000
DTEND;TZID=Europe/Berlin:20270118T123000
UID:W46426001-20270118T083000@VHSBÖBLINGEN-SINDELFINGEN
SUMMARY:Deutsch A1, Integrationskurs GL 6 (W46426001) 
LOCATION:vhs.Studio, Pestalozzistr. 4, 71032 Böblingen
END:VEVENT
BEGIN:VEVENT
DTSTAMP:20260423T021820
DTSTART;TZID=Europe/Berlin:20270119T083000
DTEND;TZID=Europe/Berlin:20270119T123000
UID:W46426001-20270119T083000@VHSBÖBLINGEN-SINDELFINGEN
SUMMARY:Deutsch A1, Integrationskurs GL 6 (W46426001) 
LOCATION:vhs.Studio, Pestalozzistr. 4, 71032 Böblingen
END:VEVENT
BEGIN:VEVENT
DTSTAMP:20260423T021820
DTSTART;TZID=Europe/Berlin:20270120T083000
DTEND;TZID=Europe/Berlin:20270120T123000
UID:W46426001-20270120T083000@VHSBÖBLINGEN-SINDELFINGEN
SUMMARY:Deutsch A1, Integrationskurs GL 6 (W46426001) 
LOCATION:vhs.Studio, Pestalozzistr. 4, 71032 Böblingen
END:VEVENT
BEGIN:VEVENT
DTSTAMP:20260423T021820
DTSTART;TZID=Europe/Berlin:20270121T083000
DTEND;TZID=Europe/Berlin:20270121T123000
UID:W46426001-20270121T083000@VHSBÖBLINGEN-SINDELFINGEN
SUMMARY:Deutsch A1, Integrationskurs GL 6 (W46426001) 
LOCATION:vhs.Studio, Pestalozzistr. 4, 71032 Böblingen
END:VEVENT
BEGIN:VEVENT
DTSTAMP:20260423T021820
DTSTART;TZID=Europe/Berlin:20270122T083000
DTEND;TZID=Europe/Berlin:20270122T123000
UID:W46426001-20270122T083000@VHSBÖBLINGEN-SINDELFINGEN
SUMMARY:Deutsch A1, Integrationskurs GL 6 (W46426001) 
LOCATION:vhs.Studio, Pestalozzistr. 4, 71032 Böblingen
END:VEVENT
BEGIN:VEVENT
DTSTAMP:20260423T021820
DTSTART;TZID=Europe/Berlin:20270125T083000
DTEND;TZID=Europe/Berlin:20270125T123000
UID:W46426001-20270125T083000@VHSBÖBLINGEN-SINDELFINGEN
SUMMARY:Deutsch A1, Integrationskurs GL 6 (W46426001) 
LOCATION:vhs.Studio, Pestalozzistr. 4, 71032 Böblingen
END:VEVENT
BEGIN:VEVENT
DTSTAMP:20260423T021820
DTSTART;TZID=Europe/Berlin:20270126T083000
DTEND;TZID=Europe/Berlin:20270126T123000
UID:W46426001-20270126T083000@VHSBÖBLINGEN-SINDELFINGEN
SUMMARY:Deutsch A1, Integrationskurs GL 6 (W46426001) 
LOCATION:vhs.Studio, Pestalozzistr. 4, 71032 Böblingen
END:VEVENT
BEGIN:VEVENT
DTSTAMP:20260423T021820
DTSTART;TZID=Europe/Berlin:20270127T083000
DTEND;TZID=Europe/Berlin:20270127T123000
UID:W46426001-20270127T083000@VHSBÖBLINGEN-SINDELFINGEN
SUMMARY:Deutsch A1, Integrationskurs GL 6 (W46426001) 
LOCATION:vhs.Studio, Pestalozzistr. 4, 71032 Böblingen
END:VEVENT
BEGIN:VEVENT
DTSTAMP:20260423T021820
DTSTART;TZID=Europe/Berlin:20270128T083000
DTEND;TZID=Europe/Berlin:20270128T123000
UID:W46426001-20270128T083000@VHSBÖBLINGEN-SINDELFINGEN
SUMMARY:Deutsch A1, Integrationskurs GL 6 (W46426001) 
LOCATION:vhs.Studio, Pestalozzistr. 4, 71032 Böblingen
END:VEVENT
BEGIN:VEVENT
DTSTAMP:20260423T021820
DTSTART;TZID=Europe/Berlin:20270129T083000
DTEND;TZID=Europe/Berlin:20270129T123000
UID:W46426001-20270129T083000@VHSBÖBLINGEN-SINDELFINGEN
SUMMARY:Deutsch A1, Integrationskurs GL 6 (W46426001) 
LOCATION:vhs.Studio, Pestalozzistr. 4, 71032 Böblingen
END:VEVENT
END:VCALENDAR