BEGIN:VCALENDAR
VERSION:2.0
PRODID:https://www.kufer.de/kuferweb / DE
METHOD:PUBLISH
CALSCALE:GREGORIAN
X-WR-TIMEZONE:Europe/Berlin
BEGIN:VTIMEZONE
TZID:Europe/Berlin
X-LIC-LOCATION:Europe/Berlin
BEGIN:DAYLIGHT
TZOFFSETFROM:+0100
TZOFFSETTO:+0200
TZNAME:CEST
DTSTART:19700329T020000
RRULE:FREQ=YEARLY;INTERVAL=1;BYDAY=-1SU;BYMONTH=3
END:DAYLIGHT
BEGIN:STANDARD
TZOFFSETFROM:+0200
TZOFFSETTO:+0100
TZNAME:CET
DTSTART:19701025T030000
RRULE:FREQ=YEARLY;INTERVAL=1;BYDAY=-1SU;BYMONTH=10
END:STANDARD
END:VTIMEZONE
BEGIN:VEVENT
DTSTAMP:20260423T003740
DTSTART;TZID=Europe/Berlin:20261116T123000
DTEND;TZID=Europe/Berlin:20261116T163000
UID:W46328004-20261116T123000@VHSBÖBLINGEN-SINDELFINGEN
SUMMARY:Deutsch A1, Integrationskurs GL 8 (W46328004) 
LOCATION:Höfle, 001, EG, Pestalozzistr. 4, 71032 Böblingen
END:VEVENT
BEGIN:VEVENT
DTSTAMP:20260423T003740
DTSTART;TZID=Europe/Berlin:20261117T123000
DTEND;TZID=Europe/Berlin:20261117T163000
UID:W46328004-20261117T123000@VHSBÖBLINGEN-SINDELFINGEN
SUMMARY:Deutsch A1, Integrationskurs GL 8 (W46328004) 
LOCATION:Höfle, 001, EG, Pestalozzistr. 4, 71032 Böblingen
END:VEVENT
BEGIN:VEVENT
DTSTAMP:20260423T003740
DTSTART;TZID=Europe/Berlin:20261118T123000
DTEND;TZID=Europe/Berlin:20261118T163000
UID:W46328004-20261118T123000@VHSBÖBLINGEN-SINDELFINGEN
SUMMARY:Deutsch A1, Integrationskurs GL 8 (W46328004) 
LOCATION:Höfle, 001, EG, Pestalozzistr. 4, 71032 Böblingen
END:VEVENT
BEGIN:VEVENT
DTSTAMP:20260423T003740
DTSTART;TZID=Europe/Berlin:20261119T123000
DTEND;TZID=Europe/Berlin:20261119T163000
UID:W46328004-20261119T123000@VHSBÖBLINGEN-SINDELFINGEN
SUMMARY:Deutsch A1, Integrationskurs GL 8 (W46328004) 
LOCATION:Höfle, 001, EG, Pestalozzistr. 4, 71032 Böblingen
END:VEVENT
BEGIN:VEVENT
DTSTAMP:20260423T003740
DTSTART;TZID=Europe/Berlin:20261120T123000
DTEND;TZID=Europe/Berlin:20261120T163000
UID:W46328004-20261120T123000@VHSBÖBLINGEN-SINDELFINGEN
SUMMARY:Deutsch A1, Integrationskurs GL 8 (W46328004) 
LOCATION:Höfle, 001, EG, Pestalozzistr. 4, 71032 Böblingen
END:VEVENT
BEGIN:VEVENT
DTSTAMP:20260423T003740
DTSTART;TZID=Europe/Berlin:20261123T123000
DTEND;TZID=Europe/Berlin:20261123T163000
UID:W46328004-20261123T123000@VHSBÖBLINGEN-SINDELFINGEN
SUMMARY:Deutsch A1, Integrationskurs GL 8 (W46328004) 
LOCATION:Höfle, 001, EG, Pestalozzistr. 4, 71032 Böblingen
END:VEVENT
BEGIN:VEVENT
DTSTAMP:20260423T003740
DTSTART;TZID=Europe/Berlin:20261124T123000
DTEND;TZID=Europe/Berlin:20261124T163000
UID:W46328004-20261124T123000@VHSBÖBLINGEN-SINDELFINGEN
SUMMARY:Deutsch A1, Integrationskurs GL 8 (W46328004) 
LOCATION:Höfle, 001, EG, Pestalozzistr. 4, 71032 Böblingen
END:VEVENT
BEGIN:VEVENT
DTSTAMP:20260423T003740
DTSTART;TZID=Europe/Berlin:20261125T123000
DTEND;TZID=Europe/Berlin:20261125T163000
UID:W46328004-20261125T123000@VHSBÖBLINGEN-SINDELFINGEN
SUMMARY:Deutsch A1, Integrationskurs GL 8 (W46328004) 
LOCATION:Höfle, 001, EG, Pestalozzistr. 4, 71032 Böblingen
END:VEVENT
BEGIN:VEVENT
DTSTAMP:20260423T003740
DTSTART;TZID=Europe/Berlin:20261126T123000
DTEND;TZID=Europe/Berlin:20261126T163000
UID:W46328004-20261126T123000@VHSBÖBLINGEN-SINDELFINGEN
SUMMARY:Deutsch A1, Integrationskurs GL 8 (W46328004) 
LOCATION:Höfle, 001, EG, Pestalozzistr. 4, 71032 Böblingen
END:VEVENT
BEGIN:VEVENT
DTSTAMP:20260423T003740
DTSTART;TZID=Europe/Berlin:20261127T123000
DTEND;TZID=Europe/Berlin:20261127T163000
UID:W46328004-20261127T123000@VHSBÖBLINGEN-SINDELFINGEN
SUMMARY:Deutsch A1, Integrationskurs GL 8 (W46328004) 
LOCATION:Höfle, 001, EG, Pestalozzistr. 4, 71032 Böblingen
END:VEVENT
BEGIN:VEVENT
DTSTAMP:20260423T003740
DTSTART;TZID=Europe/Berlin:20261130T123000
DTEND;TZID=Europe/Berlin:20261130T163000
UID:W46328004-20261130T123000@VHSBÖBLINGEN-SINDELFINGEN
SUMMARY:Deutsch A1, Integrationskurs GL 8 (W46328004) 
LOCATION:Höfle, 001, EG, Pestalozzistr. 4, 71032 Böblingen
END:VEVENT
BEGIN:VEVENT
DTSTAMP:20260423T003740
DTSTART;TZID=Europe/Berlin:20261201T123000
DTEND;TZID=Europe/Berlin:20261201T163000
UID:W46328004-20261201T123000@VHSBÖBLINGEN-SINDELFINGEN
SUMMARY:Deutsch A1, Integrationskurs GL 8 (W46328004) 
LOCATION:Höfle, 001, EG, Pestalozzistr. 4, 71032 Böblingen
END:VEVENT
BEGIN:VEVENT
DTSTAMP:20260423T003740
DTSTART;TZID=Europe/Berlin:20261202T123000
DTEND;TZID=Europe/Berlin:20261202T163000
UID:W46328004-20261202T123000@VHSBÖBLINGEN-SINDELFINGEN
SUMMARY:Deutsch A1, Integrationskurs GL 8 (W46328004) 
LOCATION:Höfle, 001, EG, Pestalozzistr. 4, 71032 Böblingen
END:VEVENT
BEGIN:VEVENT
DTSTAMP:20260423T003740
DTSTART;TZID=Europe/Berlin:20261203T123000
DTEND;TZID=Europe/Berlin:20261203T163000
UID:W46328004-20261203T123000@VHSBÖBLINGEN-SINDELFINGEN
SUMMARY:Deutsch A1, Integrationskurs GL 8 (W46328004) 
LOCATION:Höfle, 001, EG, Pestalozzistr. 4, 71032 Böblingen
END:VEVENT
BEGIN:VEVENT
DTSTAMP:20260423T003740
DTSTART;TZID=Europe/Berlin:20261204T123000
DTEND;TZID=Europe/Berlin:20261204T163000
UID:W46328004-20261204T123000@VHSBÖBLINGEN-SINDELFINGEN
SUMMARY:Deutsch A1, Integrationskurs GL 8 (W46328004) 
LOCATION:Höfle, 001, EG, Pestalozzistr. 4, 71032 Böblingen
END:VEVENT
BEGIN:VEVENT
DTSTAMP:20260423T003740
DTSTART;TZID=Europe/Berlin:20261207T123000
DTEND;TZID=Europe/Berlin:20261207T163000
UID:W46328004-20261207T123000@VHSBÖBLINGEN-SINDELFINGEN
SUMMARY:Deutsch A1, Integrationskurs GL 8 (W46328004) 
LOCATION:Höfle, 001, EG, Pestalozzistr. 4, 71032 Böblingen
END:VEVENT
BEGIN:VEVENT
DTSTAMP:20260423T003740
DTSTART;TZID=Europe/Berlin:20261208T123000
DTEND;TZID=Europe/Berlin:20261208T163000
UID:W46328004-20261208T123000@VHSBÖBLINGEN-SINDELFINGEN
SUMMARY:Deutsch A1, Integrationskurs GL 8 (W46328004) 
LOCATION:Höfle, 001, EG, Pestalozzistr. 4, 71032 Böblingen
END:VEVENT
BEGIN:VEVENT
DTSTAMP:20260423T003740
DTSTART;TZID=Europe/Berlin:20261209T123000
DTEND;TZID=Europe/Berlin:20261209T163000
UID:W46328004-20261209T123000@VHSBÖBLINGEN-SINDELFINGEN
SUMMARY:Deutsch A1, Integrationskurs GL 8 (W46328004) 
LOCATION:Höfle, 001, EG, Pestalozzistr. 4, 71032 Böblingen
END:VEVENT
BEGIN:VEVENT
DTSTAMP:20260423T003740
DTSTART;TZID=Europe/Berlin:20261210T123000
DTEND;TZID=Europe/Berlin:20261210T163000
UID:W46328004-20261210T123000@VHSBÖBLINGEN-SINDELFINGEN
SUMMARY:Deutsch A1, Integrationskurs GL 8 (W46328004) 
LOCATION:Höfle, 001, EG, Pestalozzistr. 4, 71032 Böblingen
END:VEVENT
BEGIN:VEVENT
DTSTAMP:20260423T003740
DTSTART;TZID=Europe/Berlin:20261211T123000
DTEND;TZID=Europe/Berlin:20261211T163000
UID:W46328004-20261211T123000@VHSBÖBLINGEN-SINDELFINGEN
SUMMARY:Deutsch A1, Integrationskurs GL 8 (W46328004) 
LOCATION:Höfle, 001, EG, Pestalozzistr. 4, 71032 Böblingen
END:VEVENT
END:VCALENDAR