BEGIN:VCALENDAR
VERSION:2.0
PRODID:https://www.kufer.de/kuferweb / DE
METHOD:PUBLISH
CALSCALE:GREGORIAN
X-WR-TIMEZONE:Europe/Berlin
BEGIN:VTIMEZONE
TZID:Europe/Berlin
X-LIC-LOCATION:Europe/Berlin
BEGIN:DAYLIGHT
TZOFFSETFROM:+0100
TZOFFSETTO:+0200
TZNAME:CEST
DTSTART:19700329T020000
RRULE:FREQ=YEARLY;INTERVAL=1;BYDAY=-1SU;BYMONTH=3
END:DAYLIGHT
BEGIN:STANDARD
TZOFFSETFROM:+0200
TZOFFSETTO:+0100
TZNAME:CET
DTSTART:19701025T030000
RRULE:FREQ=YEARLY;INTERVAL=1;BYDAY=-1SU;BYMONTH=10
END:STANDARD
END:VTIMEZONE
BEGIN:VEVENT
DTSTAMP:20260423T065857
DTSTART;TZID=Europe/Berlin:20261130T080000
DTEND;TZID=Europe/Berlin:20261130T120000
UID:W46327001-20261130T080000@VHSBÖBLINGEN-SINDELFINGEN
SUMMARY:Deutsch A1, Integrationskurs GL 7 (W46327001) 
LOCATION:Höfle, 103, 1. OG, Pestalozzistr. 4, 71032 Böblingen
END:VEVENT
BEGIN:VEVENT
DTSTAMP:20260423T065857
DTSTART;TZID=Europe/Berlin:20261201T080000
DTEND;TZID=Europe/Berlin:20261201T120000
UID:W46327001-20261201T080000@VHSBÖBLINGEN-SINDELFINGEN
SUMMARY:Deutsch A1, Integrationskurs GL 7 (W46327001) 
LOCATION:Höfle, 103, 1. OG, Pestalozzistr. 4, 71032 Böblingen
END:VEVENT
BEGIN:VEVENT
DTSTAMP:20260423T065857
DTSTART;TZID=Europe/Berlin:20261203T080000
DTEND;TZID=Europe/Berlin:20261203T120000
UID:W46327001-20261203T080000@VHSBÖBLINGEN-SINDELFINGEN
SUMMARY:Deutsch A1, Integrationskurs GL 7 (W46327001) 
LOCATION:Höfle, 103, 1. OG, Pestalozzistr. 4, 71032 Böblingen
END:VEVENT
BEGIN:VEVENT
DTSTAMP:20260423T065857
DTSTART;TZID=Europe/Berlin:20261204T080000
DTEND;TZID=Europe/Berlin:20261204T120000
UID:W46327001-20261204T080000@VHSBÖBLINGEN-SINDELFINGEN
SUMMARY:Deutsch A1, Integrationskurs GL 7 (W46327001) 
LOCATION:Höfle, 103, 1. OG, Pestalozzistr. 4, 71032 Böblingen
END:VEVENT
BEGIN:VEVENT
DTSTAMP:20260423T065857
DTSTART;TZID=Europe/Berlin:20261207T080000
DTEND;TZID=Europe/Berlin:20261207T120000
UID:W46327001-20261207T080000@VHSBÖBLINGEN-SINDELFINGEN
SUMMARY:Deutsch A1, Integrationskurs GL 7 (W46327001) 
LOCATION:Höfle, 103, 1. OG, Pestalozzistr. 4, 71032 Böblingen
END:VEVENT
BEGIN:VEVENT
DTSTAMP:20260423T065857
DTSTART;TZID=Europe/Berlin:20261208T080000
DTEND;TZID=Europe/Berlin:20261208T120000
UID:W46327001-20261208T080000@VHSBÖBLINGEN-SINDELFINGEN
SUMMARY:Deutsch A1, Integrationskurs GL 7 (W46327001) 
LOCATION:Höfle, 103, 1. OG, Pestalozzistr. 4, 71032 Böblingen
END:VEVENT
BEGIN:VEVENT
DTSTAMP:20260423T065857
DTSTART;TZID=Europe/Berlin:20261210T080000
DTEND;TZID=Europe/Berlin:20261210T120000
UID:W46327001-20261210T080000@VHSBÖBLINGEN-SINDELFINGEN
SUMMARY:Deutsch A1, Integrationskurs GL 7 (W46327001) 
LOCATION:Höfle, 103, 1. OG, Pestalozzistr. 4, 71032 Böblingen
END:VEVENT
BEGIN:VEVENT
DTSTAMP:20260423T065857
DTSTART;TZID=Europe/Berlin:20261211T080000
DTEND;TZID=Europe/Berlin:20261211T120000
UID:W46327001-20261211T080000@VHSBÖBLINGEN-SINDELFINGEN
SUMMARY:Deutsch A1, Integrationskurs GL 7 (W46327001) 
LOCATION:Höfle, 103, 1. OG, Pestalozzistr. 4, 71032 Böblingen
END:VEVENT
BEGIN:VEVENT
DTSTAMP:20260423T065857
DTSTART;TZID=Europe/Berlin:20261214T080000
DTEND;TZID=Europe/Berlin:20261214T120000
UID:W46327001-20261214T080000@VHSBÖBLINGEN-SINDELFINGEN
SUMMARY:Deutsch A1, Integrationskurs GL 7 (W46327001) 
LOCATION:Höfle, 103, 1. OG, Pestalozzistr. 4, 71032 Böblingen
END:VEVENT
BEGIN:VEVENT
DTSTAMP:20260423T065857
DTSTART;TZID=Europe/Berlin:20261215T080000
DTEND;TZID=Europe/Berlin:20261215T120000
UID:W46327001-20261215T080000@VHSBÖBLINGEN-SINDELFINGEN
SUMMARY:Deutsch A1, Integrationskurs GL 7 (W46327001) 
LOCATION:Höfle, 103, 1. OG, Pestalozzistr. 4, 71032 Böblingen
END:VEVENT
BEGIN:VEVENT
DTSTAMP:20260423T065857
DTSTART;TZID=Europe/Berlin:20261217T080000
DTEND;TZID=Europe/Berlin:20261217T120000
UID:W46327001-20261217T080000@VHSBÖBLINGEN-SINDELFINGEN
SUMMARY:Deutsch A1, Integrationskurs GL 7 (W46327001) 
LOCATION:Höfle, 103, 1. OG, Pestalozzistr. 4, 71032 Böblingen
END:VEVENT
BEGIN:VEVENT
DTSTAMP:20260423T065857
DTSTART;TZID=Europe/Berlin:20261218T080000
DTEND;TZID=Europe/Berlin:20261218T120000
UID:W46327001-20261218T080000@VHSBÖBLINGEN-SINDELFINGEN
SUMMARY:Deutsch A1, Integrationskurs GL 7 (W46327001) 
LOCATION:Höfle, 103, 1. OG, Pestalozzistr. 4, 71032 Böblingen
END:VEVENT
BEGIN:VEVENT
DTSTAMP:20260423T065857
DTSTART;TZID=Europe/Berlin:20261221T080000
DTEND;TZID=Europe/Berlin:20261221T120000
UID:W46327001-20261221T080000@VHSBÖBLINGEN-SINDELFINGEN
SUMMARY:Deutsch A1, Integrationskurs GL 7 (W46327001) 
LOCATION:Höfle, 103, 1. OG, Pestalozzistr. 4, 71032 Böblingen
END:VEVENT
BEGIN:VEVENT
DTSTAMP:20260423T065857
DTSTART;TZID=Europe/Berlin:20261222T080000
DTEND;TZID=Europe/Berlin:20261222T120000
UID:W46327001-20261222T080000@VHSBÖBLINGEN-SINDELFINGEN
SUMMARY:Deutsch A1, Integrationskurs GL 7 (W46327001) 
LOCATION:Höfle, 103, 1. OG, Pestalozzistr. 4, 71032 Böblingen
END:VEVENT
BEGIN:VEVENT
DTSTAMP:20260423T065857
DTSTART;TZID=Europe/Berlin:20270111T080000
DTEND;TZID=Europe/Berlin:20270111T120000
UID:W46327001-20270111T080000@VHSBÖBLINGEN-SINDELFINGEN
SUMMARY:Deutsch A1, Integrationskurs GL 7 (W46327001) 
LOCATION:Höfle, 103, 1. OG, Pestalozzistr. 4, 71032 Böblingen
END:VEVENT
BEGIN:VEVENT
DTSTAMP:20260423T065857
DTSTART;TZID=Europe/Berlin:20270112T080000
DTEND;TZID=Europe/Berlin:20270112T120000
UID:W46327001-20270112T080000@VHSBÖBLINGEN-SINDELFINGEN
SUMMARY:Deutsch A1, Integrationskurs GL 7 (W46327001) 
LOCATION:Höfle, 103, 1. OG, Pestalozzistr. 4, 71032 Böblingen
END:VEVENT
BEGIN:VEVENT
DTSTAMP:20260423T065857
DTSTART;TZID=Europe/Berlin:20270114T080000
DTEND;TZID=Europe/Berlin:20270114T120000
UID:W46327001-20270114T080000@VHSBÖBLINGEN-SINDELFINGEN
SUMMARY:Deutsch A1, Integrationskurs GL 7 (W46327001) 
LOCATION:Höfle, 103, 1. OG, Pestalozzistr. 4, 71032 Böblingen
END:VEVENT
BEGIN:VEVENT
DTSTAMP:20260423T065857
DTSTART;TZID=Europe/Berlin:20270115T080000
DTEND;TZID=Europe/Berlin:20270115T120000
UID:W46327001-20270115T080000@VHSBÖBLINGEN-SINDELFINGEN
SUMMARY:Deutsch A1, Integrationskurs GL 7 (W46327001) 
LOCATION:Höfle, 103, 1. OG, Pestalozzistr. 4, 71032 Böblingen
END:VEVENT
BEGIN:VEVENT
DTSTAMP:20260423T065857
DTSTART;TZID=Europe/Berlin:20270118T080000
DTEND;TZID=Europe/Berlin:20270118T120000
UID:W46327001-20270118T080000@VHSBÖBLINGEN-SINDELFINGEN
SUMMARY:Deutsch A1, Integrationskurs GL 7 (W46327001) 
LOCATION:Höfle, 103, 1. OG, Pestalozzistr. 4, 71032 Böblingen
END:VEVENT
BEGIN:VEVENT
DTSTAMP:20260423T065857
DTSTART;TZID=Europe/Berlin:20270119T080000
DTEND;TZID=Europe/Berlin:20270119T120000
UID:W46327001-20270119T080000@VHSBÖBLINGEN-SINDELFINGEN
SUMMARY:Deutsch A1, Integrationskurs GL 7 (W46327001) 
LOCATION:Höfle, 103, 1. OG, Pestalozzistr. 4, 71032 Böblingen
END:VEVENT
END:VCALENDAR