BEGIN:VCALENDAR
VERSION:2.0
PRODID:https://www.kufer.de/kuferweb / DE
METHOD:PUBLISH
CALSCALE:GREGORIAN
X-WR-TIMEZONE:Europe/Berlin
BEGIN:VTIMEZONE
TZID:Europe/Berlin
X-LIC-LOCATION:Europe/Berlin
BEGIN:DAYLIGHT
TZOFFSETFROM:+0100
TZOFFSETTO:+0200
TZNAME:CEST
DTSTART:19700329T020000
RRULE:FREQ=YEARLY;INTERVAL=1;BYDAY=-1SU;BYMONTH=3
END:DAYLIGHT
BEGIN:STANDARD
TZOFFSETFROM:+0200
TZOFFSETTO:+0100
TZNAME:CET
DTSTART:19701025T030000
RRULE:FREQ=YEARLY;INTERVAL=1;BYDAY=-1SU;BYMONTH=10
END:STANDARD
END:VTIMEZONE
BEGIN:VEVENT
DTSTAMP:20260423T003830
DTSTART;TZID=Europe/Berlin:20261116T080000
DTEND;TZID=Europe/Berlin:20261116T120000
UID:W46326001-20261116T080000@VHSBÖBLINGEN-SINDELFINGEN
SUMMARY:Deutsch A1, Integrationskurs GL 6 (W46326001) 
LOCATION:Höfle, 105, 1. OG, Pestalozzistr. 4, 71032 Böblingen
END:VEVENT
BEGIN:VEVENT
DTSTAMP:20260423T003830
DTSTART;TZID=Europe/Berlin:20261117T080000
DTEND;TZID=Europe/Berlin:20261117T120000
UID:W46326001-20261117T080000@VHSBÖBLINGEN-SINDELFINGEN
SUMMARY:Deutsch A1, Integrationskurs GL 6 (W46326001) 
LOCATION:Höfle, 005, EG, Pestalozzistr. 4, 71032 Böblingen
END:VEVENT
BEGIN:VEVENT
DTSTAMP:20260423T003830
DTSTART;TZID=Europe/Berlin:20261118T080000
DTEND;TZID=Europe/Berlin:20261118T120000
UID:W46326001-20261118T080000@VHSBÖBLINGEN-SINDELFINGEN
SUMMARY:Deutsch A1, Integrationskurs GL 6 (W46326001) 
LOCATION:Höfle, 105, 1. OG, Pestalozzistr. 4, 71032 Böblingen
END:VEVENT
BEGIN:VEVENT
DTSTAMP:20260423T003830
DTSTART;TZID=Europe/Berlin:20261119T080000
DTEND;TZID=Europe/Berlin:20261119T120000
UID:W46326001-20261119T080000@VHSBÖBLINGEN-SINDELFINGEN
SUMMARY:Deutsch A1, Integrationskurs GL 6 (W46326001) 
LOCATION:Höfle, 105, 1. OG, Pestalozzistr. 4, 71032 Böblingen
END:VEVENT
BEGIN:VEVENT
DTSTAMP:20260423T003830
DTSTART;TZID=Europe/Berlin:20261120T080000
DTEND;TZID=Europe/Berlin:20261120T120000
UID:W46326001-20261120T080000@VHSBÖBLINGEN-SINDELFINGEN
SUMMARY:Deutsch A1, Integrationskurs GL 6 (W46326001) 
LOCATION:Höfle, 105, 1. OG, Pestalozzistr. 4, 71032 Böblingen
END:VEVENT
BEGIN:VEVENT
DTSTAMP:20260423T003830
DTSTART;TZID=Europe/Berlin:20261123T080000
DTEND;TZID=Europe/Berlin:20261123T120000
UID:W46326001-20261123T080000@VHSBÖBLINGEN-SINDELFINGEN
SUMMARY:Deutsch A1, Integrationskurs GL 6 (W46326001) 
LOCATION:Höfle, 105, 1. OG, Pestalozzistr. 4, 71032 Böblingen
END:VEVENT
BEGIN:VEVENT
DTSTAMP:20260423T003830
DTSTART;TZID=Europe/Berlin:20261124T080000
DTEND;TZID=Europe/Berlin:20261124T120000
UID:W46326001-20261124T080000@VHSBÖBLINGEN-SINDELFINGEN
SUMMARY:Deutsch A1, Integrationskurs GL 6 (W46326001) 
LOCATION:Höfle, 005, EG, Pestalozzistr. 4, 71032 Böblingen
END:VEVENT
BEGIN:VEVENT
DTSTAMP:20260423T003830
DTSTART;TZID=Europe/Berlin:20261125T080000
DTEND;TZID=Europe/Berlin:20261125T120000
UID:W46326001-20261125T080000@VHSBÖBLINGEN-SINDELFINGEN
SUMMARY:Deutsch A1, Integrationskurs GL 6 (W46326001) 
LOCATION:Höfle, 105, 1. OG, Pestalozzistr. 4, 71032 Böblingen
END:VEVENT
BEGIN:VEVENT
DTSTAMP:20260423T003830
DTSTART;TZID=Europe/Berlin:20261126T080000
DTEND;TZID=Europe/Berlin:20261126T120000
UID:W46326001-20261126T080000@VHSBÖBLINGEN-SINDELFINGEN
SUMMARY:Deutsch A1, Integrationskurs GL 6 (W46326001) 
LOCATION:Höfle, 105, 1. OG, Pestalozzistr. 4, 71032 Böblingen
END:VEVENT
BEGIN:VEVENT
DTSTAMP:20260423T003830
DTSTART;TZID=Europe/Berlin:20261127T080000
DTEND;TZID=Europe/Berlin:20261127T120000
UID:W46326001-20261127T080000@VHSBÖBLINGEN-SINDELFINGEN
SUMMARY:Deutsch A1, Integrationskurs GL 6 (W46326001) 
LOCATION:Höfle, 105, 1. OG, Pestalozzistr. 4, 71032 Böblingen
END:VEVENT
BEGIN:VEVENT
DTSTAMP:20260423T003830
DTSTART;TZID=Europe/Berlin:20261130T080000
DTEND;TZID=Europe/Berlin:20261130T120000
UID:W46326001-20261130T080000@VHSBÖBLINGEN-SINDELFINGEN
SUMMARY:Deutsch A1, Integrationskurs GL 6 (W46326001) 
LOCATION:Höfle, 105, 1. OG, Pestalozzistr. 4, 71032 Böblingen
END:VEVENT
BEGIN:VEVENT
DTSTAMP:20260423T003830
DTSTART;TZID=Europe/Berlin:20261201T080000
DTEND;TZID=Europe/Berlin:20261201T120000
UID:W46326001-20261201T080000@VHSBÖBLINGEN-SINDELFINGEN
SUMMARY:Deutsch A1, Integrationskurs GL 6 (W46326001) 
LOCATION:Höfle, 005, EG, Pestalozzistr. 4, 71032 Böblingen
END:VEVENT
BEGIN:VEVENT
DTSTAMP:20260423T003830
DTSTART;TZID=Europe/Berlin:20261202T080000
DTEND;TZID=Europe/Berlin:20261202T120000
UID:W46326001-20261202T080000@VHSBÖBLINGEN-SINDELFINGEN
SUMMARY:Deutsch A1, Integrationskurs GL 6 (W46326001) 
LOCATION:Höfle, 105, 1. OG, Pestalozzistr. 4, 71032 Böblingen
END:VEVENT
BEGIN:VEVENT
DTSTAMP:20260423T003830
DTSTART;TZID=Europe/Berlin:20261203T080000
DTEND;TZID=Europe/Berlin:20261203T120000
UID:W46326001-20261203T080000@VHSBÖBLINGEN-SINDELFINGEN
SUMMARY:Deutsch A1, Integrationskurs GL 6 (W46326001) 
LOCATION:Höfle, 105, 1. OG, Pestalozzistr. 4, 71032 Böblingen
END:VEVENT
BEGIN:VEVENT
DTSTAMP:20260423T003830
DTSTART;TZID=Europe/Berlin:20261204T080000
DTEND;TZID=Europe/Berlin:20261204T120000
UID:W46326001-20261204T080000@VHSBÖBLINGEN-SINDELFINGEN
SUMMARY:Deutsch A1, Integrationskurs GL 6 (W46326001) 
LOCATION:Höfle, 105, 1. OG, Pestalozzistr. 4, 71032 Böblingen
END:VEVENT
BEGIN:VEVENT
DTSTAMP:20260423T003830
DTSTART;TZID=Europe/Berlin:20261207T080000
DTEND;TZID=Europe/Berlin:20261207T120000
UID:W46326001-20261207T080000@VHSBÖBLINGEN-SINDELFINGEN
SUMMARY:Deutsch A1, Integrationskurs GL 6 (W46326001) 
LOCATION:Höfle, 105, 1. OG, Pestalozzistr. 4, 71032 Böblingen
END:VEVENT
BEGIN:VEVENT
DTSTAMP:20260423T003830
DTSTART;TZID=Europe/Berlin:20261208T080000
DTEND;TZID=Europe/Berlin:20261208T120000
UID:W46326001-20261208T080000@VHSBÖBLINGEN-SINDELFINGEN
SUMMARY:Deutsch A1, Integrationskurs GL 6 (W46326001) 
LOCATION:Höfle, 005, EG, Pestalozzistr. 4, 71032 Böblingen
END:VEVENT
BEGIN:VEVENT
DTSTAMP:20260423T003830
DTSTART;TZID=Europe/Berlin:20261209T080000
DTEND;TZID=Europe/Berlin:20261209T120000
UID:W46326001-20261209T080000@VHSBÖBLINGEN-SINDELFINGEN
SUMMARY:Deutsch A1, Integrationskurs GL 6 (W46326001) 
LOCATION:Höfle, 105, 1. OG, Pestalozzistr. 4, 71032 Böblingen
END:VEVENT
BEGIN:VEVENT
DTSTAMP:20260423T003830
DTSTART;TZID=Europe/Berlin:20261210T080000
DTEND;TZID=Europe/Berlin:20261210T120000
UID:W46326001-20261210T080000@VHSBÖBLINGEN-SINDELFINGEN
SUMMARY:Deutsch A1, Integrationskurs GL 6 (W46326001) 
LOCATION:Höfle, 105, 1. OG, Pestalozzistr. 4, 71032 Böblingen
END:VEVENT
BEGIN:VEVENT
DTSTAMP:20260423T003830
DTSTART;TZID=Europe/Berlin:20261211T080000
DTEND;TZID=Europe/Berlin:20261211T120000
UID:W46326001-20261211T080000@VHSBÖBLINGEN-SINDELFINGEN
SUMMARY:Deutsch A1, Integrationskurs GL 6 (W46326001) 
LOCATION:Höfle, 105, 1. OG, Pestalozzistr. 4, 71032 Böblingen
END:VEVENT
END:VCALENDAR