BEGIN:VCALENDAR
VERSION:2.0
PRODID:https://www.kufer.de/kuferweb / DE
METHOD:PUBLISH
CALSCALE:GREGORIAN
X-WR-TIMEZONE:Europe/Berlin
BEGIN:VTIMEZONE
TZID:Europe/Berlin
X-LIC-LOCATION:Europe/Berlin
BEGIN:DAYLIGHT
TZOFFSETFROM:+0100
TZOFFSETTO:+0200
TZNAME:CEST
DTSTART:19700329T020000
RRULE:FREQ=YEARLY;INTERVAL=1;BYDAY=-1SU;BYMONTH=3
END:DAYLIGHT
BEGIN:STANDARD
TZOFFSETFROM:+0200
TZOFFSETTO:+0100
TZNAME:CET
DTSTART:19701025T030000
RRULE:FREQ=YEARLY;INTERVAL=1;BYDAY=-1SU;BYMONTH=10
END:STANDARD
END:VTIMEZONE
BEGIN:VEVENT
DTSTAMP:20260422T225729
DTSTART;TZID=Europe/Berlin:20261116T130000
DTEND;TZID=Europe/Berlin:20261116T170000
UID:W46316002-20261116T130000@VHSBÖBLINGEN-SINDELFINGEN
SUMMARY:Deutsch B1, Integrationskurs 6 (W46316002) 
LOCATION:Höfle, 002, EG, Pestalozzistr. 4, 71032 Böblingen
END:VEVENT
BEGIN:VEVENT
DTSTAMP:20260422T225729
DTSTART;TZID=Europe/Berlin:20261117T130000
DTEND;TZID=Europe/Berlin:20261117T170000
UID:W46316002-20261117T130000@VHSBÖBLINGEN-SINDELFINGEN
SUMMARY:Deutsch B1, Integrationskurs 6 (W46316002) 
LOCATION:Höfle, 002, EG, Pestalozzistr. 4, 71032 Böblingen
END:VEVENT
BEGIN:VEVENT
DTSTAMP:20260422T225729
DTSTART;TZID=Europe/Berlin:20261118T130000
DTEND;TZID=Europe/Berlin:20261118T170000
UID:W46316002-20261118T130000@VHSBÖBLINGEN-SINDELFINGEN
SUMMARY:Deutsch B1, Integrationskurs 6 (W46316002) 
LOCATION:Höfle, 002, EG, Pestalozzistr. 4, 71032 Böblingen
END:VEVENT
BEGIN:VEVENT
DTSTAMP:20260422T225729
DTSTART;TZID=Europe/Berlin:20261119T130000
DTEND;TZID=Europe/Berlin:20261119T170000
UID:W46316002-20261119T130000@VHSBÖBLINGEN-SINDELFINGEN
SUMMARY:Deutsch B1, Integrationskurs 6 (W46316002) 
LOCATION:Höfle, 002, EG, Pestalozzistr. 4, 71032 Böblingen
END:VEVENT
BEGIN:VEVENT
DTSTAMP:20260422T225729
DTSTART;TZID=Europe/Berlin:20261120T130000
DTEND;TZID=Europe/Berlin:20261120T170000
UID:W46316002-20261120T130000@VHSBÖBLINGEN-SINDELFINGEN
SUMMARY:Deutsch B1, Integrationskurs 6 (W46316002) 
LOCATION:Höfle, 002, EG, Pestalozzistr. 4, 71032 Böblingen
END:VEVENT
BEGIN:VEVENT
DTSTAMP:20260422T225729
DTSTART;TZID=Europe/Berlin:20261123T130000
DTEND;TZID=Europe/Berlin:20261123T170000
UID:W46316002-20261123T130000@VHSBÖBLINGEN-SINDELFINGEN
SUMMARY:Deutsch B1, Integrationskurs 6 (W46316002) 
LOCATION:Höfle, 002, EG, Pestalozzistr. 4, 71032 Böblingen
END:VEVENT
BEGIN:VEVENT
DTSTAMP:20260422T225729
DTSTART;TZID=Europe/Berlin:20261124T130000
DTEND;TZID=Europe/Berlin:20261124T170000
UID:W46316002-20261124T130000@VHSBÖBLINGEN-SINDELFINGEN
SUMMARY:Deutsch B1, Integrationskurs 6 (W46316002) 
LOCATION:Höfle, 002, EG, Pestalozzistr. 4, 71032 Böblingen
END:VEVENT
BEGIN:VEVENT
DTSTAMP:20260422T225729
DTSTART;TZID=Europe/Berlin:20261125T130000
DTEND;TZID=Europe/Berlin:20261125T170000
UID:W46316002-20261125T130000@VHSBÖBLINGEN-SINDELFINGEN
SUMMARY:Deutsch B1, Integrationskurs 6 (W46316002) 
LOCATION:Höfle, 002, EG, Pestalozzistr. 4, 71032 Böblingen
END:VEVENT
BEGIN:VEVENT
DTSTAMP:20260422T225729
DTSTART;TZID=Europe/Berlin:20261126T130000
DTEND;TZID=Europe/Berlin:20261126T170000
UID:W46316002-20261126T130000@VHSBÖBLINGEN-SINDELFINGEN
SUMMARY:Deutsch B1, Integrationskurs 6 (W46316002) 
LOCATION:Höfle, 002, EG, Pestalozzistr. 4, 71032 Böblingen
END:VEVENT
BEGIN:VEVENT
DTSTAMP:20260422T225729
DTSTART;TZID=Europe/Berlin:20261127T130000
DTEND;TZID=Europe/Berlin:20261127T170000
UID:W46316002-20261127T130000@VHSBÖBLINGEN-SINDELFINGEN
SUMMARY:Deutsch B1, Integrationskurs 6 (W46316002) 
LOCATION:Höfle, 002, EG, Pestalozzistr. 4, 71032 Böblingen
END:VEVENT
BEGIN:VEVENT
DTSTAMP:20260422T225729
DTSTART;TZID=Europe/Berlin:20261130T130000
DTEND;TZID=Europe/Berlin:20261130T170000
UID:W46316002-20261130T130000@VHSBÖBLINGEN-SINDELFINGEN
SUMMARY:Deutsch B1, Integrationskurs 6 (W46316002) 
LOCATION:Höfle, 002, EG, Pestalozzistr. 4, 71032 Böblingen
END:VEVENT
BEGIN:VEVENT
DTSTAMP:20260422T225729
DTSTART;TZID=Europe/Berlin:20261201T130000
DTEND;TZID=Europe/Berlin:20261201T170000
UID:W46316002-20261201T130000@VHSBÖBLINGEN-SINDELFINGEN
SUMMARY:Deutsch B1, Integrationskurs 6 (W46316002) 
LOCATION:Höfle, 002, EG, Pestalozzistr. 4, 71032 Böblingen
END:VEVENT
BEGIN:VEVENT
DTSTAMP:20260422T225729
DTSTART;TZID=Europe/Berlin:20261202T130000
DTEND;TZID=Europe/Berlin:20261202T170000
UID:W46316002-20261202T130000@VHSBÖBLINGEN-SINDELFINGEN
SUMMARY:Deutsch B1, Integrationskurs 6 (W46316002) 
LOCATION:Höfle, 002, EG, Pestalozzistr. 4, 71032 Böblingen
END:VEVENT
BEGIN:VEVENT
DTSTAMP:20260422T225729
DTSTART;TZID=Europe/Berlin:20261203T130000
DTEND;TZID=Europe/Berlin:20261203T170000
UID:W46316002-20261203T130000@VHSBÖBLINGEN-SINDELFINGEN
SUMMARY:Deutsch B1, Integrationskurs 6 (W46316002) 
LOCATION:Höfle, 002, EG, Pestalozzistr. 4, 71032 Böblingen
END:VEVENT
BEGIN:VEVENT
DTSTAMP:20260422T225729
DTSTART;TZID=Europe/Berlin:20261204T130000
DTEND;TZID=Europe/Berlin:20261204T170000
UID:W46316002-20261204T130000@VHSBÖBLINGEN-SINDELFINGEN
SUMMARY:Deutsch B1, Integrationskurs 6 (W46316002) 
LOCATION:Höfle, 002, EG, Pestalozzistr. 4, 71032 Böblingen
END:VEVENT
BEGIN:VEVENT
DTSTAMP:20260422T225729
DTSTART;TZID=Europe/Berlin:20261207T130000
DTEND;TZID=Europe/Berlin:20261207T170000
UID:W46316002-20261207T130000@VHSBÖBLINGEN-SINDELFINGEN
SUMMARY:Deutsch B1, Integrationskurs 6 (W46316002) 
LOCATION:Höfle, 002, EG, Pestalozzistr. 4, 71032 Böblingen
END:VEVENT
BEGIN:VEVENT
DTSTAMP:20260422T225729
DTSTART;TZID=Europe/Berlin:20261208T130000
DTEND;TZID=Europe/Berlin:20261208T170000
UID:W46316002-20261208T130000@VHSBÖBLINGEN-SINDELFINGEN
SUMMARY:Deutsch B1, Integrationskurs 6 (W46316002) 
LOCATION:Höfle, 002, EG, Pestalozzistr. 4, 71032 Böblingen
END:VEVENT
BEGIN:VEVENT
DTSTAMP:20260422T225729
DTSTART;TZID=Europe/Berlin:20261209T130000
DTEND;TZID=Europe/Berlin:20261209T170000
UID:W46316002-20261209T130000@VHSBÖBLINGEN-SINDELFINGEN
SUMMARY:Deutsch B1, Integrationskurs 6 (W46316002) 
LOCATION:Höfle, 002, EG, Pestalozzistr. 4, 71032 Böblingen
END:VEVENT
BEGIN:VEVENT
DTSTAMP:20260422T225729
DTSTART;TZID=Europe/Berlin:20261210T130000
DTEND;TZID=Europe/Berlin:20261210T170000
UID:W46316002-20261210T130000@VHSBÖBLINGEN-SINDELFINGEN
SUMMARY:Deutsch B1, Integrationskurs 6 (W46316002) 
LOCATION:Höfle, 002, EG, Pestalozzistr. 4, 71032 Böblingen
END:VEVENT
BEGIN:VEVENT
DTSTAMP:20260422T225729
DTSTART;TZID=Europe/Berlin:20261211T130000
DTEND;TZID=Europe/Berlin:20261211T170000
UID:W46316002-20261211T130000@VHSBÖBLINGEN-SINDELFINGEN
SUMMARY:Deutsch B1, Integrationskurs 6 (W46316002) 
LOCATION:Höfle, 002, EG, Pestalozzistr. 4, 71032 Böblingen
END:VEVENT
END:VCALENDAR