BEGIN:VCALENDAR
VERSION:2.0
PRODID:https://www.kufer.de/kuferweb / DE
METHOD:PUBLISH
CALSCALE:GREGORIAN
X-WR-TIMEZONE:Europe/Berlin
BEGIN:VTIMEZONE
TZID:Europe/Berlin
X-LIC-LOCATION:Europe/Berlin
BEGIN:DAYLIGHT
TZOFFSETFROM:+0100
TZOFFSETTO:+0200
TZNAME:CEST
DTSTART:19700329T020000
RRULE:FREQ=YEARLY;INTERVAL=1;BYDAY=-1SU;BYMONTH=3
END:DAYLIGHT
BEGIN:STANDARD
TZOFFSETFROM:+0200
TZOFFSETTO:+0100
TZNAME:CET
DTSTART:19701025T030000
RRULE:FREQ=YEARLY;INTERVAL=1;BYDAY=-1SU;BYMONTH=10
END:STANDARD
END:VTIMEZONE
BEGIN:VEVENT
DTSTAMP:20260422T213309
DTSTART;TZID=Europe/Berlin:20261012T123000
DTEND;TZID=Europe/Berlin:20261012T163000
UID:W46227003-20261012T123000@VHSBÖBLINGEN-SINDELFINGEN
SUMMARY:Deutsch A1, Integrationskurs GL 7 (W46227003) 
LOCATION:Höfle, 001, EG, Pestalozzistr. 4, 71032 Böblingen
END:VEVENT
BEGIN:VEVENT
DTSTAMP:20260422T213309
DTSTART;TZID=Europe/Berlin:20261013T123000
DTEND;TZID=Europe/Berlin:20261013T163000
UID:W46227003-20261013T123000@VHSBÖBLINGEN-SINDELFINGEN
SUMMARY:Deutsch A1, Integrationskurs GL 7 (W46227003) 
LOCATION:Höfle, 001, EG, Pestalozzistr. 4, 71032 Böblingen
END:VEVENT
BEGIN:VEVENT
DTSTAMP:20260422T213309
DTSTART;TZID=Europe/Berlin:20261014T123000
DTEND;TZID=Europe/Berlin:20261014T163000
UID:W46227003-20261014T123000@VHSBÖBLINGEN-SINDELFINGEN
SUMMARY:Deutsch A1, Integrationskurs GL 7 (W46227003) 
LOCATION:Höfle, 001, EG, Pestalozzistr. 4, 71032 Böblingen
END:VEVENT
BEGIN:VEVENT
DTSTAMP:20260422T213309
DTSTART;TZID=Europe/Berlin:20261015T123000
DTEND;TZID=Europe/Berlin:20261015T163000
UID:W46227003-20261015T123000@VHSBÖBLINGEN-SINDELFINGEN
SUMMARY:Deutsch A1, Integrationskurs GL 7 (W46227003) 
LOCATION:Höfle, 001, EG, Pestalozzistr. 4, 71032 Böblingen
END:VEVENT
BEGIN:VEVENT
DTSTAMP:20260422T213309
DTSTART;TZID=Europe/Berlin:20261016T123000
DTEND;TZID=Europe/Berlin:20261016T163000
UID:W46227003-20261016T123000@VHSBÖBLINGEN-SINDELFINGEN
SUMMARY:Deutsch A1, Integrationskurs GL 7 (W46227003) 
LOCATION:Höfle, 001, EG, Pestalozzistr. 4, 71032 Böblingen
END:VEVENT
BEGIN:VEVENT
DTSTAMP:20260422T213309
DTSTART;TZID=Europe/Berlin:20261019T123000
DTEND;TZID=Europe/Berlin:20261019T163000
UID:W46227003-20261019T123000@VHSBÖBLINGEN-SINDELFINGEN
SUMMARY:Deutsch A1, Integrationskurs GL 7 (W46227003) 
LOCATION:Höfle, 001, EG, Pestalozzistr. 4, 71032 Böblingen
END:VEVENT
BEGIN:VEVENT
DTSTAMP:20260422T213309
DTSTART;TZID=Europe/Berlin:20261020T123000
DTEND;TZID=Europe/Berlin:20261020T163000
UID:W46227003-20261020T123000@VHSBÖBLINGEN-SINDELFINGEN
SUMMARY:Deutsch A1, Integrationskurs GL 7 (W46227003) 
LOCATION:Höfle, 001, EG, Pestalozzistr. 4, 71032 Böblingen
END:VEVENT
BEGIN:VEVENT
DTSTAMP:20260422T213309
DTSTART;TZID=Europe/Berlin:20261021T123000
DTEND;TZID=Europe/Berlin:20261021T163000
UID:W46227003-20261021T123000@VHSBÖBLINGEN-SINDELFINGEN
SUMMARY:Deutsch A1, Integrationskurs GL 7 (W46227003) 
LOCATION:Höfle, 001, EG, Pestalozzistr. 4, 71032 Böblingen
END:VEVENT
BEGIN:VEVENT
DTSTAMP:20260422T213309
DTSTART;TZID=Europe/Berlin:20261022T123000
DTEND;TZID=Europe/Berlin:20261022T163000
UID:W46227003-20261022T123000@VHSBÖBLINGEN-SINDELFINGEN
SUMMARY:Deutsch A1, Integrationskurs GL 7 (W46227003) 
LOCATION:Höfle, 001, EG, Pestalozzistr. 4, 71032 Böblingen
END:VEVENT
BEGIN:VEVENT
DTSTAMP:20260422T213309
DTSTART;TZID=Europe/Berlin:20261023T123000
DTEND;TZID=Europe/Berlin:20261023T163000
UID:W46227003-20261023T123000@VHSBÖBLINGEN-SINDELFINGEN
SUMMARY:Deutsch A1, Integrationskurs GL 7 (W46227003) 
LOCATION:Höfle, 001, EG, Pestalozzistr. 4, 71032 Böblingen
END:VEVENT
BEGIN:VEVENT
DTSTAMP:20260422T213309
DTSTART;TZID=Europe/Berlin:20261102T123000
DTEND;TZID=Europe/Berlin:20261102T163000
UID:W46227003-20261102T123000@VHSBÖBLINGEN-SINDELFINGEN
SUMMARY:Deutsch A1, Integrationskurs GL 7 (W46227003) 
LOCATION:Höfle, 001, EG, Pestalozzistr. 4, 71032 Böblingen
END:VEVENT
BEGIN:VEVENT
DTSTAMP:20260422T213309
DTSTART;TZID=Europe/Berlin:20261103T123000
DTEND;TZID=Europe/Berlin:20261103T163000
UID:W46227003-20261103T123000@VHSBÖBLINGEN-SINDELFINGEN
SUMMARY:Deutsch A1, Integrationskurs GL 7 (W46227003) 
LOCATION:Höfle, 001, EG, Pestalozzistr. 4, 71032 Böblingen
END:VEVENT
BEGIN:VEVENT
DTSTAMP:20260422T213309
DTSTART;TZID=Europe/Berlin:20261104T123000
DTEND;TZID=Europe/Berlin:20261104T163000
UID:W46227003-20261104T123000@VHSBÖBLINGEN-SINDELFINGEN
SUMMARY:Deutsch A1, Integrationskurs GL 7 (W46227003) 
LOCATION:Höfle, 001, EG, Pestalozzistr. 4, 71032 Böblingen
END:VEVENT
BEGIN:VEVENT
DTSTAMP:20260422T213309
DTSTART;TZID=Europe/Berlin:20261105T123000
DTEND;TZID=Europe/Berlin:20261105T163000
UID:W46227003-20261105T123000@VHSBÖBLINGEN-SINDELFINGEN
SUMMARY:Deutsch A1, Integrationskurs GL 7 (W46227003) 
LOCATION:Höfle, 001, EG, Pestalozzistr. 4, 71032 Böblingen
END:VEVENT
BEGIN:VEVENT
DTSTAMP:20260422T213309
DTSTART;TZID=Europe/Berlin:20261106T123000
DTEND;TZID=Europe/Berlin:20261106T163000
UID:W46227003-20261106T123000@VHSBÖBLINGEN-SINDELFINGEN
SUMMARY:Deutsch A1, Integrationskurs GL 7 (W46227003) 
LOCATION:Höfle, 001, EG, Pestalozzistr. 4, 71032 Böblingen
END:VEVENT
BEGIN:VEVENT
DTSTAMP:20260422T213309
DTSTART;TZID=Europe/Berlin:20261109T123000
DTEND;TZID=Europe/Berlin:20261109T163000
UID:W46227003-20261109T123000@VHSBÖBLINGEN-SINDELFINGEN
SUMMARY:Deutsch A1, Integrationskurs GL 7 (W46227003) 
LOCATION:Höfle, 001, EG, Pestalozzistr. 4, 71032 Böblingen
END:VEVENT
BEGIN:VEVENT
DTSTAMP:20260422T213309
DTSTART;TZID=Europe/Berlin:20261110T123000
DTEND;TZID=Europe/Berlin:20261110T163000
UID:W46227003-20261110T123000@VHSBÖBLINGEN-SINDELFINGEN
SUMMARY:Deutsch A1, Integrationskurs GL 7 (W46227003) 
LOCATION:Höfle, 001, EG, Pestalozzistr. 4, 71032 Böblingen
END:VEVENT
BEGIN:VEVENT
DTSTAMP:20260422T213309
DTSTART;TZID=Europe/Berlin:20261111T123000
DTEND;TZID=Europe/Berlin:20261111T163000
UID:W46227003-20261111T123000@VHSBÖBLINGEN-SINDELFINGEN
SUMMARY:Deutsch A1, Integrationskurs GL 7 (W46227003) 
LOCATION:Höfle, 001, EG, Pestalozzistr. 4, 71032 Böblingen
END:VEVENT
BEGIN:VEVENT
DTSTAMP:20260422T213309
DTSTART;TZID=Europe/Berlin:20261112T123000
DTEND;TZID=Europe/Berlin:20261112T163000
UID:W46227003-20261112T123000@VHSBÖBLINGEN-SINDELFINGEN
SUMMARY:Deutsch A1, Integrationskurs GL 7 (W46227003) 
LOCATION:Höfle, 001, EG, Pestalozzistr. 4, 71032 Böblingen
END:VEVENT
BEGIN:VEVENT
DTSTAMP:20260422T213309
DTSTART;TZID=Europe/Berlin:20261113T123000
DTEND;TZID=Europe/Berlin:20261113T163000
UID:W46227003-20261113T123000@VHSBÖBLINGEN-SINDELFINGEN
SUMMARY:Deutsch A1, Integrationskurs GL 7 (W46227003) 
LOCATION:Höfle, 001, EG, Pestalozzistr. 4, 71032 Böblingen
END:VEVENT
END:VCALENDAR