BEGIN:VCALENDAR
VERSION:2.0
PRODID:https://www.kufer.de/kuferweb / DE
METHOD:PUBLISH
CALSCALE:GREGORIAN
X-WR-TIMEZONE:Europe/Berlin
BEGIN:VTIMEZONE
TZID:Europe/Berlin
X-LIC-LOCATION:Europe/Berlin
BEGIN:DAYLIGHT
TZOFFSETFROM:+0100
TZOFFSETTO:+0200
TZNAME:CEST
DTSTART:19700329T020000
RRULE:FREQ=YEARLY;INTERVAL=1;BYDAY=-1SU;BYMONTH=3
END:DAYLIGHT
BEGIN:STANDARD
TZOFFSETFROM:+0200
TZOFFSETTO:+0100
TZNAME:CET
DTSTART:19701025T030000
RRULE:FREQ=YEARLY;INTERVAL=1;BYDAY=-1SU;BYMONTH=10
END:STANDARD
END:VTIMEZONE
BEGIN:VEVENT
DTSTAMP:20260423T052006
DTSTART;TZID=Europe/Berlin:20261019T080000
DTEND;TZID=Europe/Berlin:20261019T120000
UID:W46226001-20261019T080000@VHSBÖBLINGEN-SINDELFINGEN
SUMMARY:Deutsch A1, Integrationskurs GL 6 (W46226001) 
LOCATION:Höfle, 103, 1. OG, Pestalozzistr. 4, 71032 Böblingen
END:VEVENT
BEGIN:VEVENT
DTSTAMP:20260423T052006
DTSTART;TZID=Europe/Berlin:20261020T080000
DTEND;TZID=Europe/Berlin:20261020T120000
UID:W46226001-20261020T080000@VHSBÖBLINGEN-SINDELFINGEN
SUMMARY:Deutsch A1, Integrationskurs GL 6 (W46226001) 
LOCATION:Höfle, 103, 1. OG, Pestalozzistr. 4, 71032 Böblingen
END:VEVENT
BEGIN:VEVENT
DTSTAMP:20260423T052006
DTSTART;TZID=Europe/Berlin:20261022T080000
DTEND;TZID=Europe/Berlin:20261022T120000
UID:W46226001-20261022T080000@VHSBÖBLINGEN-SINDELFINGEN
SUMMARY:Deutsch A1, Integrationskurs GL 6 (W46226001) 
LOCATION:Höfle, 103, 1. OG, Pestalozzistr. 4, 71032 Böblingen
END:VEVENT
BEGIN:VEVENT
DTSTAMP:20260423T052006
DTSTART;TZID=Europe/Berlin:20261023T080000
DTEND;TZID=Europe/Berlin:20261023T120000
UID:W46226001-20261023T080000@VHSBÖBLINGEN-SINDELFINGEN
SUMMARY:Deutsch A1, Integrationskurs GL 6 (W46226001) 
LOCATION:Höfle, 103, 1. OG, Pestalozzistr. 4, 71032 Böblingen
END:VEVENT
BEGIN:VEVENT
DTSTAMP:20260423T052006
DTSTART;TZID=Europe/Berlin:20261102T080000
DTEND;TZID=Europe/Berlin:20261102T120000
UID:W46226001-20261102T080000@VHSBÖBLINGEN-SINDELFINGEN
SUMMARY:Deutsch A1, Integrationskurs GL 6 (W46226001) 
LOCATION:Höfle, 103, 1. OG, Pestalozzistr. 4, 71032 Böblingen
END:VEVENT
BEGIN:VEVENT
DTSTAMP:20260423T052006
DTSTART;TZID=Europe/Berlin:20261103T080000
DTEND;TZID=Europe/Berlin:20261103T120000
UID:W46226001-20261103T080000@VHSBÖBLINGEN-SINDELFINGEN
SUMMARY:Deutsch A1, Integrationskurs GL 6 (W46226001) 
LOCATION:Höfle, 103, 1. OG, Pestalozzistr. 4, 71032 Böblingen
END:VEVENT
BEGIN:VEVENT
DTSTAMP:20260423T052006
DTSTART;TZID=Europe/Berlin:20261105T080000
DTEND;TZID=Europe/Berlin:20261105T120000
UID:W46226001-20261105T080000@VHSBÖBLINGEN-SINDELFINGEN
SUMMARY:Deutsch A1, Integrationskurs GL 6 (W46226001) 
LOCATION:Höfle, 103, 1. OG, Pestalozzistr. 4, 71032 Böblingen
END:VEVENT
BEGIN:VEVENT
DTSTAMP:20260423T052006
DTSTART;TZID=Europe/Berlin:20261106T080000
DTEND;TZID=Europe/Berlin:20261106T120000
UID:W46226001-20261106T080000@VHSBÖBLINGEN-SINDELFINGEN
SUMMARY:Deutsch A1, Integrationskurs GL 6 (W46226001) 
LOCATION:Höfle, 103, 1. OG, Pestalozzistr. 4, 71032 Böblingen
END:VEVENT
BEGIN:VEVENT
DTSTAMP:20260423T052006
DTSTART;TZID=Europe/Berlin:20261109T080000
DTEND;TZID=Europe/Berlin:20261109T120000
UID:W46226001-20261109T080000@VHSBÖBLINGEN-SINDELFINGEN
SUMMARY:Deutsch A1, Integrationskurs GL 6 (W46226001) 
LOCATION:Höfle, 103, 1. OG, Pestalozzistr. 4, 71032 Böblingen
END:VEVENT
BEGIN:VEVENT
DTSTAMP:20260423T052006
DTSTART;TZID=Europe/Berlin:20261110T080000
DTEND;TZID=Europe/Berlin:20261110T120000
UID:W46226001-20261110T080000@VHSBÖBLINGEN-SINDELFINGEN
SUMMARY:Deutsch A1, Integrationskurs GL 6 (W46226001) 
LOCATION:Höfle, 103, 1. OG, Pestalozzistr. 4, 71032 Böblingen
END:VEVENT
BEGIN:VEVENT
DTSTAMP:20260423T052006
DTSTART;TZID=Europe/Berlin:20261112T080000
DTEND;TZID=Europe/Berlin:20261112T120000
UID:W46226001-20261112T080000@VHSBÖBLINGEN-SINDELFINGEN
SUMMARY:Deutsch A1, Integrationskurs GL 6 (W46226001) 
LOCATION:Höfle, 103, 1. OG, Pestalozzistr. 4, 71032 Böblingen
END:VEVENT
BEGIN:VEVENT
DTSTAMP:20260423T052006
DTSTART;TZID=Europe/Berlin:20261113T080000
DTEND;TZID=Europe/Berlin:20261113T120000
UID:W46226001-20261113T080000@VHSBÖBLINGEN-SINDELFINGEN
SUMMARY:Deutsch A1, Integrationskurs GL 6 (W46226001) 
LOCATION:Höfle, 103, 1. OG, Pestalozzistr. 4, 71032 Böblingen
END:VEVENT
BEGIN:VEVENT
DTSTAMP:20260423T052006
DTSTART;TZID=Europe/Berlin:20261116T080000
DTEND;TZID=Europe/Berlin:20261116T120000
UID:W46226001-20261116T080000@VHSBÖBLINGEN-SINDELFINGEN
SUMMARY:Deutsch A1, Integrationskurs GL 6 (W46226001) 
LOCATION:Höfle, 103, 1. OG, Pestalozzistr. 4, 71032 Böblingen
END:VEVENT
BEGIN:VEVENT
DTSTAMP:20260423T052006
DTSTART;TZID=Europe/Berlin:20261117T080000
DTEND;TZID=Europe/Berlin:20261117T120000
UID:W46226001-20261117T080000@VHSBÖBLINGEN-SINDELFINGEN
SUMMARY:Deutsch A1, Integrationskurs GL 6 (W46226001) 
LOCATION:Höfle, 103, 1. OG, Pestalozzistr. 4, 71032 Böblingen
END:VEVENT
BEGIN:VEVENT
DTSTAMP:20260423T052006
DTSTART;TZID=Europe/Berlin:20261119T080000
DTEND;TZID=Europe/Berlin:20261119T120000
UID:W46226001-20261119T080000@VHSBÖBLINGEN-SINDELFINGEN
SUMMARY:Deutsch A1, Integrationskurs GL 6 (W46226001) 
LOCATION:Höfle, 103, 1. OG, Pestalozzistr. 4, 71032 Böblingen
END:VEVENT
BEGIN:VEVENT
DTSTAMP:20260423T052006
DTSTART;TZID=Europe/Berlin:20261120T080000
DTEND;TZID=Europe/Berlin:20261120T120000
UID:W46226001-20261120T080000@VHSBÖBLINGEN-SINDELFINGEN
SUMMARY:Deutsch A1, Integrationskurs GL 6 (W46226001) 
LOCATION:Höfle, 103, 1. OG, Pestalozzistr. 4, 71032 Böblingen
END:VEVENT
BEGIN:VEVENT
DTSTAMP:20260423T052006
DTSTART;TZID=Europe/Berlin:20261123T080000
DTEND;TZID=Europe/Berlin:20261123T120000
UID:W46226001-20261123T080000@VHSBÖBLINGEN-SINDELFINGEN
SUMMARY:Deutsch A1, Integrationskurs GL 6 (W46226001) 
LOCATION:Höfle, 103, 1. OG, Pestalozzistr. 4, 71032 Böblingen
END:VEVENT
BEGIN:VEVENT
DTSTAMP:20260423T052006
DTSTART;TZID=Europe/Berlin:20261124T080000
DTEND;TZID=Europe/Berlin:20261124T120000
UID:W46226001-20261124T080000@VHSBÖBLINGEN-SINDELFINGEN
SUMMARY:Deutsch A1, Integrationskurs GL 6 (W46226001) 
LOCATION:Höfle, 103, 1. OG, Pestalozzistr. 4, 71032 Böblingen
END:VEVENT
BEGIN:VEVENT
DTSTAMP:20260423T052006
DTSTART;TZID=Europe/Berlin:20261126T080000
DTEND;TZID=Europe/Berlin:20261126T120000
UID:W46226001-20261126T080000@VHSBÖBLINGEN-SINDELFINGEN
SUMMARY:Deutsch A1, Integrationskurs GL 6 (W46226001) 
LOCATION:Höfle, 103, 1. OG, Pestalozzistr. 4, 71032 Böblingen
END:VEVENT
BEGIN:VEVENT
DTSTAMP:20260423T052006
DTSTART;TZID=Europe/Berlin:20261127T080000
DTEND;TZID=Europe/Berlin:20261127T120000
UID:W46226001-20261127T080000@VHSBÖBLINGEN-SINDELFINGEN
SUMMARY:Deutsch A1, Integrationskurs GL 6 (W46226001) 
LOCATION:Höfle, 103, 1. OG, Pestalozzistr. 4, 71032 Böblingen
END:VEVENT
END:VCALENDAR