BEGIN:VCALENDAR
VERSION:2.0
PRODID:https://www.kufer.de/kuferweb / DE
METHOD:PUBLISH
CALSCALE:GREGORIAN
X-WR-TIMEZONE:Europe/Berlin
BEGIN:VTIMEZONE
TZID:Europe/Berlin
X-LIC-LOCATION:Europe/Berlin
BEGIN:DAYLIGHT
TZOFFSETFROM:+0100
TZOFFSETTO:+0200
TZNAME:CEST
DTSTART:19700329T020000
RRULE:FREQ=YEARLY;INTERVAL=1;BYDAY=-1SU;BYMONTH=3
END:DAYLIGHT
BEGIN:STANDARD
TZOFFSETFROM:+0200
TZOFFSETTO:+0100
TZNAME:CET
DTSTART:19701025T030000
RRULE:FREQ=YEARLY;INTERVAL=1;BYDAY=-1SU;BYMONTH=10
END:STANDARD
END:VTIMEZONE
BEGIN:VEVENT
DTSTAMP:20260423T020724
DTSTART;TZID=Europe/Berlin:20261012T080000
DTEND;TZID=Europe/Berlin:20261012T120000
UID:W46216002-20261012T080000@VHSBÖBLINGEN-SINDELFINGEN
SUMMARY:Deutsch B1, Integrationskurs 6 (W46216002) 
LOCATION:GHH, 101, 1.OG, Böblinger Str. 8, 71065 Sindelfingen
END:VEVENT
BEGIN:VEVENT
DTSTAMP:20260423T020724
DTSTART;TZID=Europe/Berlin:20261013T080000
DTEND;TZID=Europe/Berlin:20261013T120000
UID:W46216002-20261013T080000@VHSBÖBLINGEN-SINDELFINGEN
SUMMARY:Deutsch B1, Integrationskurs 6 (W46216002) 
LOCATION:GHH, 101, 1.OG, Böblinger Str. 8, 71065 Sindelfingen
END:VEVENT
BEGIN:VEVENT
DTSTAMP:20260423T020724
DTSTART;TZID=Europe/Berlin:20261014T080000
DTEND;TZID=Europe/Berlin:20261014T120000
UID:W46216002-20261014T080000@VHSBÖBLINGEN-SINDELFINGEN
SUMMARY:Deutsch B1, Integrationskurs 6 (W46216002) 
LOCATION:GHH, 101, 1.OG, Böblinger Str. 8, 71065 Sindelfingen
END:VEVENT
BEGIN:VEVENT
DTSTAMP:20260423T020724
DTSTART;TZID=Europe/Berlin:20261015T080000
DTEND;TZID=Europe/Berlin:20261015T120000
UID:W46216002-20261015T080000@VHSBÖBLINGEN-SINDELFINGEN
SUMMARY:Deutsch B1, Integrationskurs 6 (W46216002) 
LOCATION:GHH, 101, 1.OG, Böblinger Str. 8, 71065 Sindelfingen
END:VEVENT
BEGIN:VEVENT
DTSTAMP:20260423T020724
DTSTART;TZID=Europe/Berlin:20261016T080000
DTEND;TZID=Europe/Berlin:20261016T120000
UID:W46216002-20261016T080000@VHSBÖBLINGEN-SINDELFINGEN
SUMMARY:Deutsch B1, Integrationskurs 6 (W46216002) 
LOCATION:GHH, 101, 1.OG, Böblinger Str. 8, 71065 Sindelfingen
END:VEVENT
BEGIN:VEVENT
DTSTAMP:20260423T020724
DTSTART;TZID=Europe/Berlin:20261019T080000
DTEND;TZID=Europe/Berlin:20261019T120000
UID:W46216002-20261019T080000@VHSBÖBLINGEN-SINDELFINGEN
SUMMARY:Deutsch B1, Integrationskurs 6 (W46216002) 
LOCATION:GHH, 101, 1.OG, Böblinger Str. 8, 71065 Sindelfingen
END:VEVENT
BEGIN:VEVENT
DTSTAMP:20260423T020724
DTSTART;TZID=Europe/Berlin:20261020T080000
DTEND;TZID=Europe/Berlin:20261020T120000
UID:W46216002-20261020T080000@VHSBÖBLINGEN-SINDELFINGEN
SUMMARY:Deutsch B1, Integrationskurs 6 (W46216002) 
LOCATION:GHH, 101, 1.OG, Böblinger Str. 8, 71065 Sindelfingen
END:VEVENT
BEGIN:VEVENT
DTSTAMP:20260423T020724
DTSTART;TZID=Europe/Berlin:20261021T080000
DTEND;TZID=Europe/Berlin:20261021T120000
UID:W46216002-20261021T080000@VHSBÖBLINGEN-SINDELFINGEN
SUMMARY:Deutsch B1, Integrationskurs 6 (W46216002) 
LOCATION:GHH, 101, 1.OG, Böblinger Str. 8, 71065 Sindelfingen
END:VEVENT
BEGIN:VEVENT
DTSTAMP:20260423T020724
DTSTART;TZID=Europe/Berlin:20261022T080000
DTEND;TZID=Europe/Berlin:20261022T120000
UID:W46216002-20261022T080000@VHSBÖBLINGEN-SINDELFINGEN
SUMMARY:Deutsch B1, Integrationskurs 6 (W46216002) 
LOCATION:GHH, 101, 1.OG, Böblinger Str. 8, 71065 Sindelfingen
END:VEVENT
BEGIN:VEVENT
DTSTAMP:20260423T020724
DTSTART;TZID=Europe/Berlin:20261023T080000
DTEND;TZID=Europe/Berlin:20261023T120000
UID:W46216002-20261023T080000@VHSBÖBLINGEN-SINDELFINGEN
SUMMARY:Deutsch B1, Integrationskurs 6 (W46216002) 
LOCATION:GHH, 101, 1.OG, Böblinger Str. 8, 71065 Sindelfingen
END:VEVENT
BEGIN:VEVENT
DTSTAMP:20260423T020724
DTSTART;TZID=Europe/Berlin:20261102T080000
DTEND;TZID=Europe/Berlin:20261102T120000
UID:W46216002-20261102T080000@VHSBÖBLINGEN-SINDELFINGEN
SUMMARY:Deutsch B1, Integrationskurs 6 (W46216002) 
LOCATION:GHH, 101, 1.OG, Böblinger Str. 8, 71065 Sindelfingen
END:VEVENT
BEGIN:VEVENT
DTSTAMP:20260423T020724
DTSTART;TZID=Europe/Berlin:20261103T080000
DTEND;TZID=Europe/Berlin:20261103T120000
UID:W46216002-20261103T080000@VHSBÖBLINGEN-SINDELFINGEN
SUMMARY:Deutsch B1, Integrationskurs 6 (W46216002) 
LOCATION:GHH, 101, 1.OG, Böblinger Str. 8, 71065 Sindelfingen
END:VEVENT
BEGIN:VEVENT
DTSTAMP:20260423T020724
DTSTART;TZID=Europe/Berlin:20261104T080000
DTEND;TZID=Europe/Berlin:20261104T120000
UID:W46216002-20261104T080000@VHSBÖBLINGEN-SINDELFINGEN
SUMMARY:Deutsch B1, Integrationskurs 6 (W46216002) 
LOCATION:GHH, 101, 1.OG, Böblinger Str. 8, 71065 Sindelfingen
END:VEVENT
BEGIN:VEVENT
DTSTAMP:20260423T020724
DTSTART;TZID=Europe/Berlin:20261105T080000
DTEND;TZID=Europe/Berlin:20261105T120000
UID:W46216002-20261105T080000@VHSBÖBLINGEN-SINDELFINGEN
SUMMARY:Deutsch B1, Integrationskurs 6 (W46216002) 
LOCATION:GHH, 101, 1.OG, Böblinger Str. 8, 71065 Sindelfingen
END:VEVENT
BEGIN:VEVENT
DTSTAMP:20260423T020724
DTSTART;TZID=Europe/Berlin:20261106T080000
DTEND;TZID=Europe/Berlin:20261106T120000
UID:W46216002-20261106T080000@VHSBÖBLINGEN-SINDELFINGEN
SUMMARY:Deutsch B1, Integrationskurs 6 (W46216002) 
LOCATION:GHH, 101, 1.OG, Böblinger Str. 8, 71065 Sindelfingen
END:VEVENT
BEGIN:VEVENT
DTSTAMP:20260423T020724
DTSTART;TZID=Europe/Berlin:20261109T080000
DTEND;TZID=Europe/Berlin:20261109T120000
UID:W46216002-20261109T080000@VHSBÖBLINGEN-SINDELFINGEN
SUMMARY:Deutsch B1, Integrationskurs 6 (W46216002) 
LOCATION:GHH, 101, 1.OG, Böblinger Str. 8, 71065 Sindelfingen
END:VEVENT
BEGIN:VEVENT
DTSTAMP:20260423T020724
DTSTART;TZID=Europe/Berlin:20261110T080000
DTEND;TZID=Europe/Berlin:20261110T120000
UID:W46216002-20261110T080000@VHSBÖBLINGEN-SINDELFINGEN
SUMMARY:Deutsch B1, Integrationskurs 6 (W46216002) 
LOCATION:GHH, 101, 1.OG, Böblinger Str. 8, 71065 Sindelfingen
END:VEVENT
BEGIN:VEVENT
DTSTAMP:20260423T020724
DTSTART;TZID=Europe/Berlin:20261111T080000
DTEND;TZID=Europe/Berlin:20261111T120000
UID:W46216002-20261111T080000@VHSBÖBLINGEN-SINDELFINGEN
SUMMARY:Deutsch B1, Integrationskurs 6 (W46216002) 
LOCATION:GHH, 101, 1.OG, Böblinger Str. 8, 71065 Sindelfingen
END:VEVENT
BEGIN:VEVENT
DTSTAMP:20260423T020724
DTSTART;TZID=Europe/Berlin:20261112T080000
DTEND;TZID=Europe/Berlin:20261112T120000
UID:W46216002-20261112T080000@VHSBÖBLINGEN-SINDELFINGEN
SUMMARY:Deutsch B1, Integrationskurs 6 (W46216002) 
LOCATION:GHH, 101, 1.OG, Böblinger Str. 8, 71065 Sindelfingen
END:VEVENT
BEGIN:VEVENT
DTSTAMP:20260423T020724
DTSTART;TZID=Europe/Berlin:20261113T080000
DTEND;TZID=Europe/Berlin:20261113T120000
UID:W46216002-20261113T080000@VHSBÖBLINGEN-SINDELFINGEN
SUMMARY:Deutsch B1, Integrationskurs 6 (W46216002) 
LOCATION:GHH, 101, 1.OG, Böblinger Str. 8, 71065 Sindelfingen
END:VEVENT
END:VCALENDAR