BEGIN:VCALENDAR
VERSION:2.0
PRODID:https://www.kufer.de/kuferweb / DE
METHOD:PUBLISH
CALSCALE:GREGORIAN
X-WR-TIMEZONE:Europe/Berlin
BEGIN:VTIMEZONE
TZID:Europe/Berlin
X-LIC-LOCATION:Europe/Berlin
BEGIN:DAYLIGHT
TZOFFSETFROM:+0100
TZOFFSETTO:+0200
TZNAME:CEST
DTSTART:19700329T020000
RRULE:FREQ=YEARLY;INTERVAL=1;BYDAY=-1SU;BYMONTH=3
END:DAYLIGHT
BEGIN:STANDARD
TZOFFSETFROM:+0200
TZOFFSETTO:+0100
TZNAME:CET
DTSTART:19701025T030000
RRULE:FREQ=YEARLY;INTERVAL=1;BYDAY=-1SU;BYMONTH=10
END:STANDARD
END:VTIMEZONE
BEGIN:VEVENT
DTSTAMP:20260423T003713
DTSTART;TZID=Europe/Berlin:20261012T130000
DTEND;TZID=Europe/Berlin:20261012T170000
UID:W46211003-20261012T130000@VHSBÖBLINGEN-SINDELFINGEN
SUMMARY:Deutsch A1, Integrationskurs 1 (W46211003) 
LOCATION:Höfle, 201, 2. OG, Pestalozzistr. 4, 71032 Böblingen
END:VEVENT
BEGIN:VEVENT
DTSTAMP:20260423T003713
DTSTART;TZID=Europe/Berlin:20261013T130000
DTEND;TZID=Europe/Berlin:20261013T170000
UID:W46211003-20261013T130000@VHSBÖBLINGEN-SINDELFINGEN
SUMMARY:Deutsch A1, Integrationskurs 1 (W46211003) 
LOCATION:Höfle, 201, 2. OG, Pestalozzistr. 4, 71032 Böblingen
END:VEVENT
BEGIN:VEVENT
DTSTAMP:20260423T003713
DTSTART;TZID=Europe/Berlin:20261014T130000
DTEND;TZID=Europe/Berlin:20261014T170000
UID:W46211003-20261014T130000@VHSBÖBLINGEN-SINDELFINGEN
SUMMARY:Deutsch A1, Integrationskurs 1 (W46211003) 
LOCATION:Höfle, 201, 2. OG, Pestalozzistr. 4, 71032 Böblingen
END:VEVENT
BEGIN:VEVENT
DTSTAMP:20260423T003713
DTSTART;TZID=Europe/Berlin:20261015T130000
DTEND;TZID=Europe/Berlin:20261015T170000
UID:W46211003-20261015T130000@VHSBÖBLINGEN-SINDELFINGEN
SUMMARY:Deutsch A1, Integrationskurs 1 (W46211003) 
LOCATION:Höfle, 201, 2. OG, Pestalozzistr. 4, 71032 Böblingen
END:VEVENT
BEGIN:VEVENT
DTSTAMP:20260423T003713
DTSTART;TZID=Europe/Berlin:20261016T130000
DTEND;TZID=Europe/Berlin:20261016T170000
UID:W46211003-20261016T130000@VHSBÖBLINGEN-SINDELFINGEN
SUMMARY:Deutsch A1, Integrationskurs 1 (W46211003) 
LOCATION:Höfle, 201, 2. OG, Pestalozzistr. 4, 71032 Böblingen
END:VEVENT
BEGIN:VEVENT
DTSTAMP:20260423T003713
DTSTART;TZID=Europe/Berlin:20261019T130000
DTEND;TZID=Europe/Berlin:20261019T170000
UID:W46211003-20261019T130000@VHSBÖBLINGEN-SINDELFINGEN
SUMMARY:Deutsch A1, Integrationskurs 1 (W46211003) 
LOCATION:Höfle, 201, 2. OG, Pestalozzistr. 4, 71032 Böblingen
END:VEVENT
BEGIN:VEVENT
DTSTAMP:20260423T003713
DTSTART;TZID=Europe/Berlin:20261020T130000
DTEND;TZID=Europe/Berlin:20261020T170000
UID:W46211003-20261020T130000@VHSBÖBLINGEN-SINDELFINGEN
SUMMARY:Deutsch A1, Integrationskurs 1 (W46211003) 
LOCATION:Höfle, 201, 2. OG, Pestalozzistr. 4, 71032 Böblingen
END:VEVENT
BEGIN:VEVENT
DTSTAMP:20260423T003713
DTSTART;TZID=Europe/Berlin:20261021T130000
DTEND;TZID=Europe/Berlin:20261021T170000
UID:W46211003-20261021T130000@VHSBÖBLINGEN-SINDELFINGEN
SUMMARY:Deutsch A1, Integrationskurs 1 (W46211003) 
LOCATION:Höfle, 201, 2. OG, Pestalozzistr. 4, 71032 Böblingen
END:VEVENT
BEGIN:VEVENT
DTSTAMP:20260423T003713
DTSTART;TZID=Europe/Berlin:20261022T130000
DTEND;TZID=Europe/Berlin:20261022T170000
UID:W46211003-20261022T130000@VHSBÖBLINGEN-SINDELFINGEN
SUMMARY:Deutsch A1, Integrationskurs 1 (W46211003) 
LOCATION:Höfle, 201, 2. OG, Pestalozzistr. 4, 71032 Böblingen
END:VEVENT
BEGIN:VEVENT
DTSTAMP:20260423T003713
DTSTART;TZID=Europe/Berlin:20261023T130000
DTEND;TZID=Europe/Berlin:20261023T170000
UID:W46211003-20261023T130000@VHSBÖBLINGEN-SINDELFINGEN
SUMMARY:Deutsch A1, Integrationskurs 1 (W46211003) 
LOCATION:Höfle, 201, 2. OG, Pestalozzistr. 4, 71032 Böblingen
END:VEVENT
BEGIN:VEVENT
DTSTAMP:20260423T003713
DTSTART;TZID=Europe/Berlin:20261102T130000
DTEND;TZID=Europe/Berlin:20261102T170000
UID:W46211003-20261102T130000@VHSBÖBLINGEN-SINDELFINGEN
SUMMARY:Deutsch A1, Integrationskurs 1 (W46211003) 
LOCATION:Höfle, 201, 2. OG, Pestalozzistr. 4, 71032 Böblingen
END:VEVENT
BEGIN:VEVENT
DTSTAMP:20260423T003713
DTSTART;TZID=Europe/Berlin:20261103T130000
DTEND;TZID=Europe/Berlin:20261103T170000
UID:W46211003-20261103T130000@VHSBÖBLINGEN-SINDELFINGEN
SUMMARY:Deutsch A1, Integrationskurs 1 (W46211003) 
LOCATION:Höfle, 201, 2. OG, Pestalozzistr. 4, 71032 Böblingen
END:VEVENT
BEGIN:VEVENT
DTSTAMP:20260423T003713
DTSTART;TZID=Europe/Berlin:20261104T130000
DTEND;TZID=Europe/Berlin:20261104T170000
UID:W46211003-20261104T130000@VHSBÖBLINGEN-SINDELFINGEN
SUMMARY:Deutsch A1, Integrationskurs 1 (W46211003) 
LOCATION:Höfle, 201, 2. OG, Pestalozzistr. 4, 71032 Böblingen
END:VEVENT
BEGIN:VEVENT
DTSTAMP:20260423T003713
DTSTART;TZID=Europe/Berlin:20261105T130000
DTEND;TZID=Europe/Berlin:20261105T170000
UID:W46211003-20261105T130000@VHSBÖBLINGEN-SINDELFINGEN
SUMMARY:Deutsch A1, Integrationskurs 1 (W46211003) 
LOCATION:Höfle, 201, 2. OG, Pestalozzistr. 4, 71032 Böblingen
END:VEVENT
BEGIN:VEVENT
DTSTAMP:20260423T003713
DTSTART;TZID=Europe/Berlin:20261106T130000
DTEND;TZID=Europe/Berlin:20261106T170000
UID:W46211003-20261106T130000@VHSBÖBLINGEN-SINDELFINGEN
SUMMARY:Deutsch A1, Integrationskurs 1 (W46211003) 
LOCATION:Höfle, 201, 2. OG, Pestalozzistr. 4, 71032 Böblingen
END:VEVENT
BEGIN:VEVENT
DTSTAMP:20260423T003713
DTSTART;TZID=Europe/Berlin:20261109T130000
DTEND;TZID=Europe/Berlin:20261109T170000
UID:W46211003-20261109T130000@VHSBÖBLINGEN-SINDELFINGEN
SUMMARY:Deutsch A1, Integrationskurs 1 (W46211003) 
LOCATION:Höfle, 201, 2. OG, Pestalozzistr. 4, 71032 Böblingen
END:VEVENT
BEGIN:VEVENT
DTSTAMP:20260423T003713
DTSTART;TZID=Europe/Berlin:20261110T130000
DTEND;TZID=Europe/Berlin:20261110T170000
UID:W46211003-20261110T130000@VHSBÖBLINGEN-SINDELFINGEN
SUMMARY:Deutsch A1, Integrationskurs 1 (W46211003) 
LOCATION:Höfle, 201, 2. OG, Pestalozzistr. 4, 71032 Böblingen
END:VEVENT
BEGIN:VEVENT
DTSTAMP:20260423T003713
DTSTART;TZID=Europe/Berlin:20261111T130000
DTEND;TZID=Europe/Berlin:20261111T170000
UID:W46211003-20261111T130000@VHSBÖBLINGEN-SINDELFINGEN
SUMMARY:Deutsch A1, Integrationskurs 1 (W46211003) 
LOCATION:Höfle, 201, 2. OG, Pestalozzistr. 4, 71032 Böblingen
END:VEVENT
BEGIN:VEVENT
DTSTAMP:20260423T003713
DTSTART;TZID=Europe/Berlin:20261112T130000
DTEND;TZID=Europe/Berlin:20261112T170000
UID:W46211003-20261112T130000@VHSBÖBLINGEN-SINDELFINGEN
SUMMARY:Deutsch A1, Integrationskurs 1 (W46211003) 
LOCATION:Höfle, 201, 2. OG, Pestalozzistr. 4, 71032 Böblingen
END:VEVENT
BEGIN:VEVENT
DTSTAMP:20260423T003713
DTSTART;TZID=Europe/Berlin:20261113T130000
DTEND;TZID=Europe/Berlin:20261113T170000
UID:W46211003-20261113T130000@VHSBÖBLINGEN-SINDELFINGEN
SUMMARY:Deutsch A1, Integrationskurs 1 (W46211003) 
LOCATION:Höfle, 201, 2. OG, Pestalozzistr. 4, 71032 Böblingen
END:VEVENT
END:VCALENDAR