BEGIN:VCALENDAR
VERSION:2.0
PRODID:https://www.kufer.de/kuferweb / DE
METHOD:PUBLISH
CALSCALE:GREGORIAN
X-WR-TIMEZONE:Europe/Berlin
BEGIN:VTIMEZONE
TZID:Europe/Berlin
X-LIC-LOCATION:Europe/Berlin
BEGIN:DAYLIGHT
TZOFFSETFROM:+0100
TZOFFSETTO:+0200
TZNAME:CEST
DTSTART:19700329T020000
RRULE:FREQ=YEARLY;INTERVAL=1;BYDAY=-1SU;BYMONTH=3
END:DAYLIGHT
BEGIN:STANDARD
TZOFFSETFROM:+0200
TZOFFSETTO:+0100
TZNAME:CET
DTSTART:19701025T030000
RRULE:FREQ=YEARLY;INTERVAL=1;BYDAY=-1SU;BYMONTH=10
END:STANDARD
END:VTIMEZONE
BEGIN:VEVENT
DTSTAMP:20260422T172902
DTSTART;TZID=Europe/Berlin:20260914T123000
DTEND;TZID=Europe/Berlin:20260914T163000
UID:W46126003-20260914T123000@VHSBÖBLINGEN-SINDELFINGEN
SUMMARY:Deutsch A1, Integrationskurs GL 6 (W46126003) 
LOCATION:Höfle, 001, EG, Pestalozzistr. 4, 71032 Böblingen
END:VEVENT
BEGIN:VEVENT
DTSTAMP:20260422T172902
DTSTART;TZID=Europe/Berlin:20260915T123000
DTEND;TZID=Europe/Berlin:20260915T163000
UID:W46126003-20260915T123000@VHSBÖBLINGEN-SINDELFINGEN
SUMMARY:Deutsch A1, Integrationskurs GL 6 (W46126003) 
LOCATION:Höfle, 001, EG, Pestalozzistr. 4, 71032 Böblingen
END:VEVENT
BEGIN:VEVENT
DTSTAMP:20260422T172902
DTSTART;TZID=Europe/Berlin:20260916T123000
DTEND;TZID=Europe/Berlin:20260916T163000
UID:W46126003-20260916T123000@VHSBÖBLINGEN-SINDELFINGEN
SUMMARY:Deutsch A1, Integrationskurs GL 6 (W46126003) 
LOCATION:Höfle, 001, EG, Pestalozzistr. 4, 71032 Böblingen
END:VEVENT
BEGIN:VEVENT
DTSTAMP:20260422T172902
DTSTART;TZID=Europe/Berlin:20260917T123000
DTEND;TZID=Europe/Berlin:20260917T163000
UID:W46126003-20260917T123000@VHSBÖBLINGEN-SINDELFINGEN
SUMMARY:Deutsch A1, Integrationskurs GL 6 (W46126003) 
LOCATION:Höfle, 001, EG, Pestalozzistr. 4, 71032 Böblingen
END:VEVENT
BEGIN:VEVENT
DTSTAMP:20260422T172902
DTSTART;TZID=Europe/Berlin:20260918T123000
DTEND;TZID=Europe/Berlin:20260918T163000
UID:W46126003-20260918T123000@VHSBÖBLINGEN-SINDELFINGEN
SUMMARY:Deutsch A1, Integrationskurs GL 6 (W46126003) 
LOCATION:Höfle, 001, EG, Pestalozzistr. 4, 71032 Böblingen
END:VEVENT
BEGIN:VEVENT
DTSTAMP:20260422T172902
DTSTART;TZID=Europe/Berlin:20260921T123000
DTEND;TZID=Europe/Berlin:20260921T163000
UID:W46126003-20260921T123000@VHSBÖBLINGEN-SINDELFINGEN
SUMMARY:Deutsch A1, Integrationskurs GL 6 (W46126003) 
LOCATION:Höfle, 001, EG, Pestalozzistr. 4, 71032 Böblingen
END:VEVENT
BEGIN:VEVENT
DTSTAMP:20260422T172902
DTSTART;TZID=Europe/Berlin:20260922T123000
DTEND;TZID=Europe/Berlin:20260922T163000
UID:W46126003-20260922T123000@VHSBÖBLINGEN-SINDELFINGEN
SUMMARY:Deutsch A1, Integrationskurs GL 6 (W46126003) 
LOCATION:Höfle, 001, EG, Pestalozzistr. 4, 71032 Böblingen
END:VEVENT
BEGIN:VEVENT
DTSTAMP:20260422T172902
DTSTART;TZID=Europe/Berlin:20260923T123000
DTEND;TZID=Europe/Berlin:20260923T163000
UID:W46126003-20260923T123000@VHSBÖBLINGEN-SINDELFINGEN
SUMMARY:Deutsch A1, Integrationskurs GL 6 (W46126003) 
LOCATION:Höfle, 001, EG, Pestalozzistr. 4, 71032 Böblingen
END:VEVENT
BEGIN:VEVENT
DTSTAMP:20260422T172902
DTSTART;TZID=Europe/Berlin:20260924T123000
DTEND;TZID=Europe/Berlin:20260924T163000
UID:W46126003-20260924T123000@VHSBÖBLINGEN-SINDELFINGEN
SUMMARY:Deutsch A1, Integrationskurs GL 6 (W46126003) 
LOCATION:Höfle, 001, EG, Pestalozzistr. 4, 71032 Böblingen
END:VEVENT
BEGIN:VEVENT
DTSTAMP:20260422T172902
DTSTART;TZID=Europe/Berlin:20260925T123000
DTEND;TZID=Europe/Berlin:20260925T163000
UID:W46126003-20260925T123000@VHSBÖBLINGEN-SINDELFINGEN
SUMMARY:Deutsch A1, Integrationskurs GL 6 (W46126003) 
LOCATION:Höfle, 001, EG, Pestalozzistr. 4, 71032 Böblingen
END:VEVENT
BEGIN:VEVENT
DTSTAMP:20260422T172902
DTSTART;TZID=Europe/Berlin:20260928T123000
DTEND;TZID=Europe/Berlin:20260928T163000
UID:W46126003-20260928T123000@VHSBÖBLINGEN-SINDELFINGEN
SUMMARY:Deutsch A1, Integrationskurs GL 6 (W46126003) 
LOCATION:Höfle, 001, EG, Pestalozzistr. 4, 71032 Böblingen
END:VEVENT
BEGIN:VEVENT
DTSTAMP:20260422T172902
DTSTART;TZID=Europe/Berlin:20260929T123000
DTEND;TZID=Europe/Berlin:20260929T163000
UID:W46126003-20260929T123000@VHSBÖBLINGEN-SINDELFINGEN
SUMMARY:Deutsch A1, Integrationskurs GL 6 (W46126003) 
LOCATION:Höfle, 001, EG, Pestalozzistr. 4, 71032 Böblingen
END:VEVENT
BEGIN:VEVENT
DTSTAMP:20260422T172902
DTSTART;TZID=Europe/Berlin:20260930T123000
DTEND;TZID=Europe/Berlin:20260930T163000
UID:W46126003-20260930T123000@VHSBÖBLINGEN-SINDELFINGEN
SUMMARY:Deutsch A1, Integrationskurs GL 6 (W46126003) 
LOCATION:Höfle, 001, EG, Pestalozzistr. 4, 71032 Böblingen
END:VEVENT
BEGIN:VEVENT
DTSTAMP:20260422T172902
DTSTART;TZID=Europe/Berlin:20261001T123000
DTEND;TZID=Europe/Berlin:20261001T163000
UID:W46126003-20261001T123000@VHSBÖBLINGEN-SINDELFINGEN
SUMMARY:Deutsch A1, Integrationskurs GL 6 (W46126003) 
LOCATION:Höfle, 001, EG, Pestalozzistr. 4, 71032 Böblingen
END:VEVENT
BEGIN:VEVENT
DTSTAMP:20260422T172902
DTSTART;TZID=Europe/Berlin:20261002T123000
DTEND;TZID=Europe/Berlin:20261002T163000
UID:W46126003-20261002T123000@VHSBÖBLINGEN-SINDELFINGEN
SUMMARY:Deutsch A1, Integrationskurs GL 6 (W46126003) 
LOCATION:Höfle, 001, EG, Pestalozzistr. 4, 71032 Böblingen
END:VEVENT
BEGIN:VEVENT
DTSTAMP:20260422T172902
DTSTART;TZID=Europe/Berlin:20261005T123000
DTEND;TZID=Europe/Berlin:20261005T163000
UID:W46126003-20261005T123000@VHSBÖBLINGEN-SINDELFINGEN
SUMMARY:Deutsch A1, Integrationskurs GL 6 (W46126003) 
LOCATION:Höfle, 001, EG, Pestalozzistr. 4, 71032 Böblingen
END:VEVENT
BEGIN:VEVENT
DTSTAMP:20260422T172902
DTSTART;TZID=Europe/Berlin:20261006T123000
DTEND;TZID=Europe/Berlin:20261006T163000
UID:W46126003-20261006T123000@VHSBÖBLINGEN-SINDELFINGEN
SUMMARY:Deutsch A1, Integrationskurs GL 6 (W46126003) 
LOCATION:Höfle, 001, EG, Pestalozzistr. 4, 71032 Böblingen
END:VEVENT
BEGIN:VEVENT
DTSTAMP:20260422T172902
DTSTART;TZID=Europe/Berlin:20261007T123000
DTEND;TZID=Europe/Berlin:20261007T163000
UID:W46126003-20261007T123000@VHSBÖBLINGEN-SINDELFINGEN
SUMMARY:Deutsch A1, Integrationskurs GL 6 (W46126003) 
LOCATION:Höfle, 001, EG, Pestalozzistr. 4, 71032 Böblingen
END:VEVENT
BEGIN:VEVENT
DTSTAMP:20260422T172902
DTSTART;TZID=Europe/Berlin:20261008T123000
DTEND;TZID=Europe/Berlin:20261008T163000
UID:W46126003-20261008T123000@VHSBÖBLINGEN-SINDELFINGEN
SUMMARY:Deutsch A1, Integrationskurs GL 6 (W46126003) 
LOCATION:Höfle, 001, EG, Pestalozzistr. 4, 71032 Böblingen
END:VEVENT
BEGIN:VEVENT
DTSTAMP:20260422T172902
DTSTART;TZID=Europe/Berlin:20261009T123000
DTEND;TZID=Europe/Berlin:20261009T163000
UID:W46126003-20261009T123000@VHSBÖBLINGEN-SINDELFINGEN
SUMMARY:Deutsch A1, Integrationskurs GL 6 (W46126003) 
LOCATION:Höfle, 001, EG, Pestalozzistr. 4, 71032 Böblingen
END:VEVENT
END:VCALENDAR