BEGIN:VCALENDAR
VERSION:2.0
PRODID:https://www.kufer.de/kuferweb / DE
METHOD:PUBLISH
CALSCALE:GREGORIAN
X-WR-TIMEZONE:Europe/Berlin
BEGIN:VTIMEZONE
TZID:Europe/Berlin
X-LIC-LOCATION:Europe/Berlin
BEGIN:DAYLIGHT
TZOFFSETFROM:+0100
TZOFFSETTO:+0200
TZNAME:CEST
DTSTART:19700329T020000
RRULE:FREQ=YEARLY;INTERVAL=1;BYDAY=-1SU;BYMONTH=3
END:DAYLIGHT
BEGIN:STANDARD
TZOFFSETFROM:+0200
TZOFFSETTO:+0100
TZNAME:CET
DTSTART:19701025T030000
RRULE:FREQ=YEARLY;INTERVAL=1;BYDAY=-1SU;BYMONTH=10
END:STANDARD
END:VTIMEZONE
BEGIN:VEVENT
DTSTAMP:20260423T034359
DTSTART;TZID=Europe/Berlin:20260914T080000
DTEND;TZID=Europe/Berlin:20260914T120000
UID:W46125001-20260914T080000@VHSBÖBLINGEN-SINDELFINGEN
SUMMARY:Deutsch A1, Integrationskurs GL 5 (W46125001) 
LOCATION:Höfle, 103, 1. OG, Pestalozzistr. 4, 71032 Böblingen
END:VEVENT
BEGIN:VEVENT
DTSTAMP:20260423T034359
DTSTART;TZID=Europe/Berlin:20260915T080000
DTEND;TZID=Europe/Berlin:20260915T120000
UID:W46125001-20260915T080000@VHSBÖBLINGEN-SINDELFINGEN
SUMMARY:Deutsch A1, Integrationskurs GL 5 (W46125001) 
LOCATION:Höfle, 103, 1. OG, Pestalozzistr. 4, 71032 Böblingen
END:VEVENT
BEGIN:VEVENT
DTSTAMP:20260423T034359
DTSTART;TZID=Europe/Berlin:20260917T080000
DTEND;TZID=Europe/Berlin:20260917T120000
UID:W46125001-20260917T080000@VHSBÖBLINGEN-SINDELFINGEN
SUMMARY:Deutsch A1, Integrationskurs GL 5 (W46125001) 
LOCATION:Höfle, 103, 1. OG, Pestalozzistr. 4, 71032 Böblingen
END:VEVENT
BEGIN:VEVENT
DTSTAMP:20260423T034359
DTSTART;TZID=Europe/Berlin:20260918T080000
DTEND;TZID=Europe/Berlin:20260918T120000
UID:W46125001-20260918T080000@VHSBÖBLINGEN-SINDELFINGEN
SUMMARY:Deutsch A1, Integrationskurs GL 5 (W46125001) 
LOCATION:Höfle, 103, 1. OG, Pestalozzistr. 4, 71032 Böblingen
END:VEVENT
BEGIN:VEVENT
DTSTAMP:20260423T034359
DTSTART;TZID=Europe/Berlin:20260921T080000
DTEND;TZID=Europe/Berlin:20260921T120000
UID:W46125001-20260921T080000@VHSBÖBLINGEN-SINDELFINGEN
SUMMARY:Deutsch A1, Integrationskurs GL 5 (W46125001) 
LOCATION:Höfle, 103, 1. OG, Pestalozzistr. 4, 71032 Böblingen
END:VEVENT
BEGIN:VEVENT
DTSTAMP:20260423T034359
DTSTART;TZID=Europe/Berlin:20260922T080000
DTEND;TZID=Europe/Berlin:20260922T120000
UID:W46125001-20260922T080000@VHSBÖBLINGEN-SINDELFINGEN
SUMMARY:Deutsch A1, Integrationskurs GL 5 (W46125001) 
LOCATION:Höfle, 103, 1. OG, Pestalozzistr. 4, 71032 Böblingen
END:VEVENT
BEGIN:VEVENT
DTSTAMP:20260423T034359
DTSTART;TZID=Europe/Berlin:20260924T080000
DTEND;TZID=Europe/Berlin:20260924T120000
UID:W46125001-20260924T080000@VHSBÖBLINGEN-SINDELFINGEN
SUMMARY:Deutsch A1, Integrationskurs GL 5 (W46125001) 
LOCATION:Höfle, 103, 1. OG, Pestalozzistr. 4, 71032 Böblingen
END:VEVENT
BEGIN:VEVENT
DTSTAMP:20260423T034359
DTSTART;TZID=Europe/Berlin:20260925T080000
DTEND;TZID=Europe/Berlin:20260925T120000
UID:W46125001-20260925T080000@VHSBÖBLINGEN-SINDELFINGEN
SUMMARY:Deutsch A1, Integrationskurs GL 5 (W46125001) 
LOCATION:Höfle, 103, 1. OG, Pestalozzistr. 4, 71032 Böblingen
END:VEVENT
BEGIN:VEVENT
DTSTAMP:20260423T034359
DTSTART;TZID=Europe/Berlin:20260928T080000
DTEND;TZID=Europe/Berlin:20260928T120000
UID:W46125001-20260928T080000@VHSBÖBLINGEN-SINDELFINGEN
SUMMARY:Deutsch A1, Integrationskurs GL 5 (W46125001) 
LOCATION:Höfle, 103, 1. OG, Pestalozzistr. 4, 71032 Böblingen
END:VEVENT
BEGIN:VEVENT
DTSTAMP:20260423T034359
DTSTART;TZID=Europe/Berlin:20260929T080000
DTEND;TZID=Europe/Berlin:20260929T120000
UID:W46125001-20260929T080000@VHSBÖBLINGEN-SINDELFINGEN
SUMMARY:Deutsch A1, Integrationskurs GL 5 (W46125001) 
LOCATION:Höfle, 103, 1. OG, Pestalozzistr. 4, 71032 Böblingen
END:VEVENT
BEGIN:VEVENT
DTSTAMP:20260423T034359
DTSTART;TZID=Europe/Berlin:20261001T080000
DTEND;TZID=Europe/Berlin:20261001T120000
UID:W46125001-20261001T080000@VHSBÖBLINGEN-SINDELFINGEN
SUMMARY:Deutsch A1, Integrationskurs GL 5 (W46125001) 
LOCATION:Höfle, 103, 1. OG, Pestalozzistr. 4, 71032 Böblingen
END:VEVENT
BEGIN:VEVENT
DTSTAMP:20260423T034359
DTSTART;TZID=Europe/Berlin:20261002T080000
DTEND;TZID=Europe/Berlin:20261002T120000
UID:W46125001-20261002T080000@VHSBÖBLINGEN-SINDELFINGEN
SUMMARY:Deutsch A1, Integrationskurs GL 5 (W46125001) 
LOCATION:Höfle, 103, 1. OG, Pestalozzistr. 4, 71032 Böblingen
END:VEVENT
BEGIN:VEVENT
DTSTAMP:20260423T034359
DTSTART;TZID=Europe/Berlin:20261005T080000
DTEND;TZID=Europe/Berlin:20261005T120000
UID:W46125001-20261005T080000@VHSBÖBLINGEN-SINDELFINGEN
SUMMARY:Deutsch A1, Integrationskurs GL 5 (W46125001) 
LOCATION:Höfle, 103, 1. OG, Pestalozzistr. 4, 71032 Böblingen
END:VEVENT
BEGIN:VEVENT
DTSTAMP:20260423T034359
DTSTART;TZID=Europe/Berlin:20261006T080000
DTEND;TZID=Europe/Berlin:20261006T120000
UID:W46125001-20261006T080000@VHSBÖBLINGEN-SINDELFINGEN
SUMMARY:Deutsch A1, Integrationskurs GL 5 (W46125001) 
LOCATION:Höfle, 103, 1. OG, Pestalozzistr. 4, 71032 Böblingen
END:VEVENT
BEGIN:VEVENT
DTSTAMP:20260423T034359
DTSTART;TZID=Europe/Berlin:20261008T080000
DTEND;TZID=Europe/Berlin:20261008T120000
UID:W46125001-20261008T080000@VHSBÖBLINGEN-SINDELFINGEN
SUMMARY:Deutsch A1, Integrationskurs GL 5 (W46125001) 
LOCATION:Höfle, 103, 1. OG, Pestalozzistr. 4, 71032 Böblingen
END:VEVENT
BEGIN:VEVENT
DTSTAMP:20260423T034359
DTSTART;TZID=Europe/Berlin:20261009T080000
DTEND;TZID=Europe/Berlin:20261009T120000
UID:W46125001-20261009T080000@VHSBÖBLINGEN-SINDELFINGEN
SUMMARY:Deutsch A1, Integrationskurs GL 5 (W46125001) 
LOCATION:Höfle, 103, 1. OG, Pestalozzistr. 4, 71032 Böblingen
END:VEVENT
BEGIN:VEVENT
DTSTAMP:20260423T034359
DTSTART;TZID=Europe/Berlin:20261012T080000
DTEND;TZID=Europe/Berlin:20261012T120000
UID:W46125001-20261012T080000@VHSBÖBLINGEN-SINDELFINGEN
SUMMARY:Deutsch A1, Integrationskurs GL 5 (W46125001) 
LOCATION:Höfle, 103, 1. OG, Pestalozzistr. 4, 71032 Böblingen
END:VEVENT
BEGIN:VEVENT
DTSTAMP:20260423T034359
DTSTART;TZID=Europe/Berlin:20261013T080000
DTEND;TZID=Europe/Berlin:20261013T120000
UID:W46125001-20261013T080000@VHSBÖBLINGEN-SINDELFINGEN
SUMMARY:Deutsch A1, Integrationskurs GL 5 (W46125001) 
LOCATION:Höfle, 103, 1. OG, Pestalozzistr. 4, 71032 Böblingen
END:VEVENT
BEGIN:VEVENT
DTSTAMP:20260423T034359
DTSTART;TZID=Europe/Berlin:20261015T080000
DTEND;TZID=Europe/Berlin:20261015T120000
UID:W46125001-20261015T080000@VHSBÖBLINGEN-SINDELFINGEN
SUMMARY:Deutsch A1, Integrationskurs GL 5 (W46125001) 
LOCATION:Höfle, 103, 1. OG, Pestalozzistr. 4, 71032 Böblingen
END:VEVENT
BEGIN:VEVENT
DTSTAMP:20260423T034359
DTSTART;TZID=Europe/Berlin:20261016T080000
DTEND;TZID=Europe/Berlin:20261016T120000
UID:W46125001-20261016T080000@VHSBÖBLINGEN-SINDELFINGEN
SUMMARY:Deutsch A1, Integrationskurs GL 5 (W46125001) 
LOCATION:Höfle, 103, 1. OG, Pestalozzistr. 4, 71032 Böblingen
END:VEVENT
END:VCALENDAR