BEGIN:VCALENDAR
VERSION:2.0
PRODID:https://www.kufer.de/kuferweb / DE
METHOD:PUBLISH
CALSCALE:GREGORIAN
X-WR-TIMEZONE:Europe/Berlin
BEGIN:VTIMEZONE
TZID:Europe/Berlin
X-LIC-LOCATION:Europe/Berlin
BEGIN:DAYLIGHT
TZOFFSETFROM:+0100
TZOFFSETTO:+0200
TZNAME:CEST
DTSTART:19700329T020000
RRULE:FREQ=YEARLY;INTERVAL=1;BYDAY=-1SU;BYMONTH=3
END:DAYLIGHT
BEGIN:STANDARD
TZOFFSETFROM:+0200
TZOFFSETTO:+0100
TZNAME:CET
DTSTART:19701025T030000
RRULE:FREQ=YEARLY;INTERVAL=1;BYDAY=-1SU;BYMONTH=10
END:STANDARD
END:VTIMEZONE
BEGIN:VEVENT
DTSTAMP:20260422T212756
DTSTART;TZID=Europe/Berlin:20260914T130000
DTEND;TZID=Europe/Berlin:20260914T170000
UID:W46115003-20260914T130000@VHSBÖBLINGEN-SINDELFINGEN
SUMMARY:Deutsch B1, Integrationskurs 5 (W46115003) 
LOCATION:Höfle, 003, EG, Pestalozzistr. 4, 71032 Böblingen
END:VEVENT
BEGIN:VEVENT
DTSTAMP:20260422T212756
DTSTART;TZID=Europe/Berlin:20260915T130000
DTEND;TZID=Europe/Berlin:20260915T170000
UID:W46115003-20260915T130000@VHSBÖBLINGEN-SINDELFINGEN
SUMMARY:Deutsch B1, Integrationskurs 5 (W46115003) 
LOCATION:Höfle, 003, EG, Pestalozzistr. 4, 71032 Böblingen
END:VEVENT
BEGIN:VEVENT
DTSTAMP:20260422T212756
DTSTART;TZID=Europe/Berlin:20260916T130000
DTEND;TZID=Europe/Berlin:20260916T170000
UID:W46115003-20260916T130000@VHSBÖBLINGEN-SINDELFINGEN
SUMMARY:Deutsch B1, Integrationskurs 5 (W46115003) 
LOCATION:Höfle, 003, EG, Pestalozzistr. 4, 71032 Böblingen
END:VEVENT
BEGIN:VEVENT
DTSTAMP:20260422T212756
DTSTART;TZID=Europe/Berlin:20260917T130000
DTEND;TZID=Europe/Berlin:20260917T170000
UID:W46115003-20260917T130000@VHSBÖBLINGEN-SINDELFINGEN
SUMMARY:Deutsch B1, Integrationskurs 5 (W46115003) 
LOCATION:Höfle, 003, EG, Pestalozzistr. 4, 71032 Böblingen
END:VEVENT
BEGIN:VEVENT
DTSTAMP:20260422T212756
DTSTART;TZID=Europe/Berlin:20260918T130000
DTEND;TZID=Europe/Berlin:20260918T170000
UID:W46115003-20260918T130000@VHSBÖBLINGEN-SINDELFINGEN
SUMMARY:Deutsch B1, Integrationskurs 5 (W46115003) 
LOCATION:Höfle, 003, EG, Pestalozzistr. 4, 71032 Böblingen
END:VEVENT
BEGIN:VEVENT
DTSTAMP:20260422T212756
DTSTART;TZID=Europe/Berlin:20260921T130000
DTEND;TZID=Europe/Berlin:20260921T170000
UID:W46115003-20260921T130000@VHSBÖBLINGEN-SINDELFINGEN
SUMMARY:Deutsch B1, Integrationskurs 5 (W46115003) 
LOCATION:Höfle, 003, EG, Pestalozzistr. 4, 71032 Böblingen
END:VEVENT
BEGIN:VEVENT
DTSTAMP:20260422T212756
DTSTART;TZID=Europe/Berlin:20260922T130000
DTEND;TZID=Europe/Berlin:20260922T170000
UID:W46115003-20260922T130000@VHSBÖBLINGEN-SINDELFINGEN
SUMMARY:Deutsch B1, Integrationskurs 5 (W46115003) 
LOCATION:Höfle, 003, EG, Pestalozzistr. 4, 71032 Böblingen
END:VEVENT
BEGIN:VEVENT
DTSTAMP:20260422T212756
DTSTART;TZID=Europe/Berlin:20260923T130000
DTEND;TZID=Europe/Berlin:20260923T170000
UID:W46115003-20260923T130000@VHSBÖBLINGEN-SINDELFINGEN
SUMMARY:Deutsch B1, Integrationskurs 5 (W46115003) 
LOCATION:Höfle, 003, EG, Pestalozzistr. 4, 71032 Böblingen
END:VEVENT
BEGIN:VEVENT
DTSTAMP:20260422T212756
DTSTART;TZID=Europe/Berlin:20260924T130000
DTEND;TZID=Europe/Berlin:20260924T170000
UID:W46115003-20260924T130000@VHSBÖBLINGEN-SINDELFINGEN
SUMMARY:Deutsch B1, Integrationskurs 5 (W46115003) 
LOCATION:Höfle, 003, EG, Pestalozzistr. 4, 71032 Böblingen
END:VEVENT
BEGIN:VEVENT
DTSTAMP:20260422T212756
DTSTART;TZID=Europe/Berlin:20260925T130000
DTEND;TZID=Europe/Berlin:20260925T170000
UID:W46115003-20260925T130000@VHSBÖBLINGEN-SINDELFINGEN
SUMMARY:Deutsch B1, Integrationskurs 5 (W46115003) 
LOCATION:Höfle, 003, EG, Pestalozzistr. 4, 71032 Böblingen
END:VEVENT
BEGIN:VEVENT
DTSTAMP:20260422T212756
DTSTART;TZID=Europe/Berlin:20260928T130000
DTEND;TZID=Europe/Berlin:20260928T170000
UID:W46115003-20260928T130000@VHSBÖBLINGEN-SINDELFINGEN
SUMMARY:Deutsch B1, Integrationskurs 5 (W46115003) 
LOCATION:Höfle, 003, EG, Pestalozzistr. 4, 71032 Böblingen
END:VEVENT
BEGIN:VEVENT
DTSTAMP:20260422T212756
DTSTART;TZID=Europe/Berlin:20260929T130000
DTEND;TZID=Europe/Berlin:20260929T170000
UID:W46115003-20260929T130000@VHSBÖBLINGEN-SINDELFINGEN
SUMMARY:Deutsch B1, Integrationskurs 5 (W46115003) 
LOCATION:Höfle, 003, EG, Pestalozzistr. 4, 71032 Böblingen
END:VEVENT
BEGIN:VEVENT
DTSTAMP:20260422T212756
DTSTART;TZID=Europe/Berlin:20260930T130000
DTEND;TZID=Europe/Berlin:20260930T170000
UID:W46115003-20260930T130000@VHSBÖBLINGEN-SINDELFINGEN
SUMMARY:Deutsch B1, Integrationskurs 5 (W46115003) 
LOCATION:Höfle, 003, EG, Pestalozzistr. 4, 71032 Böblingen
END:VEVENT
BEGIN:VEVENT
DTSTAMP:20260422T212756
DTSTART;TZID=Europe/Berlin:20261001T130000
DTEND;TZID=Europe/Berlin:20261001T170000
UID:W46115003-20261001T130000@VHSBÖBLINGEN-SINDELFINGEN
SUMMARY:Deutsch B1, Integrationskurs 5 (W46115003) 
LOCATION:Höfle, 003, EG, Pestalozzistr. 4, 71032 Böblingen
END:VEVENT
BEGIN:VEVENT
DTSTAMP:20260422T212756
DTSTART;TZID=Europe/Berlin:20261002T130000
DTEND;TZID=Europe/Berlin:20261002T170000
UID:W46115003-20261002T130000@VHSBÖBLINGEN-SINDELFINGEN
SUMMARY:Deutsch B1, Integrationskurs 5 (W46115003) 
LOCATION:Höfle, 003, EG, Pestalozzistr. 4, 71032 Böblingen
END:VEVENT
BEGIN:VEVENT
DTSTAMP:20260422T212756
DTSTART;TZID=Europe/Berlin:20261005T130000
DTEND;TZID=Europe/Berlin:20261005T170000
UID:W46115003-20261005T130000@VHSBÖBLINGEN-SINDELFINGEN
SUMMARY:Deutsch B1, Integrationskurs 5 (W46115003) 
LOCATION:Höfle, 003, EG, Pestalozzistr. 4, 71032 Böblingen
END:VEVENT
BEGIN:VEVENT
DTSTAMP:20260422T212756
DTSTART;TZID=Europe/Berlin:20261006T130000
DTEND;TZID=Europe/Berlin:20261006T170000
UID:W46115003-20261006T130000@VHSBÖBLINGEN-SINDELFINGEN
SUMMARY:Deutsch B1, Integrationskurs 5 (W46115003) 
LOCATION:Höfle, 003, EG, Pestalozzistr. 4, 71032 Böblingen
END:VEVENT
BEGIN:VEVENT
DTSTAMP:20260422T212756
DTSTART;TZID=Europe/Berlin:20261007T130000
DTEND;TZID=Europe/Berlin:20261007T170000
UID:W46115003-20261007T130000@VHSBÖBLINGEN-SINDELFINGEN
SUMMARY:Deutsch B1, Integrationskurs 5 (W46115003) 
LOCATION:Höfle, 003, EG, Pestalozzistr. 4, 71032 Böblingen
END:VEVENT
BEGIN:VEVENT
DTSTAMP:20260422T212756
DTSTART;TZID=Europe/Berlin:20261008T130000
DTEND;TZID=Europe/Berlin:20261008T170000
UID:W46115003-20261008T130000@VHSBÖBLINGEN-SINDELFINGEN
SUMMARY:Deutsch B1, Integrationskurs 5 (W46115003) 
LOCATION:Höfle, 003, EG, Pestalozzistr. 4, 71032 Böblingen
END:VEVENT
BEGIN:VEVENT
DTSTAMP:20260422T212756
DTSTART;TZID=Europe/Berlin:20261009T130000
DTEND;TZID=Europe/Berlin:20261009T170000
UID:W46115003-20261009T130000@VHSBÖBLINGEN-SINDELFINGEN
SUMMARY:Deutsch B1, Integrationskurs 5 (W46115003) 
LOCATION:Höfle, 003, EG, Pestalozzistr. 4, 71032 Böblingen
END:VEVENT
END:VCALENDAR