BEGIN:VCALENDAR
VERSION:2.0
PRODID:https://www.kufer.de/kuferweb / DE
METHOD:PUBLISH
CALSCALE:GREGORIAN
X-WR-TIMEZONE:Europe/Berlin
BEGIN:VTIMEZONE
TZID:Europe/Berlin
X-LIC-LOCATION:Europe/Berlin
BEGIN:DAYLIGHT
TZOFFSETFROM:+0100
TZOFFSETTO:+0200
TZNAME:CEST
DTSTART:19700329T020000
RRULE:FREQ=YEARLY;INTERVAL=1;BYDAY=-1SU;BYMONTH=3
END:DAYLIGHT
BEGIN:STANDARD
TZOFFSETFROM:+0200
TZOFFSETTO:+0100
TZNAME:CET
DTSTART:19701025T030000
RRULE:FREQ=YEARLY;INTERVAL=1;BYDAY=-1SU;BYMONTH=10
END:STANDARD
END:VTIMEZONE
BEGIN:VEVENT
DTSTAMP:20260422T214127
DTSTART;TZID=Europe/Berlin:20261005T180000
DTEND;TZID=Europe/Berlin:20261005T193000
UID:W45260110-20261005T180000@VHSBÖBLINGEN-SINDELFINGEN
SUMMARY:Entwurf: Japanisch A1, Anfängerkurs (W45260110) 
LOCATION:Höfle, 101, 1. OG, Pestalozzistr. 4, 71032 Böblingen
END:VEVENT
BEGIN:VEVENT
DTSTAMP:20260422T214127
DTSTART;TZID=Europe/Berlin:20261012T180000
DTEND;TZID=Europe/Berlin:20261012T193000
UID:W45260110-20261012T180000@VHSBÖBLINGEN-SINDELFINGEN
SUMMARY:Entwurf: Japanisch A1, Anfängerkurs (W45260110) 
LOCATION:Höfle, 101, 1. OG, Pestalozzistr. 4, 71032 Böblingen
END:VEVENT
BEGIN:VEVENT
DTSTAMP:20260422T214127
DTSTART;TZID=Europe/Berlin:20261019T180000
DTEND;TZID=Europe/Berlin:20261019T193000
UID:W45260110-20261019T180000@VHSBÖBLINGEN-SINDELFINGEN
SUMMARY:Entwurf: Japanisch A1, Anfängerkurs (W45260110) 
LOCATION:Höfle, 101, 1. OG, Pestalozzistr. 4, 71032 Böblingen
END:VEVENT
BEGIN:VEVENT
DTSTAMP:20260422T214127
DTSTART;TZID=Europe/Berlin:20261102T180000
DTEND;TZID=Europe/Berlin:20261102T193000
UID:W45260110-20261102T180000@VHSBÖBLINGEN-SINDELFINGEN
SUMMARY:Entwurf: Japanisch A1, Anfängerkurs (W45260110) 
LOCATION:Höfle, 101, 1. OG, Pestalozzistr. 4, 71032 Böblingen
END:VEVENT
BEGIN:VEVENT
DTSTAMP:20260422T214127
DTSTART;TZID=Europe/Berlin:20261109T180000
DTEND;TZID=Europe/Berlin:20261109T193000
UID:W45260110-20261109T180000@VHSBÖBLINGEN-SINDELFINGEN
SUMMARY:Entwurf: Japanisch A1, Anfängerkurs (W45260110) 
LOCATION:Höfle, 101, 1. OG, Pestalozzistr. 4, 71032 Böblingen
END:VEVENT
BEGIN:VEVENT
DTSTAMP:20260422T214127
DTSTART;TZID=Europe/Berlin:20261116T180000
DTEND;TZID=Europe/Berlin:20261116T193000
UID:W45260110-20261116T180000@VHSBÖBLINGEN-SINDELFINGEN
SUMMARY:Entwurf: Japanisch A1, Anfängerkurs (W45260110) 
LOCATION:Höfle, 101, 1. OG, Pestalozzistr. 4, 71032 Böblingen
END:VEVENT
BEGIN:VEVENT
DTSTAMP:20260422T214127
DTSTART;TZID=Europe/Berlin:20261123T180000
DTEND;TZID=Europe/Berlin:20261123T193000
UID:W45260110-20261123T180000@VHSBÖBLINGEN-SINDELFINGEN
SUMMARY:Entwurf: Japanisch A1, Anfängerkurs (W45260110) 
LOCATION:Höfle, U 004, UG, Pestalozzistr. 4, 71032 Böblingen
END:VEVENT
BEGIN:VEVENT
DTSTAMP:20260422T214127
DTSTART;TZID=Europe/Berlin:20261130T180000
DTEND;TZID=Europe/Berlin:20261130T193000
UID:W45260110-20261130T180000@VHSBÖBLINGEN-SINDELFINGEN
SUMMARY:Entwurf: Japanisch A1, Anfängerkurs (W45260110) 
LOCATION:Höfle, U 004, UG, Pestalozzistr. 4, 71032 Böblingen
END:VEVENT
BEGIN:VEVENT
DTSTAMP:20260422T214127
DTSTART;TZID=Europe/Berlin:20261207T180000
DTEND;TZID=Europe/Berlin:20261207T193000
UID:W45260110-20261207T180000@VHSBÖBLINGEN-SINDELFINGEN
SUMMARY:Entwurf: Japanisch A1, Anfängerkurs (W45260110) 
LOCATION:Höfle, 101, 1. OG, Pestalozzistr. 4, 71032 Böblingen
END:VEVENT
BEGIN:VEVENT
DTSTAMP:20260422T214127
DTSTART;TZID=Europe/Berlin:20261214T180000
DTEND;TZID=Europe/Berlin:20261214T193000
UID:W45260110-20261214T180000@VHSBÖBLINGEN-SINDELFINGEN
SUMMARY:Entwurf: Japanisch A1, Anfängerkurs (W45260110) 
LOCATION:Höfle, 101, 1. OG, Pestalozzistr. 4, 71032 Böblingen
END:VEVENT
BEGIN:VEVENT
DTSTAMP:20260422T214127
DTSTART;TZID=Europe/Berlin:20261221T180000
DTEND;TZID=Europe/Berlin:20261221T193000
UID:W45260110-20261221T180000@VHSBÖBLINGEN-SINDELFINGEN
SUMMARY:Entwurf: Japanisch A1, Anfängerkurs (W45260110) 
LOCATION:Höfle, 101, 1. OG, Pestalozzistr. 4, 71032 Böblingen
END:VEVENT
BEGIN:VEVENT
DTSTAMP:20260422T214127
DTSTART;TZID=Europe/Berlin:20270111T180000
DTEND;TZID=Europe/Berlin:20270111T193000
UID:W45260110-20270111T180000@VHSBÖBLINGEN-SINDELFINGEN
SUMMARY:Entwurf: Japanisch A1, Anfängerkurs (W45260110) 
LOCATION:Höfle, 101, 1. OG, Pestalozzistr. 4, 71032 Böblingen
END:VEVENT
END:VCALENDAR