BEGIN:VCALENDAR
VERSION:2.0
PRODID:https://www.kufer.de/kuferweb / DE
METHOD:PUBLISH
CALSCALE:GREGORIAN
X-WR-TIMEZONE:Europe/Berlin
BEGIN:VTIMEZONE
TZID:Europe/Berlin
X-LIC-LOCATION:Europe/Berlin
BEGIN:DAYLIGHT
TZOFFSETFROM:+0100
TZOFFSETTO:+0200
TZNAME:CEST
DTSTART:19700329T020000
RRULE:FREQ=YEARLY;INTERVAL=1;BYDAY=-1SU;BYMONTH=3
END:DAYLIGHT
BEGIN:STANDARD
TZOFFSETFROM:+0200
TZOFFSETTO:+0100
TZNAME:CET
DTSTART:19701025T030000
RRULE:FREQ=YEARLY;INTERVAL=1;BYDAY=-1SU;BYMONTH=10
END:STANDARD
END:VTIMEZONE
BEGIN:VEVENT
DTSTAMP:20260422T030458
DTSTART;TZID=Europe/Berlin:20260928T160000
DTEND;TZID=Europe/Berlin:20260928T173000
UID:W43380010-20260928T160000@VHSBÖBLINGEN-SINDELFINGEN
SUMMARY:A voi la parola! (W43380010) 
LOCATION:Höfle, 106, 1. OG, Pestalozzistr. 4, 71032 Böblingen
END:VEVENT
BEGIN:VEVENT
DTSTAMP:20260422T030458
DTSTART;TZID=Europe/Berlin:20261005T160000
DTEND;TZID=Europe/Berlin:20261005T173000
UID:W43380010-20261005T160000@VHSBÖBLINGEN-SINDELFINGEN
SUMMARY:A voi la parola! (W43380010) 
LOCATION:Höfle, 106, 1. OG, Pestalozzistr. 4, 71032 Böblingen
END:VEVENT
BEGIN:VEVENT
DTSTAMP:20260422T030458
DTSTART;TZID=Europe/Berlin:20261012T160000
DTEND;TZID=Europe/Berlin:20261012T173000
UID:W43380010-20261012T160000@VHSBÖBLINGEN-SINDELFINGEN
SUMMARY:A voi la parola! (W43380010) 
LOCATION:Höfle, 106, 1. OG, Pestalozzistr. 4, 71032 Böblingen
END:VEVENT
BEGIN:VEVENT
DTSTAMP:20260422T030458
DTSTART;TZID=Europe/Berlin:20261019T160000
DTEND;TZID=Europe/Berlin:20261019T173000
UID:W43380010-20261019T160000@VHSBÖBLINGEN-SINDELFINGEN
SUMMARY:A voi la parola! (W43380010) 
LOCATION:Höfle, 106, 1. OG, Pestalozzistr. 4, 71032 Böblingen
END:VEVENT
BEGIN:VEVENT
DTSTAMP:20260422T030458
DTSTART;TZID=Europe/Berlin:20261102T160000
DTEND;TZID=Europe/Berlin:20261102T173000
UID:W43380010-20261102T160000@VHSBÖBLINGEN-SINDELFINGEN
SUMMARY:A voi la parola! (W43380010) 
LOCATION:Höfle, 106, 1. OG, Pestalozzistr. 4, 71032 Böblingen
END:VEVENT
BEGIN:VEVENT
DTSTAMP:20260422T030458
DTSTART;TZID=Europe/Berlin:20261109T160000
DTEND;TZID=Europe/Berlin:20261109T173000
UID:W43380010-20261109T160000@VHSBÖBLINGEN-SINDELFINGEN
SUMMARY:A voi la parola! (W43380010) 
LOCATION:Höfle, 106, 1. OG, Pestalozzistr. 4, 71032 Böblingen
END:VEVENT
BEGIN:VEVENT
DTSTAMP:20260422T030458
DTSTART;TZID=Europe/Berlin:20261116T160000
DTEND;TZID=Europe/Berlin:20261116T173000
UID:W43380010-20261116T160000@VHSBÖBLINGEN-SINDELFINGEN
SUMMARY:A voi la parola! (W43380010) 
LOCATION:Höfle, 106, 1. OG, Pestalozzistr. 4, 71032 Böblingen
END:VEVENT
BEGIN:VEVENT
DTSTAMP:20260422T030458
DTSTART;TZID=Europe/Berlin:20261123T160000
DTEND;TZID=Europe/Berlin:20261123T173000
UID:W43380010-20261123T160000@VHSBÖBLINGEN-SINDELFINGEN
SUMMARY:A voi la parola! (W43380010) 
LOCATION:Höfle, 106, 1. OG, Pestalozzistr. 4, 71032 Böblingen
END:VEVENT
BEGIN:VEVENT
DTSTAMP:20260422T030458
DTSTART;TZID=Europe/Berlin:20261130T160000
DTEND;TZID=Europe/Berlin:20261130T173000
UID:W43380010-20261130T160000@VHSBÖBLINGEN-SINDELFINGEN
SUMMARY:A voi la parola! (W43380010) 
LOCATION:Höfle, 106, 1. OG, Pestalozzistr. 4, 71032 Böblingen
END:VEVENT
BEGIN:VEVENT
DTSTAMP:20260422T030458
DTSTART;TZID=Europe/Berlin:20261207T160000
DTEND;TZID=Europe/Berlin:20261207T173000
UID:W43380010-20261207T160000@VHSBÖBLINGEN-SINDELFINGEN
SUMMARY:A voi la parola! (W43380010) 
LOCATION:Höfle, 106, 1. OG, Pestalozzistr. 4, 71032 Böblingen
END:VEVENT
END:VCALENDAR