BEGIN:VCALENDAR
VERSION:2.0
PRODID:https://www.kufer.de/kuferweb / DE
METHOD:PUBLISH
CALSCALE:GREGORIAN
X-WR-TIMEZONE:Europe/Berlin
BEGIN:VTIMEZONE
TZID:Europe/Berlin
X-LIC-LOCATION:Europe/Berlin
BEGIN:DAYLIGHT
TZOFFSETFROM:+0100
TZOFFSETTO:+0200
TZNAME:CEST
DTSTART:19700329T020000
RRULE:FREQ=YEARLY;INTERVAL=1;BYDAY=-1SU;BYMONTH=3
END:DAYLIGHT
BEGIN:STANDARD
TZOFFSETFROM:+0200
TZOFFSETTO:+0100
TZNAME:CET
DTSTART:19701025T030000
RRULE:FREQ=YEARLY;INTERVAL=1;BYDAY=-1SU;BYMONTH=10
END:STANDARD
END:VTIMEZONE
BEGIN:VEVENT
DTSTAMP:20260421T121754
DTSTART;TZID=Europe/Berlin:20260930T153000
DTEND;TZID=Europe/Berlin:20260930T170000
UID:W43230010-20260930T153000@VHSBÖBLINGEN-SINDELFINGEN
SUMMARY:Italienisch A2 (W43230010) 
LOCATION:GHH, U 004, UG, Böblinger Str. 8, 71065 Sindelfingen
END:VEVENT
BEGIN:VEVENT
DTSTAMP:20260421T121754
DTSTART;TZID=Europe/Berlin:20261007T153000
DTEND;TZID=Europe/Berlin:20261007T170000
UID:W43230010-20261007T153000@VHSBÖBLINGEN-SINDELFINGEN
SUMMARY:Italienisch A2 (W43230010) 
LOCATION:GHH, U 004, UG, Böblinger Str. 8, 71065 Sindelfingen
END:VEVENT
BEGIN:VEVENT
DTSTAMP:20260421T121754
DTSTART;TZID=Europe/Berlin:20261014T153000
DTEND;TZID=Europe/Berlin:20261014T170000
UID:W43230010-20261014T153000@VHSBÖBLINGEN-SINDELFINGEN
SUMMARY:Italienisch A2 (W43230010) 
LOCATION:GHH, U 004, UG, Böblinger Str. 8, 71065 Sindelfingen
END:VEVENT
BEGIN:VEVENT
DTSTAMP:20260421T121754
DTSTART;TZID=Europe/Berlin:20261021T153000
DTEND;TZID=Europe/Berlin:20261021T170000
UID:W43230010-20261021T153000@VHSBÖBLINGEN-SINDELFINGEN
SUMMARY:Italienisch A2 (W43230010) 
LOCATION:GHH, U 004, UG, Böblinger Str. 8, 71065 Sindelfingen
END:VEVENT
BEGIN:VEVENT
DTSTAMP:20260421T121754
DTSTART;TZID=Europe/Berlin:20261104T153000
DTEND;TZID=Europe/Berlin:20261104T170000
UID:W43230010-20261104T153000@VHSBÖBLINGEN-SINDELFINGEN
SUMMARY:Italienisch A2 (W43230010) 
LOCATION:GHH, U 004, UG, Böblinger Str. 8, 71065 Sindelfingen
END:VEVENT
BEGIN:VEVENT
DTSTAMP:20260421T121754
DTSTART;TZID=Europe/Berlin:20261111T153000
DTEND;TZID=Europe/Berlin:20261111T170000
UID:W43230010-20261111T153000@VHSBÖBLINGEN-SINDELFINGEN
SUMMARY:Italienisch A2 (W43230010) 
LOCATION:GHH, U 004, UG, Böblinger Str. 8, 71065 Sindelfingen
END:VEVENT
BEGIN:VEVENT
DTSTAMP:20260421T121754
DTSTART;TZID=Europe/Berlin:20261118T153000
DTEND;TZID=Europe/Berlin:20261118T170000
UID:W43230010-20261118T153000@VHSBÖBLINGEN-SINDELFINGEN
SUMMARY:Italienisch A2 (W43230010) 
LOCATION:GHH, U 004, UG, Böblinger Str. 8, 71065 Sindelfingen
END:VEVENT
BEGIN:VEVENT
DTSTAMP:20260421T121754
DTSTART;TZID=Europe/Berlin:20261125T153000
DTEND;TZID=Europe/Berlin:20261125T170000
UID:W43230010-20261125T153000@VHSBÖBLINGEN-SINDELFINGEN
SUMMARY:Italienisch A2 (W43230010) 
LOCATION:GHH, U 004, UG, Böblinger Str. 8, 71065 Sindelfingen
END:VEVENT
BEGIN:VEVENT
DTSTAMP:20260421T121754
DTSTART;TZID=Europe/Berlin:20261202T153000
DTEND;TZID=Europe/Berlin:20261202T170000
UID:W43230010-20261202T153000@VHSBÖBLINGEN-SINDELFINGEN
SUMMARY:Italienisch A2 (W43230010) 
LOCATION:GHH, U 004, UG, Böblinger Str. 8, 71065 Sindelfingen
END:VEVENT
BEGIN:VEVENT
DTSTAMP:20260421T121754
DTSTART;TZID=Europe/Berlin:20261209T153000
DTEND;TZID=Europe/Berlin:20261209T170000
UID:W43230010-20261209T153000@VHSBÖBLINGEN-SINDELFINGEN
SUMMARY:Italienisch A2 (W43230010) 
LOCATION:GHH, U 004, UG, Böblinger Str. 8, 71065 Sindelfingen
END:VEVENT
END:VCALENDAR