BEGIN:VCALENDAR
VERSION:2.0
PRODID:https://www.kufer.de/kuferweb / DE
METHOD:PUBLISH
CALSCALE:GREGORIAN
X-WR-TIMEZONE:Europe/Berlin
BEGIN:VTIMEZONE
TZID:Europe/Berlin
X-LIC-LOCATION:Europe/Berlin
BEGIN:DAYLIGHT
TZOFFSETFROM:+0100
TZOFFSETTO:+0200
TZNAME:CEST
DTSTART:19700329T020000
RRULE:FREQ=YEARLY;INTERVAL=1;BYDAY=-1SU;BYMONTH=3
END:DAYLIGHT
BEGIN:STANDARD
TZOFFSETFROM:+0200
TZOFFSETTO:+0100
TZNAME:CET
DTSTART:19701025T030000
RRULE:FREQ=YEARLY;INTERVAL=1;BYDAY=-1SU;BYMONTH=10
END:STANDARD
END:VTIMEZONE
BEGIN:VEVENT
DTSTAMP:20260421T183555
DTSTART;TZID=Europe/Berlin:20260930T170000
DTEND;TZID=Europe/Berlin:20260930T183000
UID:W43102010-20260930T170000@VHSBÖBLINGEN-SINDELFINGEN
SUMMARY:Italienisch A1, Anfängerkurs (W43102010) 
LOCATION:GHH, 103, 1.OG, Böblinger Str. 8, 71065 Sindelfingen
END:VEVENT
BEGIN:VEVENT
DTSTAMP:20260421T183555
DTSTART;TZID=Europe/Berlin:20261007T170000
DTEND;TZID=Europe/Berlin:20261007T183000
UID:W43102010-20261007T170000@VHSBÖBLINGEN-SINDELFINGEN
SUMMARY:Italienisch A1, Anfängerkurs (W43102010) 
LOCATION:GHH, 103, 1.OG, Böblinger Str. 8, 71065 Sindelfingen
END:VEVENT
BEGIN:VEVENT
DTSTAMP:20260421T183555
DTSTART;TZID=Europe/Berlin:20261014T170000
DTEND;TZID=Europe/Berlin:20261014T183000
UID:W43102010-20261014T170000@VHSBÖBLINGEN-SINDELFINGEN
SUMMARY:Italienisch A1, Anfängerkurs (W43102010) 
LOCATION:GHH, 103, 1.OG, Böblinger Str. 8, 71065 Sindelfingen
END:VEVENT
BEGIN:VEVENT
DTSTAMP:20260421T183555
DTSTART;TZID=Europe/Berlin:20261021T170000
DTEND;TZID=Europe/Berlin:20261021T183000
UID:W43102010-20261021T170000@VHSBÖBLINGEN-SINDELFINGEN
SUMMARY:Italienisch A1, Anfängerkurs (W43102010) 
LOCATION:GHH, 103, 1.OG, Böblinger Str. 8, 71065 Sindelfingen
END:VEVENT
BEGIN:VEVENT
DTSTAMP:20260421T183555
DTSTART;TZID=Europe/Berlin:20261104T170000
DTEND;TZID=Europe/Berlin:20261104T183000
UID:W43102010-20261104T170000@VHSBÖBLINGEN-SINDELFINGEN
SUMMARY:Italienisch A1, Anfängerkurs (W43102010) 
LOCATION:GHH, 103, 1.OG, Böblinger Str. 8, 71065 Sindelfingen
END:VEVENT
BEGIN:VEVENT
DTSTAMP:20260421T183555
DTSTART;TZID=Europe/Berlin:20261111T170000
DTEND;TZID=Europe/Berlin:20261111T183000
UID:W43102010-20261111T170000@VHSBÖBLINGEN-SINDELFINGEN
SUMMARY:Italienisch A1, Anfängerkurs (W43102010) 
LOCATION:GHH, 103, 1.OG, Böblinger Str. 8, 71065 Sindelfingen
END:VEVENT
BEGIN:VEVENT
DTSTAMP:20260421T183555
DTSTART;TZID=Europe/Berlin:20261118T170000
DTEND;TZID=Europe/Berlin:20261118T183000
UID:W43102010-20261118T170000@VHSBÖBLINGEN-SINDELFINGEN
SUMMARY:Italienisch A1, Anfängerkurs (W43102010) 
LOCATION:GHH, 103, 1.OG, Böblinger Str. 8, 71065 Sindelfingen
END:VEVENT
BEGIN:VEVENT
DTSTAMP:20260421T183555
DTSTART;TZID=Europe/Berlin:20261125T170000
DTEND;TZID=Europe/Berlin:20261125T183000
UID:W43102010-20261125T170000@VHSBÖBLINGEN-SINDELFINGEN
SUMMARY:Italienisch A1, Anfängerkurs (W43102010) 
LOCATION:GHH, 103, 1.OG, Böblinger Str. 8, 71065 Sindelfingen
END:VEVENT
BEGIN:VEVENT
DTSTAMP:20260421T183555
DTSTART;TZID=Europe/Berlin:20261202T170000
DTEND;TZID=Europe/Berlin:20261202T183000
UID:W43102010-20261202T170000@VHSBÖBLINGEN-SINDELFINGEN
SUMMARY:Italienisch A1, Anfängerkurs (W43102010) 
LOCATION:GHH, 103, 1.OG, Böblinger Str. 8, 71065 Sindelfingen
END:VEVENT
BEGIN:VEVENT
DTSTAMP:20260421T183555
DTSTART;TZID=Europe/Berlin:20261209T170000
DTEND;TZID=Europe/Berlin:20261209T183000
UID:W43102010-20261209T170000@VHSBÖBLINGEN-SINDELFINGEN
SUMMARY:Italienisch A1, Anfängerkurs (W43102010) 
LOCATION:GHH, 103, 1.OG, Böblinger Str. 8, 71065 Sindelfingen
END:VEVENT
END:VCALENDAR