BEGIN:VCALENDAR
VERSION:2.0
PRODID:https://www.kufer.de/kuferweb / DE
METHOD:PUBLISH
CALSCALE:GREGORIAN
X-WR-TIMEZONE:Europe/Berlin
BEGIN:VTIMEZONE
TZID:Europe/Berlin
X-LIC-LOCATION:Europe/Berlin
BEGIN:DAYLIGHT
TZOFFSETFROM:+0100
TZOFFSETTO:+0200
TZNAME:CEST
DTSTART:19700329T020000
RRULE:FREQ=YEARLY;INTERVAL=1;BYDAY=-1SU;BYMONTH=3
END:DAYLIGHT
BEGIN:STANDARD
TZOFFSETFROM:+0200
TZOFFSETTO:+0100
TZNAME:CET
DTSTART:19701025T030000
RRULE:FREQ=YEARLY;INTERVAL=1;BYDAY=-1SU;BYMONTH=10
END:STANDARD
END:VTIMEZONE
BEGIN:VEVENT
DTSTAMP:20260421T043230
DTSTART;TZID=Europe/Berlin:20260923T180000
DTEND;TZID=Europe/Berlin:20260923T193000
UID:W42130110-20260923T180000@VHSBÖBLINGEN-SINDELFINGEN
SUMMARY:Französisch A1, Anfängerkurs (W42130110) 
LOCATION:Höfle, 005, EG, Pestalozzistr. 4, 71032 Böblingen
END:VEVENT
BEGIN:VEVENT
DTSTAMP:20260421T043230
DTSTART;TZID=Europe/Berlin:20260930T180000
DTEND;TZID=Europe/Berlin:20260930T193000
UID:W42130110-20260930T180000@VHSBÖBLINGEN-SINDELFINGEN
SUMMARY:Französisch A1, Anfängerkurs (W42130110) 
LOCATION:Höfle, 005, EG, Pestalozzistr. 4, 71032 Böblingen
END:VEVENT
BEGIN:VEVENT
DTSTAMP:20260421T043230
DTSTART;TZID=Europe/Berlin:20261007T180000
DTEND;TZID=Europe/Berlin:20261007T193000
UID:W42130110-20261007T180000@VHSBÖBLINGEN-SINDELFINGEN
SUMMARY:Französisch A1, Anfängerkurs (W42130110) 
LOCATION:Höfle, 005, EG, Pestalozzistr. 4, 71032 Böblingen
END:VEVENT
BEGIN:VEVENT
DTSTAMP:20260421T043230
DTSTART;TZID=Europe/Berlin:20261014T180000
DTEND;TZID=Europe/Berlin:20261014T193000
UID:W42130110-20261014T180000@VHSBÖBLINGEN-SINDELFINGEN
SUMMARY:Französisch A1, Anfängerkurs (W42130110) 
LOCATION:Höfle, 005, EG, Pestalozzistr. 4, 71032 Böblingen
END:VEVENT
BEGIN:VEVENT
DTSTAMP:20260421T043230
DTSTART;TZID=Europe/Berlin:20261021T180000
DTEND;TZID=Europe/Berlin:20261021T193000
UID:W42130110-20261021T180000@VHSBÖBLINGEN-SINDELFINGEN
SUMMARY:Französisch A1, Anfängerkurs (W42130110) 
LOCATION:Höfle, 005, EG, Pestalozzistr. 4, 71032 Böblingen
END:VEVENT
BEGIN:VEVENT
DTSTAMP:20260421T043230
DTSTART;TZID=Europe/Berlin:20261104T180000
DTEND;TZID=Europe/Berlin:20261104T193000
UID:W42130110-20261104T180000@VHSBÖBLINGEN-SINDELFINGEN
SUMMARY:Französisch A1, Anfängerkurs (W42130110) 
LOCATION:Höfle, 005, EG, Pestalozzistr. 4, 71032 Böblingen
END:VEVENT
BEGIN:VEVENT
DTSTAMP:20260421T043230
DTSTART;TZID=Europe/Berlin:20261111T180000
DTEND;TZID=Europe/Berlin:20261111T193000
UID:W42130110-20261111T180000@VHSBÖBLINGEN-SINDELFINGEN
SUMMARY:Französisch A1, Anfängerkurs (W42130110) 
LOCATION:Höfle, 005, EG, Pestalozzistr. 4, 71032 Böblingen
END:VEVENT
BEGIN:VEVENT
DTSTAMP:20260421T043230
DTSTART;TZID=Europe/Berlin:20261118T180000
DTEND;TZID=Europe/Berlin:20261118T193000
UID:W42130110-20261118T180000@VHSBÖBLINGEN-SINDELFINGEN
SUMMARY:Französisch A1, Anfängerkurs (W42130110) 
LOCATION:Höfle, 005, EG, Pestalozzistr. 4, 71032 Böblingen
END:VEVENT
BEGIN:VEVENT
DTSTAMP:20260421T043230
DTSTART;TZID=Europe/Berlin:20261125T180000
DTEND;TZID=Europe/Berlin:20261125T193000
UID:W42130110-20261125T180000@VHSBÖBLINGEN-SINDELFINGEN
SUMMARY:Französisch A1, Anfängerkurs (W42130110) 
LOCATION:Höfle, 005, EG, Pestalozzistr. 4, 71032 Böblingen
END:VEVENT
BEGIN:VEVENT
DTSTAMP:20260421T043230
DTSTART;TZID=Europe/Berlin:20261202T180000
DTEND;TZID=Europe/Berlin:20261202T193000
UID:W42130110-20261202T180000@VHSBÖBLINGEN-SINDELFINGEN
SUMMARY:Französisch A1, Anfängerkurs (W42130110) 
LOCATION:Höfle, 005, EG, Pestalozzistr. 4, 71032 Böblingen
END:VEVENT
BEGIN:VEVENT
DTSTAMP:20260421T043230
DTSTART;TZID=Europe/Berlin:20261209T180000
DTEND;TZID=Europe/Berlin:20261209T193000
UID:W42130110-20261209T180000@VHSBÖBLINGEN-SINDELFINGEN
SUMMARY:Französisch A1, Anfängerkurs (W42130110) 
LOCATION:Höfle, 005, EG, Pestalozzistr. 4, 71032 Böblingen
END:VEVENT
BEGIN:VEVENT
DTSTAMP:20260421T043230
DTSTART;TZID=Europe/Berlin:20261216T180000
DTEND;TZID=Europe/Berlin:20261216T193000
UID:W42130110-20261216T180000@VHSBÖBLINGEN-SINDELFINGEN
SUMMARY:Französisch A1, Anfängerkurs (W42130110) 
LOCATION:Höfle, 005, EG, Pestalozzistr. 4, 71032 Böblingen
END:VEVENT
END:VCALENDAR