BEGIN:VCALENDAR
VERSION:2.0
PRODID:https://www.kufer.de/kuferweb / DE
METHOD:PUBLISH
CALSCALE:GREGORIAN
X-WR-TIMEZONE:Europe/Berlin
BEGIN:VTIMEZONE
TZID:Europe/Berlin
X-LIC-LOCATION:Europe/Berlin
BEGIN:DAYLIGHT
TZOFFSETFROM:+0100
TZOFFSETTO:+0200
TZNAME:CEST
DTSTART:19700329T020000
RRULE:FREQ=YEARLY;INTERVAL=1;BYDAY=-1SU;BYMONTH=3
END:DAYLIGHT
BEGIN:STANDARD
TZOFFSETFROM:+0200
TZOFFSETTO:+0100
TZNAME:CET
DTSTART:19701025T030000
RRULE:FREQ=YEARLY;INTERVAL=1;BYDAY=-1SU;BYMONTH=10
END:STANDARD
END:VTIMEZONE
BEGIN:VEVENT
DTSTAMP:20260422T085737
DTSTART;TZID=Europe/Berlin:20261014T140000
DTEND;TZID=Europe/Berlin:20261014T150000
UID:W41871410K-20261014T140000@VHSBÖBLINGEN-SINDELFINGEN
SUMMARY:Englisch für Kinder der Gemeinschaftsschule Weil im Schönbuch  1. und 2. Klasse (W41871410K) 
LOCATION:WE, GMS, Raum B010, In der Röte 92, 71093 Weil im Schönbuch
END:VEVENT
BEGIN:VEVENT
DTSTAMP:20260422T085737
DTSTART;TZID=Europe/Berlin:20261021T140000
DTEND;TZID=Europe/Berlin:20261021T150000
UID:W41871410K-20261021T140000@VHSBÖBLINGEN-SINDELFINGEN
SUMMARY:Englisch für Kinder der Gemeinschaftsschule Weil im Schönbuch  1. und 2. Klasse (W41871410K) 
LOCATION:WE, GMS, Raum B010, In der Röte 92, 71093 Weil im Schönbuch
END:VEVENT
BEGIN:VEVENT
DTSTAMP:20260422T085737
DTSTART;TZID=Europe/Berlin:20261104T140000
DTEND;TZID=Europe/Berlin:20261104T150000
UID:W41871410K-20261104T140000@VHSBÖBLINGEN-SINDELFINGEN
SUMMARY:Englisch für Kinder der Gemeinschaftsschule Weil im Schönbuch  1. und 2. Klasse (W41871410K) 
LOCATION:WE, GMS, Raum B010, In der Röte 92, 71093 Weil im Schönbuch
END:VEVENT
BEGIN:VEVENT
DTSTAMP:20260422T085737
DTSTART;TZID=Europe/Berlin:20261111T140000
DTEND;TZID=Europe/Berlin:20261111T150000
UID:W41871410K-20261111T140000@VHSBÖBLINGEN-SINDELFINGEN
SUMMARY:Englisch für Kinder der Gemeinschaftsschule Weil im Schönbuch  1. und 2. Klasse (W41871410K) 
LOCATION:WE, GMS, Raum B010, In der Röte 92, 71093 Weil im Schönbuch
END:VEVENT
BEGIN:VEVENT
DTSTAMP:20260422T085737
DTSTART;TZID=Europe/Berlin:20261118T140000
DTEND;TZID=Europe/Berlin:20261118T150000
UID:W41871410K-20261118T140000@VHSBÖBLINGEN-SINDELFINGEN
SUMMARY:Englisch für Kinder der Gemeinschaftsschule Weil im Schönbuch  1. und 2. Klasse (W41871410K) 
LOCATION:WE, GMS, Raum B010, In der Röte 92, 71093 Weil im Schönbuch
END:VEVENT
BEGIN:VEVENT
DTSTAMP:20260422T085737
DTSTART;TZID=Europe/Berlin:20261125T140000
DTEND;TZID=Europe/Berlin:20261125T150000
UID:W41871410K-20261125T140000@VHSBÖBLINGEN-SINDELFINGEN
SUMMARY:Englisch für Kinder der Gemeinschaftsschule Weil im Schönbuch  1. und 2. Klasse (W41871410K) 
LOCATION:WE, GMS, Raum B010, In der Röte 92, 71093 Weil im Schönbuch
END:VEVENT
BEGIN:VEVENT
DTSTAMP:20260422T085737
DTSTART;TZID=Europe/Berlin:20261202T140000
DTEND;TZID=Europe/Berlin:20261202T150000
UID:W41871410K-20261202T140000@VHSBÖBLINGEN-SINDELFINGEN
SUMMARY:Englisch für Kinder der Gemeinschaftsschule Weil im Schönbuch  1. und 2. Klasse (W41871410K) 
LOCATION:WE, GMS, Raum B010, In der Röte 92, 71093 Weil im Schönbuch
END:VEVENT
BEGIN:VEVENT
DTSTAMP:20260422T085737
DTSTART;TZID=Europe/Berlin:20261209T140000
DTEND;TZID=Europe/Berlin:20261209T150000
UID:W41871410K-20261209T140000@VHSBÖBLINGEN-SINDELFINGEN
SUMMARY:Englisch für Kinder der Gemeinschaftsschule Weil im Schönbuch  1. und 2. Klasse (W41871410K) 
LOCATION:WE, GMS, Raum B010, In der Röte 92, 71093 Weil im Schönbuch
END:VEVENT
BEGIN:VEVENT
DTSTAMP:20260422T085737
DTSTART;TZID=Europe/Berlin:20261216T140000
DTEND;TZID=Europe/Berlin:20261216T150000
UID:W41871410K-20261216T140000@VHSBÖBLINGEN-SINDELFINGEN
SUMMARY:Englisch für Kinder der Gemeinschaftsschule Weil im Schönbuch  1. und 2. Klasse (W41871410K) 
LOCATION:WE, GMS, Raum B010, In der Röte 92, 71093 Weil im Schönbuch
END:VEVENT
BEGIN:VEVENT
DTSTAMP:20260422T085737
DTSTART;TZID=Europe/Berlin:20270113T140000
DTEND;TZID=Europe/Berlin:20270113T150000
UID:W41871410K-20270113T140000@VHSBÖBLINGEN-SINDELFINGEN
SUMMARY:Englisch für Kinder der Gemeinschaftsschule Weil im Schönbuch  1. und 2. Klasse (W41871410K) 
LOCATION:WE, GMS, Raum B010, In der Röte 92, 71093 Weil im Schönbuch
END:VEVENT
BEGIN:VEVENT
DTSTAMP:20260422T085737
DTSTART;TZID=Europe/Berlin:20270120T140000
DTEND;TZID=Europe/Berlin:20270120T150000
UID:W41871410K-20270120T140000@VHSBÖBLINGEN-SINDELFINGEN
SUMMARY:Englisch für Kinder der Gemeinschaftsschule Weil im Schönbuch  1. und 2. Klasse (W41871410K) 
LOCATION:WE, GMS, Raum B010, In der Röte 92, 71093 Weil im Schönbuch
END:VEVENT
BEGIN:VEVENT
DTSTAMP:20260422T085737
DTSTART;TZID=Europe/Berlin:20270127T140000
DTEND;TZID=Europe/Berlin:20270127T150000
UID:W41871410K-20270127T140000@VHSBÖBLINGEN-SINDELFINGEN
SUMMARY:Englisch für Kinder der Gemeinschaftsschule Weil im Schönbuch  1. und 2. Klasse (W41871410K) 
LOCATION:WE, GMS, Raum B010, In der Röte 92, 71093 Weil im Schönbuch
END:VEVENT
END:VCALENDAR