BEGIN:VCALENDAR
VERSION:2.0
PRODID:https://www.kufer.de/kuferweb / DE
METHOD:PUBLISH
CALSCALE:GREGORIAN
X-WR-TIMEZONE:Europe/Berlin
BEGIN:VTIMEZONE
TZID:Europe/Berlin
X-LIC-LOCATION:Europe/Berlin
BEGIN:DAYLIGHT
TZOFFSETFROM:+0100
TZOFFSETTO:+0200
TZNAME:CEST
DTSTART:19700329T020000
RRULE:FREQ=YEARLY;INTERVAL=1;BYDAY=-1SU;BYMONTH=3
END:DAYLIGHT
BEGIN:STANDARD
TZOFFSETFROM:+0200
TZOFFSETTO:+0100
TZNAME:CET
DTSTART:19701025T030000
RRULE:FREQ=YEARLY;INTERVAL=1;BYDAY=-1SU;BYMONTH=10
END:STANDARD
END:VTIMEZONE
BEGIN:VEVENT
DTSTAMP:20260421T041745
DTSTART;TZID=Europe/Berlin:20260923T180000
DTEND;TZID=Europe/Berlin:20260923T193000
UID:W37141210-20260923T180000@VHSBÖBLINGEN-SINDELFINGEN
SUMMARY:Selbstbehauptung und Selbstverteidigung für Frauen (W37141210) 
LOCATION:vhs.Werk, Halle 1, Wurmbergstr. 5, 71063 Sindelfingen
END:VEVENT
BEGIN:VEVENT
DTSTAMP:20260421T041745
DTSTART;TZID=Europe/Berlin:20260930T180000
DTEND;TZID=Europe/Berlin:20260930T193000
UID:W37141210-20260930T180000@VHSBÖBLINGEN-SINDELFINGEN
SUMMARY:Selbstbehauptung und Selbstverteidigung für Frauen (W37141210) 
LOCATION:vhs.Werk, Halle 1, Wurmbergstr. 5, 71063 Sindelfingen
END:VEVENT
BEGIN:VEVENT
DTSTAMP:20260421T041745
DTSTART;TZID=Europe/Berlin:20261007T180000
DTEND;TZID=Europe/Berlin:20261007T193000
UID:W37141210-20261007T180000@VHSBÖBLINGEN-SINDELFINGEN
SUMMARY:Selbstbehauptung und Selbstverteidigung für Frauen (W37141210) 
LOCATION:vhs.Werk, Halle 1, Wurmbergstr. 5, 71063 Sindelfingen
END:VEVENT
BEGIN:VEVENT
DTSTAMP:20260421T041745
DTSTART;TZID=Europe/Berlin:20261014T180000
DTEND;TZID=Europe/Berlin:20261014T193000
UID:W37141210-20261014T180000@VHSBÖBLINGEN-SINDELFINGEN
SUMMARY:Selbstbehauptung und Selbstverteidigung für Frauen (W37141210) 
LOCATION:vhs.Werk, Halle 1, Wurmbergstr. 5, 71063 Sindelfingen
END:VEVENT
BEGIN:VEVENT
DTSTAMP:20260421T041745
DTSTART;TZID=Europe/Berlin:20261021T180000
DTEND;TZID=Europe/Berlin:20261021T193000
UID:W37141210-20261021T180000@VHSBÖBLINGEN-SINDELFINGEN
SUMMARY:Selbstbehauptung und Selbstverteidigung für Frauen (W37141210) 
LOCATION:vhs.Werk, Halle 1, Wurmbergstr. 5, 71063 Sindelfingen
END:VEVENT
BEGIN:VEVENT
DTSTAMP:20260421T041745
DTSTART;TZID=Europe/Berlin:20261104T180000
DTEND;TZID=Europe/Berlin:20261104T193000
UID:W37141210-20261104T180000@VHSBÖBLINGEN-SINDELFINGEN
SUMMARY:Selbstbehauptung und Selbstverteidigung für Frauen (W37141210) 
LOCATION:vhs.Werk, Halle 1, Wurmbergstr. 5, 71063 Sindelfingen
END:VEVENT
BEGIN:VEVENT
DTSTAMP:20260421T041745
DTSTART;TZID=Europe/Berlin:20261111T180000
DTEND;TZID=Europe/Berlin:20261111T193000
UID:W37141210-20261111T180000@VHSBÖBLINGEN-SINDELFINGEN
SUMMARY:Selbstbehauptung und Selbstverteidigung für Frauen (W37141210) 
LOCATION:vhs.Werk, Halle 1, Wurmbergstr. 5, 71063 Sindelfingen
END:VEVENT
BEGIN:VEVENT
DTSTAMP:20260421T041745
DTSTART;TZID=Europe/Berlin:20261118T180000
DTEND;TZID=Europe/Berlin:20261118T193000
UID:W37141210-20261118T180000@VHSBÖBLINGEN-SINDELFINGEN
SUMMARY:Selbstbehauptung und Selbstverteidigung für Frauen (W37141210) 
LOCATION:vhs.Werk, Halle 1, Wurmbergstr. 5, 71063 Sindelfingen
END:VEVENT
END:VCALENDAR