BEGIN:VCALENDAR
VERSION:2.0
PRODID:https://www.kufer.de/kuferweb / DE
METHOD:PUBLISH
CALSCALE:GREGORIAN
X-WR-TIMEZONE:Europe/Berlin
BEGIN:VTIMEZONE
TZID:Europe/Berlin
X-LIC-LOCATION:Europe/Berlin
BEGIN:DAYLIGHT
TZOFFSETFROM:+0100
TZOFFSETTO:+0200
TZNAME:CEST
DTSTART:19700329T020000
RRULE:FREQ=YEARLY;INTERVAL=1;BYDAY=-1SU;BYMONTH=3
END:DAYLIGHT
BEGIN:STANDARD
TZOFFSETFROM:+0200
TZOFFSETTO:+0100
TZNAME:CET
DTSTART:19701025T030000
RRULE:FREQ=YEARLY;INTERVAL=1;BYDAY=-1SU;BYMONTH=10
END:STANDARD
END:VTIMEZONE
BEGIN:VEVENT
DTSTAMP:20260420T225231
DTSTART;TZID=Europe/Berlin:20260918T170000
DTEND;TZID=Europe/Berlin:20260918T180000
UID:W37030510-20260918T170000@VHSBÖBLINGEN-SINDELFINGEN
SUMMARY:Lauf Basic - für alle die Lust am Joggen haben und nicht wissen wie sie Fortschritte machen können ohne auszubrennen (W37030510) 
LOCATION:Waldparkplatz am Krankenhaus Schranke
END:VEVENT
BEGIN:VEVENT
DTSTAMP:20260420T225231
DTSTART;TZID=Europe/Berlin:20260925T170000
DTEND;TZID=Europe/Berlin:20260925T180000
UID:W37030510-20260925T170000@VHSBÖBLINGEN-SINDELFINGEN
SUMMARY:Lauf Basic - für alle die Lust am Joggen haben und nicht wissen wie sie Fortschritte machen können ohne auszubrennen (W37030510) 
LOCATION:Waldparkplatz am Krankenhaus Schranke
END:VEVENT
BEGIN:VEVENT
DTSTAMP:20260420T225231
DTSTART;TZID=Europe/Berlin:20261002T170000
DTEND;TZID=Europe/Berlin:20261002T180000
UID:W37030510-20261002T170000@VHSBÖBLINGEN-SINDELFINGEN
SUMMARY:Lauf Basic - für alle die Lust am Joggen haben und nicht wissen wie sie Fortschritte machen können ohne auszubrennen (W37030510) 
LOCATION:Waldparkplatz am Krankenhaus Schranke
END:VEVENT
BEGIN:VEVENT
DTSTAMP:20260420T225231
DTSTART;TZID=Europe/Berlin:20261009T170000
DTEND;TZID=Europe/Berlin:20261009T180000
UID:W37030510-20261009T170000@VHSBÖBLINGEN-SINDELFINGEN
SUMMARY:Lauf Basic - für alle die Lust am Joggen haben und nicht wissen wie sie Fortschritte machen können ohne auszubrennen (W37030510) 
LOCATION:Waldparkplatz am Krankenhaus Schranke
END:VEVENT
BEGIN:VEVENT
DTSTAMP:20260420T225231
DTSTART;TZID=Europe/Berlin:20261016T170000
DTEND;TZID=Europe/Berlin:20261016T180000
UID:W37030510-20261016T170000@VHSBÖBLINGEN-SINDELFINGEN
SUMMARY:Lauf Basic - für alle die Lust am Joggen haben und nicht wissen wie sie Fortschritte machen können ohne auszubrennen (W37030510) 
LOCATION:Waldparkplatz am Krankenhaus Schranke
END:VEVENT
BEGIN:VEVENT
DTSTAMP:20260420T225231
DTSTART;TZID=Europe/Berlin:20261023T170000
DTEND;TZID=Europe/Berlin:20261023T180000
UID:W37030510-20261023T170000@VHSBÖBLINGEN-SINDELFINGEN
SUMMARY:Lauf Basic - für alle die Lust am Joggen haben und nicht wissen wie sie Fortschritte machen können ohne auszubrennen (W37030510) 
LOCATION:Waldparkplatz am Krankenhaus Schranke
END:VEVENT
BEGIN:VEVENT
DTSTAMP:20260420T225231
DTSTART;TZID=Europe/Berlin:20261106T170000
DTEND;TZID=Europe/Berlin:20261106T180000
UID:W37030510-20261106T170000@VHSBÖBLINGEN-SINDELFINGEN
SUMMARY:Lauf Basic - für alle die Lust am Joggen haben und nicht wissen wie sie Fortschritte machen können ohne auszubrennen (W37030510) 
LOCATION:Waldparkplatz am Krankenhaus Schranke
END:VEVENT
BEGIN:VEVENT
DTSTAMP:20260420T225231
DTSTART;TZID=Europe/Berlin:20261113T170000
DTEND;TZID=Europe/Berlin:20261113T180000
UID:W37030510-20261113T170000@VHSBÖBLINGEN-SINDELFINGEN
SUMMARY:Lauf Basic - für alle die Lust am Joggen haben und nicht wissen wie sie Fortschritte machen können ohne auszubrennen (W37030510) 
LOCATION:Waldparkplatz am Krankenhaus Schranke
END:VEVENT
BEGIN:VEVENT
DTSTAMP:20260420T225231
DTSTART;TZID=Europe/Berlin:20261120T170000
DTEND;TZID=Europe/Berlin:20261120T180000
UID:W37030510-20261120T170000@VHSBÖBLINGEN-SINDELFINGEN
SUMMARY:Lauf Basic - für alle die Lust am Joggen haben und nicht wissen wie sie Fortschritte machen können ohne auszubrennen (W37030510) 
LOCATION:Waldparkplatz am Krankenhaus Schranke
END:VEVENT
END:VCALENDAR