BEGIN:VCALENDAR
VERSION:2.0
PRODID:https://www.kufer.de/kuferweb / DE
METHOD:PUBLISH
CALSCALE:GREGORIAN
X-WR-TIMEZONE:Europe/Berlin
BEGIN:VTIMEZONE
TZID:Europe/Berlin
X-LIC-LOCATION:Europe/Berlin
BEGIN:DAYLIGHT
TZOFFSETFROM:+0100
TZOFFSETTO:+0200
TZNAME:CEST
DTSTART:19700329T020000
RRULE:FREQ=YEARLY;INTERVAL=1;BYDAY=-1SU;BYMONTH=3
END:DAYLIGHT
BEGIN:STANDARD
TZOFFSETFROM:+0200
TZOFFSETTO:+0100
TZNAME:CET
DTSTART:19701025T030000
RRULE:FREQ=YEARLY;INTERVAL=1;BYDAY=-1SU;BYMONTH=10
END:STANDARD
END:VTIMEZONE
BEGIN:VEVENT
DTSTAMP:20260421T041508
DTSTART;TZID=Europe/Berlin:20260928T084500
DTEND;TZID=Europe/Berlin:20260928T093000
UID:W36162015-20260928T084500@VHSBÖBLINGEN-SINDELFINGEN
SUMMARY:Aqua-Fitness (W36162015) 
LOCATION:EH, Hallenbad, ___, Schlossstr. 33, 71139 Ehningen
END:VEVENT
BEGIN:VEVENT
DTSTAMP:20260421T041508
DTSTART;TZID=Europe/Berlin:20261005T084500
DTEND;TZID=Europe/Berlin:20261005T093000
UID:W36162015-20261005T084500@VHSBÖBLINGEN-SINDELFINGEN
SUMMARY:Aqua-Fitness (W36162015) 
LOCATION:EH, Hallenbad, ___, Schlossstr. 33, 71139 Ehningen
END:VEVENT
BEGIN:VEVENT
DTSTAMP:20260421T041508
DTSTART;TZID=Europe/Berlin:20261012T084500
DTEND;TZID=Europe/Berlin:20261012T093000
UID:W36162015-20261012T084500@VHSBÖBLINGEN-SINDELFINGEN
SUMMARY:Aqua-Fitness (W36162015) 
LOCATION:EH, Hallenbad, ___, Schlossstr. 33, 71139 Ehningen
END:VEVENT
BEGIN:VEVENT
DTSTAMP:20260421T041508
DTSTART;TZID=Europe/Berlin:20261019T084500
DTEND;TZID=Europe/Berlin:20261019T093000
UID:W36162015-20261019T084500@VHSBÖBLINGEN-SINDELFINGEN
SUMMARY:Aqua-Fitness (W36162015) 
LOCATION:EH, Hallenbad, ___, Schlossstr. 33, 71139 Ehningen
END:VEVENT
BEGIN:VEVENT
DTSTAMP:20260421T041508
DTSTART;TZID=Europe/Berlin:20261102T084500
DTEND;TZID=Europe/Berlin:20261102T093000
UID:W36162015-20261102T084500@VHSBÖBLINGEN-SINDELFINGEN
SUMMARY:Aqua-Fitness (W36162015) 
LOCATION:EH, Hallenbad, ___, Schlossstr. 33, 71139 Ehningen
END:VEVENT
BEGIN:VEVENT
DTSTAMP:20260421T041508
DTSTART;TZID=Europe/Berlin:20261109T084500
DTEND;TZID=Europe/Berlin:20261109T093000
UID:W36162015-20261109T084500@VHSBÖBLINGEN-SINDELFINGEN
SUMMARY:Aqua-Fitness (W36162015) 
LOCATION:EH, Hallenbad, ___, Schlossstr. 33, 71139 Ehningen
END:VEVENT
BEGIN:VEVENT
DTSTAMP:20260421T041508
DTSTART;TZID=Europe/Berlin:20261116T084500
DTEND;TZID=Europe/Berlin:20261116T093000
UID:W36162015-20261116T084500@VHSBÖBLINGEN-SINDELFINGEN
SUMMARY:Aqua-Fitness (W36162015) 
LOCATION:EH, Hallenbad, ___, Schlossstr. 33, 71139 Ehningen
END:VEVENT
BEGIN:VEVENT
DTSTAMP:20260421T041508
DTSTART;TZID=Europe/Berlin:20261123T084500
DTEND;TZID=Europe/Berlin:20261123T093000
UID:W36162015-20261123T084500@VHSBÖBLINGEN-SINDELFINGEN
SUMMARY:Aqua-Fitness (W36162015) 
LOCATION:EH, Hallenbad, ___, Schlossstr. 33, 71139 Ehningen
END:VEVENT
BEGIN:VEVENT
DTSTAMP:20260421T041508
DTSTART;TZID=Europe/Berlin:20261130T084500
DTEND;TZID=Europe/Berlin:20261130T093000
UID:W36162015-20261130T084500@VHSBÖBLINGEN-SINDELFINGEN
SUMMARY:Aqua-Fitness (W36162015) 
LOCATION:EH, Hallenbad, ___, Schlossstr. 33, 71139 Ehningen
END:VEVENT
BEGIN:VEVENT
DTSTAMP:20260421T041508
DTSTART;TZID=Europe/Berlin:20261207T084500
DTEND;TZID=Europe/Berlin:20261207T093000
UID:W36162015-20261207T084500@VHSBÖBLINGEN-SINDELFINGEN
SUMMARY:Aqua-Fitness (W36162015) 
LOCATION:EH, Hallenbad, ___, Schlossstr. 33, 71139 Ehningen
END:VEVENT
BEGIN:VEVENT
DTSTAMP:20260421T041508
DTSTART;TZID=Europe/Berlin:20261214T084500
DTEND;TZID=Europe/Berlin:20261214T093000
UID:W36162015-20261214T084500@VHSBÖBLINGEN-SINDELFINGEN
SUMMARY:Aqua-Fitness (W36162015) 
LOCATION:EH, Hallenbad, ___, Schlossstr. 33, 71139 Ehningen
END:VEVENT
BEGIN:VEVENT
DTSTAMP:20260421T041508
DTSTART;TZID=Europe/Berlin:20261221T084500
DTEND;TZID=Europe/Berlin:20261221T093000
UID:W36162015-20261221T084500@VHSBÖBLINGEN-SINDELFINGEN
SUMMARY:Aqua-Fitness (W36162015) 
LOCATION:EH, Hallenbad, ___, Schlossstr. 33, 71139 Ehningen
END:VEVENT
BEGIN:VEVENT
DTSTAMP:20260421T041508
DTSTART;TZID=Europe/Berlin:20270111T084500
DTEND;TZID=Europe/Berlin:20270111T093000
UID:W36162015-20270111T084500@VHSBÖBLINGEN-SINDELFINGEN
SUMMARY:Aqua-Fitness (W36162015) 
LOCATION:EH, Hallenbad, ___, Schlossstr. 33, 71139 Ehningen
END:VEVENT
BEGIN:VEVENT
DTSTAMP:20260421T041508
DTSTART;TZID=Europe/Berlin:20270118T084500
DTEND;TZID=Europe/Berlin:20270118T093000
UID:W36162015-20270118T084500@VHSBÖBLINGEN-SINDELFINGEN
SUMMARY:Aqua-Fitness (W36162015) 
LOCATION:EH, Hallenbad, ___, Schlossstr. 33, 71139 Ehningen
END:VEVENT
BEGIN:VEVENT
DTSTAMP:20260421T041508
DTSTART;TZID=Europe/Berlin:20270125T084500
DTEND;TZID=Europe/Berlin:20270125T093000
UID:W36162015-20270125T084500@VHSBÖBLINGEN-SINDELFINGEN
SUMMARY:Aqua-Fitness (W36162015) 
LOCATION:EH, Hallenbad, ___, Schlossstr. 33, 71139 Ehningen
END:VEVENT
BEGIN:VEVENT
DTSTAMP:20260421T041508
DTSTART;TZID=Europe/Berlin:20270201T084500
DTEND;TZID=Europe/Berlin:20270201T093000
UID:W36162015-20270201T084500@VHSBÖBLINGEN-SINDELFINGEN
SUMMARY:Aqua-Fitness (W36162015) 
LOCATION:EH, Hallenbad, ___, Schlossstr. 33, 71139 Ehningen
END:VEVENT
END:VCALENDAR