BEGIN:VCALENDAR
VERSION:2.0
PRODID:https://www.kufer.de/kuferweb / DE
METHOD:PUBLISH
CALSCALE:GREGORIAN
X-WR-TIMEZONE:Europe/Berlin
BEGIN:VTIMEZONE
TZID:Europe/Berlin
X-LIC-LOCATION:Europe/Berlin
BEGIN:DAYLIGHT
TZOFFSETFROM:+0100
TZOFFSETTO:+0200
TZNAME:CEST
DTSTART:19700329T020000
RRULE:FREQ=YEARLY;INTERVAL=1;BYDAY=-1SU;BYMONTH=3
END:DAYLIGHT
BEGIN:STANDARD
TZOFFSETFROM:+0200
TZOFFSETTO:+0100
TZNAME:CET
DTSTART:19701025T030000
RRULE:FREQ=YEARLY;INTERVAL=1;BYDAY=-1SU;BYMONTH=10
END:STANDARD
END:VTIMEZONE
BEGIN:VEVENT
DTSTAMP:20260421T190729
DTSTART;TZID=Europe/Berlin:20260924T122000
DTEND;TZID=Europe/Berlin:20260924T130500
UID:W36151515-20260924T122000@VHSBÖBLINGEN-SINDELFINGEN
SUMMARY:Aqua-Fitness-Mix (W36151515) 
LOCATION:EH, Hallenbad, ___, Schlossstr. 33, 71139 Ehningen
END:VEVENT
BEGIN:VEVENT
DTSTAMP:20260421T190729
DTSTART;TZID=Europe/Berlin:20261001T122000
DTEND;TZID=Europe/Berlin:20261001T130500
UID:W36151515-20261001T122000@VHSBÖBLINGEN-SINDELFINGEN
SUMMARY:Aqua-Fitness-Mix (W36151515) 
LOCATION:EH, Hallenbad, ___, Schlossstr. 33, 71139 Ehningen
END:VEVENT
BEGIN:VEVENT
DTSTAMP:20260421T190729
DTSTART;TZID=Europe/Berlin:20261008T122000
DTEND;TZID=Europe/Berlin:20261008T130500
UID:W36151515-20261008T122000@VHSBÖBLINGEN-SINDELFINGEN
SUMMARY:Aqua-Fitness-Mix (W36151515) 
LOCATION:EH, Hallenbad, ___, Schlossstr. 33, 71139 Ehningen
END:VEVENT
BEGIN:VEVENT
DTSTAMP:20260421T190729
DTSTART;TZID=Europe/Berlin:20261015T122000
DTEND;TZID=Europe/Berlin:20261015T130500
UID:W36151515-20261015T122000@VHSBÖBLINGEN-SINDELFINGEN
SUMMARY:Aqua-Fitness-Mix (W36151515) 
LOCATION:EH, Hallenbad, ___, Schlossstr. 33, 71139 Ehningen
END:VEVENT
BEGIN:VEVENT
DTSTAMP:20260421T190729
DTSTART;TZID=Europe/Berlin:20261022T122000
DTEND;TZID=Europe/Berlin:20261022T130500
UID:W36151515-20261022T122000@VHSBÖBLINGEN-SINDELFINGEN
SUMMARY:Aqua-Fitness-Mix (W36151515) 
LOCATION:EH, Hallenbad, ___, Schlossstr. 33, 71139 Ehningen
END:VEVENT
BEGIN:VEVENT
DTSTAMP:20260421T190729
DTSTART;TZID=Europe/Berlin:20261105T122000
DTEND;TZID=Europe/Berlin:20261105T130500
UID:W36151515-20261105T122000@VHSBÖBLINGEN-SINDELFINGEN
SUMMARY:Aqua-Fitness-Mix (W36151515) 
LOCATION:EH, Hallenbad, ___, Schlossstr. 33, 71139 Ehningen
END:VEVENT
BEGIN:VEVENT
DTSTAMP:20260421T190729
DTSTART;TZID=Europe/Berlin:20261112T122000
DTEND;TZID=Europe/Berlin:20261112T130500
UID:W36151515-20261112T122000@VHSBÖBLINGEN-SINDELFINGEN
SUMMARY:Aqua-Fitness-Mix (W36151515) 
LOCATION:EH, Hallenbad, ___, Schlossstr. 33, 71139 Ehningen
END:VEVENT
BEGIN:VEVENT
DTSTAMP:20260421T190729
DTSTART;TZID=Europe/Berlin:20261119T122000
DTEND;TZID=Europe/Berlin:20261119T130500
UID:W36151515-20261119T122000@VHSBÖBLINGEN-SINDELFINGEN
SUMMARY:Aqua-Fitness-Mix (W36151515) 
LOCATION:EH, Hallenbad, ___, Schlossstr. 33, 71139 Ehningen
END:VEVENT
BEGIN:VEVENT
DTSTAMP:20260421T190729
DTSTART;TZID=Europe/Berlin:20261126T122000
DTEND;TZID=Europe/Berlin:20261126T130500
UID:W36151515-20261126T122000@VHSBÖBLINGEN-SINDELFINGEN
SUMMARY:Aqua-Fitness-Mix (W36151515) 
LOCATION:EH, Hallenbad, ___, Schlossstr. 33, 71139 Ehningen
END:VEVENT
BEGIN:VEVENT
DTSTAMP:20260421T190729
DTSTART;TZID=Europe/Berlin:20261203T122000
DTEND;TZID=Europe/Berlin:20261203T130500
UID:W36151515-20261203T122000@VHSBÖBLINGEN-SINDELFINGEN
SUMMARY:Aqua-Fitness-Mix (W36151515) 
LOCATION:EH, Hallenbad, ___, Schlossstr. 33, 71139 Ehningen
END:VEVENT
BEGIN:VEVENT
DTSTAMP:20260421T190729
DTSTART;TZID=Europe/Berlin:20261210T122000
DTEND;TZID=Europe/Berlin:20261210T130500
UID:W36151515-20261210T122000@VHSBÖBLINGEN-SINDELFINGEN
SUMMARY:Aqua-Fitness-Mix (W36151515) 
LOCATION:EH, Hallenbad, ___, Schlossstr. 33, 71139 Ehningen
END:VEVENT
BEGIN:VEVENT
DTSTAMP:20260421T190729
DTSTART;TZID=Europe/Berlin:20261217T122000
DTEND;TZID=Europe/Berlin:20261217T130500
UID:W36151515-20261217T122000@VHSBÖBLINGEN-SINDELFINGEN
SUMMARY:Aqua-Fitness-Mix (W36151515) 
LOCATION:EH, Hallenbad, ___, Schlossstr. 33, 71139 Ehningen
END:VEVENT
BEGIN:VEVENT
DTSTAMP:20260421T190729
DTSTART;TZID=Europe/Berlin:20270114T122000
DTEND;TZID=Europe/Berlin:20270114T130500
UID:W36151515-20270114T122000@VHSBÖBLINGEN-SINDELFINGEN
SUMMARY:Aqua-Fitness-Mix (W36151515) 
LOCATION:EH, Hallenbad, ___, Schlossstr. 33, 71139 Ehningen
END:VEVENT
BEGIN:VEVENT
DTSTAMP:20260421T190729
DTSTART;TZID=Europe/Berlin:20270121T122000
DTEND;TZID=Europe/Berlin:20270121T130500
UID:W36151515-20270121T122000@VHSBÖBLINGEN-SINDELFINGEN
SUMMARY:Aqua-Fitness-Mix (W36151515) 
LOCATION:EH, Hallenbad, ___, Schlossstr. 33, 71139 Ehningen
END:VEVENT
BEGIN:VEVENT
DTSTAMP:20260421T190729
DTSTART;TZID=Europe/Berlin:20270128T122000
DTEND;TZID=Europe/Berlin:20270128T130500
UID:W36151515-20270128T122000@VHSBÖBLINGEN-SINDELFINGEN
SUMMARY:Aqua-Fitness-Mix (W36151515) 
LOCATION:EH, Hallenbad, ___, Schlossstr. 33, 71139 Ehningen
END:VEVENT
BEGIN:VEVENT
DTSTAMP:20260421T190729
DTSTART;TZID=Europe/Berlin:20270204T122000
DTEND;TZID=Europe/Berlin:20270204T130500
UID:W36151515-20270204T122000@VHSBÖBLINGEN-SINDELFINGEN
SUMMARY:Aqua-Fitness-Mix (W36151515) 
LOCATION:EH, Hallenbad, ___, Schlossstr. 33, 71139 Ehningen
END:VEVENT
END:VCALENDAR