BEGIN:VCALENDAR
VERSION:2.0
PRODID:https://www.kufer.de/kuferweb / DE
METHOD:PUBLISH
CALSCALE:GREGORIAN
X-WR-TIMEZONE:Europe/Berlin
BEGIN:VTIMEZONE
TZID:Europe/Berlin
X-LIC-LOCATION:Europe/Berlin
BEGIN:DAYLIGHT
TZOFFSETFROM:+0100
TZOFFSETTO:+0200
TZNAME:CEST
DTSTART:19700329T020000
RRULE:FREQ=YEARLY;INTERVAL=1;BYDAY=-1SU;BYMONTH=3
END:DAYLIGHT
BEGIN:STANDARD
TZOFFSETFROM:+0200
TZOFFSETTO:+0100
TZNAME:CET
DTSTART:19701025T030000
RRULE:FREQ=YEARLY;INTERVAL=1;BYDAY=-1SU;BYMONTH=10
END:STANDARD
END:VTIMEZONE
BEGIN:VEVENT
DTSTAMP:20260421T010946
DTSTART;TZID=Europe/Berlin:20260924T113000
DTEND;TZID=Europe/Berlin:20260924T121500
UID:W36151315-20260924T113000@VHSBÖBLINGEN-SINDELFINGEN
SUMMARY:Aqua-Fitness-Mix (W36151315) 
LOCATION:EH, Hallenbad, ___, Schlossstr. 33, 71139 Ehningen
END:VEVENT
BEGIN:VEVENT
DTSTAMP:20260421T010946
DTSTART;TZID=Europe/Berlin:20261001T113000
DTEND;TZID=Europe/Berlin:20261001T121500
UID:W36151315-20261001T113000@VHSBÖBLINGEN-SINDELFINGEN
SUMMARY:Aqua-Fitness-Mix (W36151315) 
LOCATION:EH, Hallenbad, ___, Schlossstr. 33, 71139 Ehningen
END:VEVENT
BEGIN:VEVENT
DTSTAMP:20260421T010946
DTSTART;TZID=Europe/Berlin:20261008T113000
DTEND;TZID=Europe/Berlin:20261008T121500
UID:W36151315-20261008T113000@VHSBÖBLINGEN-SINDELFINGEN
SUMMARY:Aqua-Fitness-Mix (W36151315) 
LOCATION:EH, Hallenbad, ___, Schlossstr. 33, 71139 Ehningen
END:VEVENT
BEGIN:VEVENT
DTSTAMP:20260421T010946
DTSTART;TZID=Europe/Berlin:20261015T113000
DTEND;TZID=Europe/Berlin:20261015T121500
UID:W36151315-20261015T113000@VHSBÖBLINGEN-SINDELFINGEN
SUMMARY:Aqua-Fitness-Mix (W36151315) 
LOCATION:EH, Hallenbad, ___, Schlossstr. 33, 71139 Ehningen
END:VEVENT
BEGIN:VEVENT
DTSTAMP:20260421T010946
DTSTART;TZID=Europe/Berlin:20261022T113000
DTEND;TZID=Europe/Berlin:20261022T121500
UID:W36151315-20261022T113000@VHSBÖBLINGEN-SINDELFINGEN
SUMMARY:Aqua-Fitness-Mix (W36151315) 
LOCATION:EH, Hallenbad, ___, Schlossstr. 33, 71139 Ehningen
END:VEVENT
BEGIN:VEVENT
DTSTAMP:20260421T010946
DTSTART;TZID=Europe/Berlin:20261105T113000
DTEND;TZID=Europe/Berlin:20261105T121500
UID:W36151315-20261105T113000@VHSBÖBLINGEN-SINDELFINGEN
SUMMARY:Aqua-Fitness-Mix (W36151315) 
LOCATION:EH, Hallenbad, ___, Schlossstr. 33, 71139 Ehningen
END:VEVENT
BEGIN:VEVENT
DTSTAMP:20260421T010946
DTSTART;TZID=Europe/Berlin:20261112T113000
DTEND;TZID=Europe/Berlin:20261112T121500
UID:W36151315-20261112T113000@VHSBÖBLINGEN-SINDELFINGEN
SUMMARY:Aqua-Fitness-Mix (W36151315) 
LOCATION:EH, Hallenbad, ___, Schlossstr. 33, 71139 Ehningen
END:VEVENT
BEGIN:VEVENT
DTSTAMP:20260421T010946
DTSTART;TZID=Europe/Berlin:20261119T113000
DTEND;TZID=Europe/Berlin:20261119T121500
UID:W36151315-20261119T113000@VHSBÖBLINGEN-SINDELFINGEN
SUMMARY:Aqua-Fitness-Mix (W36151315) 
LOCATION:EH, Hallenbad, ___, Schlossstr. 33, 71139 Ehningen
END:VEVENT
BEGIN:VEVENT
DTSTAMP:20260421T010946
DTSTART;TZID=Europe/Berlin:20261126T113000
DTEND;TZID=Europe/Berlin:20261126T121500
UID:W36151315-20261126T113000@VHSBÖBLINGEN-SINDELFINGEN
SUMMARY:Aqua-Fitness-Mix (W36151315) 
LOCATION:EH, Hallenbad, ___, Schlossstr. 33, 71139 Ehningen
END:VEVENT
BEGIN:VEVENT
DTSTAMP:20260421T010946
DTSTART;TZID=Europe/Berlin:20261203T113000
DTEND;TZID=Europe/Berlin:20261203T121500
UID:W36151315-20261203T113000@VHSBÖBLINGEN-SINDELFINGEN
SUMMARY:Aqua-Fitness-Mix (W36151315) 
LOCATION:EH, Hallenbad, ___, Schlossstr. 33, 71139 Ehningen
END:VEVENT
BEGIN:VEVENT
DTSTAMP:20260421T010946
DTSTART;TZID=Europe/Berlin:20261210T113000
DTEND;TZID=Europe/Berlin:20261210T121500
UID:W36151315-20261210T113000@VHSBÖBLINGEN-SINDELFINGEN
SUMMARY:Aqua-Fitness-Mix (W36151315) 
LOCATION:EH, Hallenbad, ___, Schlossstr. 33, 71139 Ehningen
END:VEVENT
BEGIN:VEVENT
DTSTAMP:20260421T010946
DTSTART;TZID=Europe/Berlin:20261217T113000
DTEND;TZID=Europe/Berlin:20261217T121500
UID:W36151315-20261217T113000@VHSBÖBLINGEN-SINDELFINGEN
SUMMARY:Aqua-Fitness-Mix (W36151315) 
LOCATION:EH, Hallenbad, ___, Schlossstr. 33, 71139 Ehningen
END:VEVENT
BEGIN:VEVENT
DTSTAMP:20260421T010946
DTSTART;TZID=Europe/Berlin:20270114T113000
DTEND;TZID=Europe/Berlin:20270114T121500
UID:W36151315-20270114T113000@VHSBÖBLINGEN-SINDELFINGEN
SUMMARY:Aqua-Fitness-Mix (W36151315) 
LOCATION:EH, Hallenbad, ___, Schlossstr. 33, 71139 Ehningen
END:VEVENT
BEGIN:VEVENT
DTSTAMP:20260421T010946
DTSTART;TZID=Europe/Berlin:20270121T113000
DTEND;TZID=Europe/Berlin:20270121T121500
UID:W36151315-20270121T113000@VHSBÖBLINGEN-SINDELFINGEN
SUMMARY:Aqua-Fitness-Mix (W36151315) 
LOCATION:EH, Hallenbad, ___, Schlossstr. 33, 71139 Ehningen
END:VEVENT
BEGIN:VEVENT
DTSTAMP:20260421T010946
DTSTART;TZID=Europe/Berlin:20270128T113000
DTEND;TZID=Europe/Berlin:20270128T121500
UID:W36151315-20270128T113000@VHSBÖBLINGEN-SINDELFINGEN
SUMMARY:Aqua-Fitness-Mix (W36151315) 
LOCATION:EH, Hallenbad, ___, Schlossstr. 33, 71139 Ehningen
END:VEVENT
BEGIN:VEVENT
DTSTAMP:20260421T010946
DTSTART;TZID=Europe/Berlin:20270204T113000
DTEND;TZID=Europe/Berlin:20270204T121500
UID:W36151315-20270204T113000@VHSBÖBLINGEN-SINDELFINGEN
SUMMARY:Aqua-Fitness-Mix (W36151315) 
LOCATION:EH, Hallenbad, ___, Schlossstr. 33, 71139 Ehningen
END:VEVENT
END:VCALENDAR