BEGIN:VCALENDAR
VERSION:2.0
PRODID:https://www.kufer.de/kuferweb / DE
METHOD:PUBLISH
CALSCALE:GREGORIAN
X-WR-TIMEZONE:Europe/Berlin
BEGIN:VTIMEZONE
TZID:Europe/Berlin
X-LIC-LOCATION:Europe/Berlin
BEGIN:DAYLIGHT
TZOFFSETFROM:+0100
TZOFFSETTO:+0200
TZNAME:CEST
DTSTART:19700329T020000
RRULE:FREQ=YEARLY;INTERVAL=1;BYDAY=-1SU;BYMONTH=3
END:DAYLIGHT
BEGIN:STANDARD
TZOFFSETFROM:+0200
TZOFFSETTO:+0100
TZNAME:CET
DTSTART:19701025T030000
RRULE:FREQ=YEARLY;INTERVAL=1;BYDAY=-1SU;BYMONTH=10
END:STANDARD
END:VTIMEZONE
BEGIN:VEVENT
DTSTAMP:20260421T011110
DTSTART;TZID=Europe/Berlin:20260915T180000
DTEND;TZID=Europe/Berlin:20260915T190000
UID:W36151115-20260915T180000@VHSBÖBLINGEN-SINDELFINGEN
SUMMARY:Aqua-Fitness-Mix (W36151115) 
LOCATION:EH, Hallenbad, ___, Schlossstr. 33, 71139 Ehningen
END:VEVENT
BEGIN:VEVENT
DTSTAMP:20260421T011110
DTSTART;TZID=Europe/Berlin:20260922T180000
DTEND;TZID=Europe/Berlin:20260922T190000
UID:W36151115-20260922T180000@VHSBÖBLINGEN-SINDELFINGEN
SUMMARY:Aqua-Fitness-Mix (W36151115) 
LOCATION:EH, Hallenbad, ___, Schlossstr. 33, 71139 Ehningen
END:VEVENT
BEGIN:VEVENT
DTSTAMP:20260421T011110
DTSTART;TZID=Europe/Berlin:20260929T180000
DTEND;TZID=Europe/Berlin:20260929T190000
UID:W36151115-20260929T180000@VHSBÖBLINGEN-SINDELFINGEN
SUMMARY:Aqua-Fitness-Mix (W36151115) 
LOCATION:EH, Hallenbad, ___, Schlossstr. 33, 71139 Ehningen
END:VEVENT
BEGIN:VEVENT
DTSTAMP:20260421T011110
DTSTART;TZID=Europe/Berlin:20261006T180000
DTEND;TZID=Europe/Berlin:20261006T190000
UID:W36151115-20261006T180000@VHSBÖBLINGEN-SINDELFINGEN
SUMMARY:Aqua-Fitness-Mix (W36151115) 
LOCATION:EH, Hallenbad, ___, Schlossstr. 33, 71139 Ehningen
END:VEVENT
BEGIN:VEVENT
DTSTAMP:20260421T011110
DTSTART;TZID=Europe/Berlin:20261013T180000
DTEND;TZID=Europe/Berlin:20261013T190000
UID:W36151115-20261013T180000@VHSBÖBLINGEN-SINDELFINGEN
SUMMARY:Aqua-Fitness-Mix (W36151115) 
LOCATION:EH, Hallenbad, ___, Schlossstr. 33, 71139 Ehningen
END:VEVENT
BEGIN:VEVENT
DTSTAMP:20260421T011110
DTSTART;TZID=Europe/Berlin:20261020T180000
DTEND;TZID=Europe/Berlin:20261020T190000
UID:W36151115-20261020T180000@VHSBÖBLINGEN-SINDELFINGEN
SUMMARY:Aqua-Fitness-Mix (W36151115) 
LOCATION:EH, Hallenbad, ___, Schlossstr. 33, 71139 Ehningen
END:VEVENT
BEGIN:VEVENT
DTSTAMP:20260421T011110
DTSTART;TZID=Europe/Berlin:20261103T180000
DTEND;TZID=Europe/Berlin:20261103T190000
UID:W36151115-20261103T180000@VHSBÖBLINGEN-SINDELFINGEN
SUMMARY:Aqua-Fitness-Mix (W36151115) 
LOCATION:EH, Hallenbad, ___, Schlossstr. 33, 71139 Ehningen
END:VEVENT
BEGIN:VEVENT
DTSTAMP:20260421T011110
DTSTART;TZID=Europe/Berlin:20261110T180000
DTEND;TZID=Europe/Berlin:20261110T190000
UID:W36151115-20261110T180000@VHSBÖBLINGEN-SINDELFINGEN
SUMMARY:Aqua-Fitness-Mix (W36151115) 
LOCATION:EH, Hallenbad, ___, Schlossstr. 33, 71139 Ehningen
END:VEVENT
BEGIN:VEVENT
DTSTAMP:20260421T011110
DTSTART;TZID=Europe/Berlin:20261117T180000
DTEND;TZID=Europe/Berlin:20261117T190000
UID:W36151115-20261117T180000@VHSBÖBLINGEN-SINDELFINGEN
SUMMARY:Aqua-Fitness-Mix (W36151115) 
LOCATION:EH, Hallenbad, ___, Schlossstr. 33, 71139 Ehningen
END:VEVENT
BEGIN:VEVENT
DTSTAMP:20260421T011110
DTSTART;TZID=Europe/Berlin:20261124T180000
DTEND;TZID=Europe/Berlin:20261124T190000
UID:W36151115-20261124T180000@VHSBÖBLINGEN-SINDELFINGEN
SUMMARY:Aqua-Fitness-Mix (W36151115) 
LOCATION:EH, Hallenbad, ___, Schlossstr. 33, 71139 Ehningen
END:VEVENT
BEGIN:VEVENT
DTSTAMP:20260421T011110
DTSTART;TZID=Europe/Berlin:20261201T180000
DTEND;TZID=Europe/Berlin:20261201T190000
UID:W36151115-20261201T180000@VHSBÖBLINGEN-SINDELFINGEN
SUMMARY:Aqua-Fitness-Mix (W36151115) 
LOCATION:EH, Hallenbad, ___, Schlossstr. 33, 71139 Ehningen
END:VEVENT
BEGIN:VEVENT
DTSTAMP:20260421T011110
DTSTART;TZID=Europe/Berlin:20261208T180000
DTEND;TZID=Europe/Berlin:20261208T190000
UID:W36151115-20261208T180000@VHSBÖBLINGEN-SINDELFINGEN
SUMMARY:Aqua-Fitness-Mix (W36151115) 
LOCATION:EH, Hallenbad, ___, Schlossstr. 33, 71139 Ehningen
END:VEVENT
BEGIN:VEVENT
DTSTAMP:20260421T011110
DTSTART;TZID=Europe/Berlin:20261215T180000
DTEND;TZID=Europe/Berlin:20261215T190000
UID:W36151115-20261215T180000@VHSBÖBLINGEN-SINDELFINGEN
SUMMARY:Aqua-Fitness-Mix (W36151115) 
LOCATION:EH, Hallenbad, ___, Schlossstr. 33, 71139 Ehningen
END:VEVENT
BEGIN:VEVENT
DTSTAMP:20260421T011110
DTSTART;TZID=Europe/Berlin:20261222T180000
DTEND;TZID=Europe/Berlin:20261222T190000
UID:W36151115-20261222T180000@VHSBÖBLINGEN-SINDELFINGEN
SUMMARY:Aqua-Fitness-Mix (W36151115) 
LOCATION:EH, Hallenbad, ___, Schlossstr. 33, 71139 Ehningen
END:VEVENT
BEGIN:VEVENT
DTSTAMP:20260421T011110
DTSTART;TZID=Europe/Berlin:20270112T180000
DTEND;TZID=Europe/Berlin:20270112T190000
UID:W36151115-20270112T180000@VHSBÖBLINGEN-SINDELFINGEN
SUMMARY:Aqua-Fitness-Mix (W36151115) 
LOCATION:EH, Hallenbad, ___, Schlossstr. 33, 71139 Ehningen
END:VEVENT
BEGIN:VEVENT
DTSTAMP:20260421T011110
DTSTART;TZID=Europe/Berlin:20270119T180000
DTEND;TZID=Europe/Berlin:20270119T190000
UID:W36151115-20270119T180000@VHSBÖBLINGEN-SINDELFINGEN
SUMMARY:Aqua-Fitness-Mix (W36151115) 
LOCATION:EH, Hallenbad, ___, Schlossstr. 33, 71139 Ehningen
END:VEVENT
BEGIN:VEVENT
DTSTAMP:20260421T011110
DTSTART;TZID=Europe/Berlin:20270126T180000
DTEND;TZID=Europe/Berlin:20270126T190000
UID:W36151115-20270126T180000@VHSBÖBLINGEN-SINDELFINGEN
SUMMARY:Aqua-Fitness-Mix (W36151115) 
LOCATION:EH, Hallenbad, ___, Schlossstr. 33, 71139 Ehningen
END:VEVENT
BEGIN:VEVENT
DTSTAMP:20260421T011110
DTSTART;TZID=Europe/Berlin:20270202T180000
DTEND;TZID=Europe/Berlin:20270202T190000
UID:W36151115-20270202T180000@VHSBÖBLINGEN-SINDELFINGEN
SUMMARY:Aqua-Fitness-Mix (W36151115) 
LOCATION:EH, Hallenbad, ___, Schlossstr. 33, 71139 Ehningen
END:VEVENT
END:VCALENDAR