BEGIN:VCALENDAR
VERSION:2.0
PRODID:https://www.kufer.de/kuferweb / DE
METHOD:PUBLISH
CALSCALE:GREGORIAN
X-WR-TIMEZONE:Europe/Berlin
BEGIN:VTIMEZONE
TZID:Europe/Berlin
X-LIC-LOCATION:Europe/Berlin
BEGIN:DAYLIGHT
TZOFFSETFROM:+0100
TZOFFSETTO:+0200
TZNAME:CEST
DTSTART:19700329T020000
RRULE:FREQ=YEARLY;INTERVAL=1;BYDAY=-1SU;BYMONTH=3
END:DAYLIGHT
BEGIN:STANDARD
TZOFFSETFROM:+0200
TZOFFSETTO:+0100
TZNAME:CET
DTSTART:19701025T030000
RRULE:FREQ=YEARLY;INTERVAL=1;BYDAY=-1SU;BYMONTH=10
END:STANDARD
END:VTIMEZONE
BEGIN:VEVENT
DTSTAMP:20260422T015013
DTSTART;TZID=Europe/Berlin:20260915T170000
DTEND;TZID=Europe/Berlin:20260915T180000
UID:W36150915-20260915T170000@VHSBÖBLINGEN-SINDELFINGEN
SUMMARY:Aqua-Fitness-Mix (W36150915) 
LOCATION:EH, Hallenbad, ___, Schlossstr. 33, 71139 Ehningen
END:VEVENT
BEGIN:VEVENT
DTSTAMP:20260422T015013
DTSTART;TZID=Europe/Berlin:20260922T170000
DTEND;TZID=Europe/Berlin:20260922T180000
UID:W36150915-20260922T170000@VHSBÖBLINGEN-SINDELFINGEN
SUMMARY:Aqua-Fitness-Mix (W36150915) 
LOCATION:EH, Hallenbad, ___, Schlossstr. 33, 71139 Ehningen
END:VEVENT
BEGIN:VEVENT
DTSTAMP:20260422T015013
DTSTART;TZID=Europe/Berlin:20260929T170000
DTEND;TZID=Europe/Berlin:20260929T180000
UID:W36150915-20260929T170000@VHSBÖBLINGEN-SINDELFINGEN
SUMMARY:Aqua-Fitness-Mix (W36150915) 
LOCATION:EH, Hallenbad, ___, Schlossstr. 33, 71139 Ehningen
END:VEVENT
BEGIN:VEVENT
DTSTAMP:20260422T015013
DTSTART;TZID=Europe/Berlin:20261006T170000
DTEND;TZID=Europe/Berlin:20261006T180000
UID:W36150915-20261006T170000@VHSBÖBLINGEN-SINDELFINGEN
SUMMARY:Aqua-Fitness-Mix (W36150915) 
LOCATION:EH, Hallenbad, ___, Schlossstr. 33, 71139 Ehningen
END:VEVENT
BEGIN:VEVENT
DTSTAMP:20260422T015013
DTSTART;TZID=Europe/Berlin:20261013T170000
DTEND;TZID=Europe/Berlin:20261013T180000
UID:W36150915-20261013T170000@VHSBÖBLINGEN-SINDELFINGEN
SUMMARY:Aqua-Fitness-Mix (W36150915) 
LOCATION:EH, Hallenbad, ___, Schlossstr. 33, 71139 Ehningen
END:VEVENT
BEGIN:VEVENT
DTSTAMP:20260422T015013
DTSTART;TZID=Europe/Berlin:20261020T170000
DTEND;TZID=Europe/Berlin:20261020T180000
UID:W36150915-20261020T170000@VHSBÖBLINGEN-SINDELFINGEN
SUMMARY:Aqua-Fitness-Mix (W36150915) 
LOCATION:EH, Hallenbad, ___, Schlossstr. 33, 71139 Ehningen
END:VEVENT
BEGIN:VEVENT
DTSTAMP:20260422T015013
DTSTART;TZID=Europe/Berlin:20261103T170000
DTEND;TZID=Europe/Berlin:20261103T180000
UID:W36150915-20261103T170000@VHSBÖBLINGEN-SINDELFINGEN
SUMMARY:Aqua-Fitness-Mix (W36150915) 
LOCATION:EH, Hallenbad, ___, Schlossstr. 33, 71139 Ehningen
END:VEVENT
BEGIN:VEVENT
DTSTAMP:20260422T015013
DTSTART;TZID=Europe/Berlin:20261110T170000
DTEND;TZID=Europe/Berlin:20261110T180000
UID:W36150915-20261110T170000@VHSBÖBLINGEN-SINDELFINGEN
SUMMARY:Aqua-Fitness-Mix (W36150915) 
LOCATION:EH, Hallenbad, ___, Schlossstr. 33, 71139 Ehningen
END:VEVENT
BEGIN:VEVENT
DTSTAMP:20260422T015013
DTSTART;TZID=Europe/Berlin:20261117T170000
DTEND;TZID=Europe/Berlin:20261117T180000
UID:W36150915-20261117T170000@VHSBÖBLINGEN-SINDELFINGEN
SUMMARY:Aqua-Fitness-Mix (W36150915) 
LOCATION:EH, Hallenbad, ___, Schlossstr. 33, 71139 Ehningen
END:VEVENT
BEGIN:VEVENT
DTSTAMP:20260422T015013
DTSTART;TZID=Europe/Berlin:20261124T170000
DTEND;TZID=Europe/Berlin:20261124T180000
UID:W36150915-20261124T170000@VHSBÖBLINGEN-SINDELFINGEN
SUMMARY:Aqua-Fitness-Mix (W36150915) 
LOCATION:EH, Hallenbad, ___, Schlossstr. 33, 71139 Ehningen
END:VEVENT
BEGIN:VEVENT
DTSTAMP:20260422T015013
DTSTART;TZID=Europe/Berlin:20261201T170000
DTEND;TZID=Europe/Berlin:20261201T180000
UID:W36150915-20261201T170000@VHSBÖBLINGEN-SINDELFINGEN
SUMMARY:Aqua-Fitness-Mix (W36150915) 
LOCATION:EH, Hallenbad, ___, Schlossstr. 33, 71139 Ehningen
END:VEVENT
BEGIN:VEVENT
DTSTAMP:20260422T015013
DTSTART;TZID=Europe/Berlin:20261208T170000
DTEND;TZID=Europe/Berlin:20261208T180000
UID:W36150915-20261208T170000@VHSBÖBLINGEN-SINDELFINGEN
SUMMARY:Aqua-Fitness-Mix (W36150915) 
LOCATION:EH, Hallenbad, ___, Schlossstr. 33, 71139 Ehningen
END:VEVENT
BEGIN:VEVENT
DTSTAMP:20260422T015013
DTSTART;TZID=Europe/Berlin:20261215T170000
DTEND;TZID=Europe/Berlin:20261215T180000
UID:W36150915-20261215T170000@VHSBÖBLINGEN-SINDELFINGEN
SUMMARY:Aqua-Fitness-Mix (W36150915) 
LOCATION:EH, Hallenbad, ___, Schlossstr. 33, 71139 Ehningen
END:VEVENT
BEGIN:VEVENT
DTSTAMP:20260422T015013
DTSTART;TZID=Europe/Berlin:20261222T170000
DTEND;TZID=Europe/Berlin:20261222T180000
UID:W36150915-20261222T170000@VHSBÖBLINGEN-SINDELFINGEN
SUMMARY:Aqua-Fitness-Mix (W36150915) 
LOCATION:EH, Hallenbad, ___, Schlossstr. 33, 71139 Ehningen
END:VEVENT
BEGIN:VEVENT
DTSTAMP:20260422T015013
DTSTART;TZID=Europe/Berlin:20270112T170000
DTEND;TZID=Europe/Berlin:20270112T180000
UID:W36150915-20270112T170000@VHSBÖBLINGEN-SINDELFINGEN
SUMMARY:Aqua-Fitness-Mix (W36150915) 
LOCATION:EH, Hallenbad, ___, Schlossstr. 33, 71139 Ehningen
END:VEVENT
BEGIN:VEVENT
DTSTAMP:20260422T015013
DTSTART;TZID=Europe/Berlin:20270119T170000
DTEND;TZID=Europe/Berlin:20270119T180000
UID:W36150915-20270119T170000@VHSBÖBLINGEN-SINDELFINGEN
SUMMARY:Aqua-Fitness-Mix (W36150915) 
LOCATION:EH, Hallenbad, ___, Schlossstr. 33, 71139 Ehningen
END:VEVENT
BEGIN:VEVENT
DTSTAMP:20260422T015013
DTSTART;TZID=Europe/Berlin:20270126T170000
DTEND;TZID=Europe/Berlin:20270126T180000
UID:W36150915-20270126T170000@VHSBÖBLINGEN-SINDELFINGEN
SUMMARY:Aqua-Fitness-Mix (W36150915) 
LOCATION:EH, Hallenbad, ___, Schlossstr. 33, 71139 Ehningen
END:VEVENT
BEGIN:VEVENT
DTSTAMP:20260422T015013
DTSTART;TZID=Europe/Berlin:20270202T170000
DTEND;TZID=Europe/Berlin:20270202T180000
UID:W36150915-20270202T170000@VHSBÖBLINGEN-SINDELFINGEN
SUMMARY:Aqua-Fitness-Mix (W36150915) 
LOCATION:EH, Hallenbad, ___, Schlossstr. 33, 71139 Ehningen
END:VEVENT
END:VCALENDAR