BEGIN:VCALENDAR
VERSION:2.0
PRODID:https://www.kufer.de/kuferweb / DE
METHOD:PUBLISH
CALSCALE:GREGORIAN
X-WR-TIMEZONE:Europe/Berlin
BEGIN:VTIMEZONE
TZID:Europe/Berlin
X-LIC-LOCATION:Europe/Berlin
BEGIN:DAYLIGHT
TZOFFSETFROM:+0100
TZOFFSETTO:+0200
TZNAME:CEST
DTSTART:19700329T020000
RRULE:FREQ=YEARLY;INTERVAL=1;BYDAY=-1SU;BYMONTH=3
END:DAYLIGHT
BEGIN:STANDARD
TZOFFSETFROM:+0200
TZOFFSETTO:+0100
TZNAME:CET
DTSTART:19701025T030000
RRULE:FREQ=YEARLY;INTERVAL=1;BYDAY=-1SU;BYMONTH=10
END:STANDARD
END:VTIMEZONE
BEGIN:VEVENT
DTSTAMP:20260421T171613
DTSTART;TZID=Europe/Berlin:20260917T193000
DTEND;TZID=Europe/Berlin:20260917T203000
UID:W36150115-20260917T193000@VHSBÖBLINGEN-SINDELFINGEN
SUMMARY:Aqua-Fitness-Mix (W36150115) 
LOCATION:EH, Hallenbad, ___, Schlossstr. 33, 71139 Ehningen
END:VEVENT
BEGIN:VEVENT
DTSTAMP:20260421T171613
DTSTART;TZID=Europe/Berlin:20260924T193000
DTEND;TZID=Europe/Berlin:20260924T203000
UID:W36150115-20260924T193000@VHSBÖBLINGEN-SINDELFINGEN
SUMMARY:Aqua-Fitness-Mix (W36150115) 
LOCATION:EH, Hallenbad, ___, Schlossstr. 33, 71139 Ehningen
END:VEVENT
BEGIN:VEVENT
DTSTAMP:20260421T171613
DTSTART;TZID=Europe/Berlin:20261001T193000
DTEND;TZID=Europe/Berlin:20261001T203000
UID:W36150115-20261001T193000@VHSBÖBLINGEN-SINDELFINGEN
SUMMARY:Aqua-Fitness-Mix (W36150115) 
LOCATION:EH, Hallenbad, ___, Schlossstr. 33, 71139 Ehningen
END:VEVENT
BEGIN:VEVENT
DTSTAMP:20260421T171613
DTSTART;TZID=Europe/Berlin:20261008T193000
DTEND;TZID=Europe/Berlin:20261008T203000
UID:W36150115-20261008T193000@VHSBÖBLINGEN-SINDELFINGEN
SUMMARY:Aqua-Fitness-Mix (W36150115) 
LOCATION:EH, Hallenbad, ___, Schlossstr. 33, 71139 Ehningen
END:VEVENT
BEGIN:VEVENT
DTSTAMP:20260421T171613
DTSTART;TZID=Europe/Berlin:20261015T193000
DTEND;TZID=Europe/Berlin:20261015T203000
UID:W36150115-20261015T193000@VHSBÖBLINGEN-SINDELFINGEN
SUMMARY:Aqua-Fitness-Mix (W36150115) 
LOCATION:EH, Hallenbad, ___, Schlossstr. 33, 71139 Ehningen
END:VEVENT
BEGIN:VEVENT
DTSTAMP:20260421T171613
DTSTART;TZID=Europe/Berlin:20261022T193000
DTEND;TZID=Europe/Berlin:20261022T203000
UID:W36150115-20261022T193000@VHSBÖBLINGEN-SINDELFINGEN
SUMMARY:Aqua-Fitness-Mix (W36150115) 
LOCATION:EH, Hallenbad, ___, Schlossstr. 33, 71139 Ehningen
END:VEVENT
BEGIN:VEVENT
DTSTAMP:20260421T171613
DTSTART;TZID=Europe/Berlin:20261105T193000
DTEND;TZID=Europe/Berlin:20261105T203000
UID:W36150115-20261105T193000@VHSBÖBLINGEN-SINDELFINGEN
SUMMARY:Aqua-Fitness-Mix (W36150115) 
LOCATION:EH, Hallenbad, ___, Schlossstr. 33, 71139 Ehningen
END:VEVENT
BEGIN:VEVENT
DTSTAMP:20260421T171613
DTSTART;TZID=Europe/Berlin:20261112T193000
DTEND;TZID=Europe/Berlin:20261112T203000
UID:W36150115-20261112T193000@VHSBÖBLINGEN-SINDELFINGEN
SUMMARY:Aqua-Fitness-Mix (W36150115) 
LOCATION:EH, Hallenbad, ___, Schlossstr. 33, 71139 Ehningen
END:VEVENT
BEGIN:VEVENT
DTSTAMP:20260421T171613
DTSTART;TZID=Europe/Berlin:20261119T193000
DTEND;TZID=Europe/Berlin:20261119T203000
UID:W36150115-20261119T193000@VHSBÖBLINGEN-SINDELFINGEN
SUMMARY:Aqua-Fitness-Mix (W36150115) 
LOCATION:EH, Hallenbad, ___, Schlossstr. 33, 71139 Ehningen
END:VEVENT
BEGIN:VEVENT
DTSTAMP:20260421T171613
DTSTART;TZID=Europe/Berlin:20261126T193000
DTEND;TZID=Europe/Berlin:20261126T203000
UID:W36150115-20261126T193000@VHSBÖBLINGEN-SINDELFINGEN
SUMMARY:Aqua-Fitness-Mix (W36150115) 
LOCATION:EH, Hallenbad, ___, Schlossstr. 33, 71139 Ehningen
END:VEVENT
BEGIN:VEVENT
DTSTAMP:20260421T171613
DTSTART;TZID=Europe/Berlin:20261203T193000
DTEND;TZID=Europe/Berlin:20261203T203000
UID:W36150115-20261203T193000@VHSBÖBLINGEN-SINDELFINGEN
SUMMARY:Aqua-Fitness-Mix (W36150115) 
LOCATION:EH, Hallenbad, ___, Schlossstr. 33, 71139 Ehningen
END:VEVENT
BEGIN:VEVENT
DTSTAMP:20260421T171613
DTSTART;TZID=Europe/Berlin:20261210T193000
DTEND;TZID=Europe/Berlin:20261210T203000
UID:W36150115-20261210T193000@VHSBÖBLINGEN-SINDELFINGEN
SUMMARY:Aqua-Fitness-Mix (W36150115) 
LOCATION:EH, Hallenbad, ___, Schlossstr. 33, 71139 Ehningen
END:VEVENT
BEGIN:VEVENT
DTSTAMP:20260421T171613
DTSTART;TZID=Europe/Berlin:20261217T193000
DTEND;TZID=Europe/Berlin:20261217T203000
UID:W36150115-20261217T193000@VHSBÖBLINGEN-SINDELFINGEN
SUMMARY:Aqua-Fitness-Mix (W36150115) 
LOCATION:EH, Hallenbad, ___, Schlossstr. 33, 71139 Ehningen
END:VEVENT
BEGIN:VEVENT
DTSTAMP:20260421T171613
DTSTART;TZID=Europe/Berlin:20270114T193000
DTEND;TZID=Europe/Berlin:20270114T203000
UID:W36150115-20270114T193000@VHSBÖBLINGEN-SINDELFINGEN
SUMMARY:Aqua-Fitness-Mix (W36150115) 
LOCATION:EH, Hallenbad, ___, Schlossstr. 33, 71139 Ehningen
END:VEVENT
BEGIN:VEVENT
DTSTAMP:20260421T171613
DTSTART;TZID=Europe/Berlin:20270121T193000
DTEND;TZID=Europe/Berlin:20270121T203000
UID:W36150115-20270121T193000@VHSBÖBLINGEN-SINDELFINGEN
SUMMARY:Aqua-Fitness-Mix (W36150115) 
LOCATION:EH, Hallenbad, ___, Schlossstr. 33, 71139 Ehningen
END:VEVENT
BEGIN:VEVENT
DTSTAMP:20260421T171613
DTSTART;TZID=Europe/Berlin:20270128T193000
DTEND;TZID=Europe/Berlin:20270128T203000
UID:W36150115-20270128T193000@VHSBÖBLINGEN-SINDELFINGEN
SUMMARY:Aqua-Fitness-Mix (W36150115) 
LOCATION:EH, Hallenbad, ___, Schlossstr. 33, 71139 Ehningen
END:VEVENT
BEGIN:VEVENT
DTSTAMP:20260421T171613
DTSTART;TZID=Europe/Berlin:20270204T193000
DTEND;TZID=Europe/Berlin:20270204T203000
UID:W36150115-20270204T193000@VHSBÖBLINGEN-SINDELFINGEN
SUMMARY:Aqua-Fitness-Mix (W36150115) 
LOCATION:EH, Hallenbad, ___, Schlossstr. 33, 71139 Ehningen
END:VEVENT
END:VCALENDAR