BEGIN:VCALENDAR
VERSION:2.0
PRODID:https://www.kufer.de/kuferweb / DE
METHOD:PUBLISH
CALSCALE:GREGORIAN
X-WR-TIMEZONE:Europe/Berlin
BEGIN:VTIMEZONE
TZID:Europe/Berlin
X-LIC-LOCATION:Europe/Berlin
BEGIN:DAYLIGHT
TZOFFSETFROM:+0100
TZOFFSETTO:+0200
TZNAME:CEST
DTSTART:19700329T020000
RRULE:FREQ=YEARLY;INTERVAL=1;BYDAY=-1SU;BYMONTH=3
END:DAYLIGHT
BEGIN:STANDARD
TZOFFSETFROM:+0200
TZOFFSETTO:+0100
TZNAME:CET
DTSTART:19701025T030000
RRULE:FREQ=YEARLY;INTERVAL=1;BYDAY=-1SU;BYMONTH=10
END:STANDARD
END:VTIMEZONE
BEGIN:VEVENT
DTSTAMP:20260421T134759
DTSTART;TZID=Europe/Berlin:20260925T090000
DTEND;TZID=Europe/Berlin:20260925T100000
UID:W36143024-20260925T090000@VHSBÖBLINGEN-SINDELFINGEN
SUMMARY:Aqua-Gymnastik im Tiefwasser (W36143024) 
LOCATION:Hallenbad Maichingen, Berliner Str. 32, 71069 Maichingen
END:VEVENT
BEGIN:VEVENT
DTSTAMP:20260421T134759
DTSTART;TZID=Europe/Berlin:20261002T090000
DTEND;TZID=Europe/Berlin:20261002T100000
UID:W36143024-20261002T090000@VHSBÖBLINGEN-SINDELFINGEN
SUMMARY:Aqua-Gymnastik im Tiefwasser (W36143024) 
LOCATION:Hallenbad Maichingen, Berliner Str. 32, 71069 Maichingen
END:VEVENT
BEGIN:VEVENT
DTSTAMP:20260421T134759
DTSTART;TZID=Europe/Berlin:20261009T090000
DTEND;TZID=Europe/Berlin:20261009T100000
UID:W36143024-20261009T090000@VHSBÖBLINGEN-SINDELFINGEN
SUMMARY:Aqua-Gymnastik im Tiefwasser (W36143024) 
LOCATION:Hallenbad Maichingen, Berliner Str. 32, 71069 Maichingen
END:VEVENT
BEGIN:VEVENT
DTSTAMP:20260421T134759
DTSTART;TZID=Europe/Berlin:20261016T090000
DTEND;TZID=Europe/Berlin:20261016T100000
UID:W36143024-20261016T090000@VHSBÖBLINGEN-SINDELFINGEN
SUMMARY:Aqua-Gymnastik im Tiefwasser (W36143024) 
LOCATION:Hallenbad Maichingen, Berliner Str. 32, 71069 Maichingen
END:VEVENT
BEGIN:VEVENT
DTSTAMP:20260421T134759
DTSTART;TZID=Europe/Berlin:20261023T090000
DTEND;TZID=Europe/Berlin:20261023T100000
UID:W36143024-20261023T090000@VHSBÖBLINGEN-SINDELFINGEN
SUMMARY:Aqua-Gymnastik im Tiefwasser (W36143024) 
LOCATION:Hallenbad Maichingen, Berliner Str. 32, 71069 Maichingen
END:VEVENT
BEGIN:VEVENT
DTSTAMP:20260421T134759
DTSTART;TZID=Europe/Berlin:20261120T090000
DTEND;TZID=Europe/Berlin:20261120T100000
UID:W36143024-20261120T090000@VHSBÖBLINGEN-SINDELFINGEN
SUMMARY:Aqua-Gymnastik im Tiefwasser (W36143024) 
LOCATION:Hallenbad Maichingen, Berliner Str. 32, 71069 Maichingen
END:VEVENT
BEGIN:VEVENT
DTSTAMP:20260421T134759
DTSTART;TZID=Europe/Berlin:20261127T090000
DTEND;TZID=Europe/Berlin:20261127T100000
UID:W36143024-20261127T090000@VHSBÖBLINGEN-SINDELFINGEN
SUMMARY:Aqua-Gymnastik im Tiefwasser (W36143024) 
LOCATION:Hallenbad Maichingen, Berliner Str. 32, 71069 Maichingen
END:VEVENT
BEGIN:VEVENT
DTSTAMP:20260421T134759
DTSTART;TZID=Europe/Berlin:20261204T090000
DTEND;TZID=Europe/Berlin:20261204T100000
UID:W36143024-20261204T090000@VHSBÖBLINGEN-SINDELFINGEN
SUMMARY:Aqua-Gymnastik im Tiefwasser (W36143024) 
LOCATION:Hallenbad Maichingen, Berliner Str. 32, 71069 Maichingen
END:VEVENT
BEGIN:VEVENT
DTSTAMP:20260421T134759
DTSTART;TZID=Europe/Berlin:20261211T090000
DTEND;TZID=Europe/Berlin:20261211T100000
UID:W36143024-20261211T090000@VHSBÖBLINGEN-SINDELFINGEN
SUMMARY:Aqua-Gymnastik im Tiefwasser (W36143024) 
LOCATION:Hallenbad Maichingen, Berliner Str. 32, 71069 Maichingen
END:VEVENT
BEGIN:VEVENT
DTSTAMP:20260421T134759
DTSTART;TZID=Europe/Berlin:20261218T090000
DTEND;TZID=Europe/Berlin:20261218T100000
UID:W36143024-20261218T090000@VHSBÖBLINGEN-SINDELFINGEN
SUMMARY:Aqua-Gymnastik im Tiefwasser (W36143024) 
LOCATION:Hallenbad Maichingen, Berliner Str. 32, 71069 Maichingen
END:VEVENT
END:VCALENDAR