BEGIN:VCALENDAR
VERSION:2.0
PRODID:https://www.kufer.de/kuferweb / DE
METHOD:PUBLISH
CALSCALE:GREGORIAN
X-WR-TIMEZONE:Europe/Berlin
BEGIN:VTIMEZONE
TZID:Europe/Berlin
X-LIC-LOCATION:Europe/Berlin
BEGIN:DAYLIGHT
TZOFFSETFROM:+0100
TZOFFSETTO:+0200
TZNAME:CEST
DTSTART:19700329T020000
RRULE:FREQ=YEARLY;INTERVAL=1;BYDAY=-1SU;BYMONTH=3
END:DAYLIGHT
BEGIN:STANDARD
TZOFFSETFROM:+0200
TZOFFSETTO:+0100
TZNAME:CET
DTSTART:19701025T030000
RRULE:FREQ=YEARLY;INTERVAL=1;BYDAY=-1SU;BYMONTH=10
END:STANDARD
END:VTIMEZONE
BEGIN:VEVENT
DTSTAMP:20260420T175650
DTSTART;TZID=Europe/Berlin:20260928T093500
DTEND;TZID=Europe/Berlin:20260928T102000
UID:W36142015-20260928T093500@VHSBÖBLINGEN-SINDELFINGEN
SUMMARY:Aqua-Fitness (W36142015) 
LOCATION:EH, Hallenbad, ___, Schlossstr. 33, 71139 Ehningen
END:VEVENT
BEGIN:VEVENT
DTSTAMP:20260420T175650
DTSTART;TZID=Europe/Berlin:20261005T093500
DTEND;TZID=Europe/Berlin:20261005T102000
UID:W36142015-20261005T093500@VHSBÖBLINGEN-SINDELFINGEN
SUMMARY:Aqua-Fitness (W36142015) 
LOCATION:EH, Hallenbad, ___, Schlossstr. 33, 71139 Ehningen
END:VEVENT
BEGIN:VEVENT
DTSTAMP:20260420T175650
DTSTART;TZID=Europe/Berlin:20261012T093500
DTEND;TZID=Europe/Berlin:20261012T102000
UID:W36142015-20261012T093500@VHSBÖBLINGEN-SINDELFINGEN
SUMMARY:Aqua-Fitness (W36142015) 
LOCATION:EH, Hallenbad, ___, Schlossstr. 33, 71139 Ehningen
END:VEVENT
BEGIN:VEVENT
DTSTAMP:20260420T175650
DTSTART;TZID=Europe/Berlin:20261019T093500
DTEND;TZID=Europe/Berlin:20261019T102000
UID:W36142015-20261019T093500@VHSBÖBLINGEN-SINDELFINGEN
SUMMARY:Aqua-Fitness (W36142015) 
LOCATION:EH, Hallenbad, ___, Schlossstr. 33, 71139 Ehningen
END:VEVENT
BEGIN:VEVENT
DTSTAMP:20260420T175650
DTSTART;TZID=Europe/Berlin:20261102T093500
DTEND;TZID=Europe/Berlin:20261102T102000
UID:W36142015-20261102T093500@VHSBÖBLINGEN-SINDELFINGEN
SUMMARY:Aqua-Fitness (W36142015) 
LOCATION:EH, Hallenbad, ___, Schlossstr. 33, 71139 Ehningen
END:VEVENT
BEGIN:VEVENT
DTSTAMP:20260420T175650
DTSTART;TZID=Europe/Berlin:20261109T093500
DTEND;TZID=Europe/Berlin:20261109T102000
UID:W36142015-20261109T093500@VHSBÖBLINGEN-SINDELFINGEN
SUMMARY:Aqua-Fitness (W36142015) 
LOCATION:EH, Hallenbad, ___, Schlossstr. 33, 71139 Ehningen
END:VEVENT
BEGIN:VEVENT
DTSTAMP:20260420T175650
DTSTART;TZID=Europe/Berlin:20261116T093500
DTEND;TZID=Europe/Berlin:20261116T102000
UID:W36142015-20261116T093500@VHSBÖBLINGEN-SINDELFINGEN
SUMMARY:Aqua-Fitness (W36142015) 
LOCATION:EH, Hallenbad, ___, Schlossstr. 33, 71139 Ehningen
END:VEVENT
BEGIN:VEVENT
DTSTAMP:20260420T175650
DTSTART;TZID=Europe/Berlin:20261123T093500
DTEND;TZID=Europe/Berlin:20261123T102000
UID:W36142015-20261123T093500@VHSBÖBLINGEN-SINDELFINGEN
SUMMARY:Aqua-Fitness (W36142015) 
LOCATION:EH, Hallenbad, ___, Schlossstr. 33, 71139 Ehningen
END:VEVENT
BEGIN:VEVENT
DTSTAMP:20260420T175650
DTSTART;TZID=Europe/Berlin:20261130T093500
DTEND;TZID=Europe/Berlin:20261130T102000
UID:W36142015-20261130T093500@VHSBÖBLINGEN-SINDELFINGEN
SUMMARY:Aqua-Fitness (W36142015) 
LOCATION:EH, Hallenbad, ___, Schlossstr. 33, 71139 Ehningen
END:VEVENT
BEGIN:VEVENT
DTSTAMP:20260420T175650
DTSTART;TZID=Europe/Berlin:20261207T093500
DTEND;TZID=Europe/Berlin:20261207T102000
UID:W36142015-20261207T093500@VHSBÖBLINGEN-SINDELFINGEN
SUMMARY:Aqua-Fitness (W36142015) 
LOCATION:EH, Hallenbad, ___, Schlossstr. 33, 71139 Ehningen
END:VEVENT
BEGIN:VEVENT
DTSTAMP:20260420T175650
DTSTART;TZID=Europe/Berlin:20261214T093500
DTEND;TZID=Europe/Berlin:20261214T102000
UID:W36142015-20261214T093500@VHSBÖBLINGEN-SINDELFINGEN
SUMMARY:Aqua-Fitness (W36142015) 
LOCATION:EH, Hallenbad, ___, Schlossstr. 33, 71139 Ehningen
END:VEVENT
BEGIN:VEVENT
DTSTAMP:20260420T175650
DTSTART;TZID=Europe/Berlin:20261221T093500
DTEND;TZID=Europe/Berlin:20261221T102000
UID:W36142015-20261221T093500@VHSBÖBLINGEN-SINDELFINGEN
SUMMARY:Aqua-Fitness (W36142015) 
LOCATION:EH, Hallenbad, ___, Schlossstr. 33, 71139 Ehningen
END:VEVENT
BEGIN:VEVENT
DTSTAMP:20260420T175650
DTSTART;TZID=Europe/Berlin:20270111T093500
DTEND;TZID=Europe/Berlin:20270111T102000
UID:W36142015-20270111T093500@VHSBÖBLINGEN-SINDELFINGEN
SUMMARY:Aqua-Fitness (W36142015) 
LOCATION:EH, Hallenbad, ___, Schlossstr. 33, 71139 Ehningen
END:VEVENT
BEGIN:VEVENT
DTSTAMP:20260420T175650
DTSTART;TZID=Europe/Berlin:20270118T093500
DTEND;TZID=Europe/Berlin:20270118T102000
UID:W36142015-20270118T093500@VHSBÖBLINGEN-SINDELFINGEN
SUMMARY:Aqua-Fitness (W36142015) 
LOCATION:EH, Hallenbad, ___, Schlossstr. 33, 71139 Ehningen
END:VEVENT
BEGIN:VEVENT
DTSTAMP:20260420T175650
DTSTART;TZID=Europe/Berlin:20270125T093500
DTEND;TZID=Europe/Berlin:20270125T102000
UID:W36142015-20270125T093500@VHSBÖBLINGEN-SINDELFINGEN
SUMMARY:Aqua-Fitness (W36142015) 
LOCATION:EH, Hallenbad, ___, Schlossstr. 33, 71139 Ehningen
END:VEVENT
BEGIN:VEVENT
DTSTAMP:20260420T175650
DTSTART;TZID=Europe/Berlin:20270201T093500
DTEND;TZID=Europe/Berlin:20270201T102000
UID:W36142015-20270201T093500@VHSBÖBLINGEN-SINDELFINGEN
SUMMARY:Aqua-Fitness (W36142015) 
LOCATION:EH, Hallenbad, ___, Schlossstr. 33, 71139 Ehningen
END:VEVENT
END:VCALENDAR