BEGIN:VCALENDAR
VERSION:2.0
PRODID:https://www.kufer.de/kuferweb / DE
METHOD:PUBLISH
CALSCALE:GREGORIAN
X-WR-TIMEZONE:Europe/Berlin
BEGIN:VTIMEZONE
TZID:Europe/Berlin
X-LIC-LOCATION:Europe/Berlin
BEGIN:DAYLIGHT
TZOFFSETFROM:+0100
TZOFFSETTO:+0200
TZNAME:CEST
DTSTART:19700329T020000
RRULE:FREQ=YEARLY;INTERVAL=1;BYDAY=-1SU;BYMONTH=3
END:DAYLIGHT
BEGIN:STANDARD
TZOFFSETFROM:+0200
TZOFFSETTO:+0100
TZNAME:CET
DTSTART:19701025T030000
RRULE:FREQ=YEARLY;INTERVAL=1;BYDAY=-1SU;BYMONTH=10
END:STANDARD
END:VTIMEZONE
BEGIN:VEVENT
DTSTAMP:20260422T034210
DTSTART;TZID=Europe/Berlin:20260924T180000
DTEND;TZID=Europe/Berlin:20260924T184500
UID:W36140511-20260924T180000@VHSBÖBLINGEN-SINDELFINGEN
SUMMARY:Aqua-Fitness (W36140511) 
LOCATION:AI, Schallenbergschule, Schwimmhalle, Dachteler Weg 18, 71134 Aidlingen-Deufringen
END:VEVENT
BEGIN:VEVENT
DTSTAMP:20260422T034210
DTSTART;TZID=Europe/Berlin:20261008T180000
DTEND;TZID=Europe/Berlin:20261008T184500
UID:W36140511-20261008T180000@VHSBÖBLINGEN-SINDELFINGEN
SUMMARY:Aqua-Fitness (W36140511) 
LOCATION:AI, Schallenbergschule, Schwimmhalle, Dachteler Weg 18, 71134 Aidlingen-Deufringen
END:VEVENT
BEGIN:VEVENT
DTSTAMP:20260422T034210
DTSTART;TZID=Europe/Berlin:20261022T180000
DTEND;TZID=Europe/Berlin:20261022T184500
UID:W36140511-20261022T180000@VHSBÖBLINGEN-SINDELFINGEN
SUMMARY:Aqua-Fitness (W36140511) 
LOCATION:AI, Schallenbergschule, Schwimmhalle, Dachteler Weg 18, 71134 Aidlingen-Deufringen
END:VEVENT
BEGIN:VEVENT
DTSTAMP:20260422T034210
DTSTART;TZID=Europe/Berlin:20261105T180000
DTEND;TZID=Europe/Berlin:20261105T184500
UID:W36140511-20261105T180000@VHSBÖBLINGEN-SINDELFINGEN
SUMMARY:Aqua-Fitness (W36140511) 
LOCATION:AI, Schallenbergschule, Schwimmhalle, Dachteler Weg 18, 71134 Aidlingen-Deufringen
END:VEVENT
BEGIN:VEVENT
DTSTAMP:20260422T034210
DTSTART;TZID=Europe/Berlin:20261119T180000
DTEND;TZID=Europe/Berlin:20261119T184500
UID:W36140511-20261119T180000@VHSBÖBLINGEN-SINDELFINGEN
SUMMARY:Aqua-Fitness (W36140511) 
LOCATION:AI, Schallenbergschule, Schwimmhalle, Dachteler Weg 18, 71134 Aidlingen-Deufringen
END:VEVENT
BEGIN:VEVENT
DTSTAMP:20260422T034210
DTSTART;TZID=Europe/Berlin:20261203T180000
DTEND;TZID=Europe/Berlin:20261203T184500
UID:W36140511-20261203T180000@VHSBÖBLINGEN-SINDELFINGEN
SUMMARY:Aqua-Fitness (W36140511) 
LOCATION:AI, Schallenbergschule, Schwimmhalle, Dachteler Weg 18, 71134 Aidlingen-Deufringen
END:VEVENT
BEGIN:VEVENT
DTSTAMP:20260422T034210
DTSTART;TZID=Europe/Berlin:20261217T180000
DTEND;TZID=Europe/Berlin:20261217T184500
UID:W36140511-20261217T180000@VHSBÖBLINGEN-SINDELFINGEN
SUMMARY:Aqua-Fitness (W36140511) 
LOCATION:AI, Schallenbergschule, Schwimmhalle, Dachteler Weg 18, 71134 Aidlingen-Deufringen
END:VEVENT
BEGIN:VEVENT
DTSTAMP:20260422T034210
DTSTART;TZID=Europe/Berlin:20270114T180000
DTEND;TZID=Europe/Berlin:20270114T184500
UID:W36140511-20270114T180000@VHSBÖBLINGEN-SINDELFINGEN
SUMMARY:Aqua-Fitness (W36140511) 
LOCATION:AI, Schallenbergschule, Schwimmhalle, Dachteler Weg 18, 71134 Aidlingen-Deufringen
END:VEVENT
BEGIN:VEVENT
DTSTAMP:20260422T034210
DTSTART;TZID=Europe/Berlin:20270128T180000
DTEND;TZID=Europe/Berlin:20270128T184500
UID:W36140511-20270128T180000@VHSBÖBLINGEN-SINDELFINGEN
SUMMARY:Aqua-Fitness (W36140511) 
LOCATION:AI, Schallenbergschule, Schwimmhalle, Dachteler Weg 18, 71134 Aidlingen-Deufringen
END:VEVENT
END:VCALENDAR