BEGIN:VCALENDAR
VERSION:2.0
PRODID:https://www.kufer.de/kuferweb / DE
METHOD:PUBLISH
CALSCALE:GREGORIAN
X-WR-TIMEZONE:Europe/Berlin
BEGIN:VTIMEZONE
TZID:Europe/Berlin
X-LIC-LOCATION:Europe/Berlin
BEGIN:DAYLIGHT
TZOFFSETFROM:+0100
TZOFFSETTO:+0200
TZNAME:CEST
DTSTART:19700329T020000
RRULE:FREQ=YEARLY;INTERVAL=1;BYDAY=-1SU;BYMONTH=3
END:DAYLIGHT
BEGIN:STANDARD
TZOFFSETFROM:+0200
TZOFFSETTO:+0100
TZNAME:CET
DTSTART:19701025T030000
RRULE:FREQ=YEARLY;INTERVAL=1;BYDAY=-1SU;BYMONTH=10
END:STANDARD
END:VTIMEZONE
BEGIN:VEVENT
DTSTAMP:20260421T152538
DTSTART;TZID=Europe/Berlin:20260924T184500
DTEND;TZID=Europe/Berlin:20260924T193000
UID:W36140411-20260924T184500@VHSBÖBLINGEN-SINDELFINGEN
SUMMARY:Aqua-Fitness (W36140411) 
LOCATION:AI, Schallenbergschule, Schwimmhalle, Dachteler Weg 18, 71134 Aidlingen-Deufringen
END:VEVENT
BEGIN:VEVENT
DTSTAMP:20260421T152538
DTSTART;TZID=Europe/Berlin:20261008T184500
DTEND;TZID=Europe/Berlin:20261008T193000
UID:W36140411-20261008T184500@VHSBÖBLINGEN-SINDELFINGEN
SUMMARY:Aqua-Fitness (W36140411) 
LOCATION:AI, Schallenbergschule, Schwimmhalle, Dachteler Weg 18, 71134 Aidlingen-Deufringen
END:VEVENT
BEGIN:VEVENT
DTSTAMP:20260421T152538
DTSTART;TZID=Europe/Berlin:20261022T184500
DTEND;TZID=Europe/Berlin:20261022T193000
UID:W36140411-20261022T184500@VHSBÖBLINGEN-SINDELFINGEN
SUMMARY:Aqua-Fitness (W36140411) 
LOCATION:AI, Schallenbergschule, Schwimmhalle, Dachteler Weg 18, 71134 Aidlingen-Deufringen
END:VEVENT
BEGIN:VEVENT
DTSTAMP:20260421T152538
DTSTART;TZID=Europe/Berlin:20261105T184500
DTEND;TZID=Europe/Berlin:20261105T193000
UID:W36140411-20261105T184500@VHSBÖBLINGEN-SINDELFINGEN
SUMMARY:Aqua-Fitness (W36140411) 
LOCATION:AI, Schallenbergschule, Schwimmhalle, Dachteler Weg 18, 71134 Aidlingen-Deufringen
END:VEVENT
BEGIN:VEVENT
DTSTAMP:20260421T152538
DTSTART;TZID=Europe/Berlin:20261119T184500
DTEND;TZID=Europe/Berlin:20261119T193000
UID:W36140411-20261119T184500@VHSBÖBLINGEN-SINDELFINGEN
SUMMARY:Aqua-Fitness (W36140411) 
LOCATION:AI, Schallenbergschule, Schwimmhalle, Dachteler Weg 18, 71134 Aidlingen-Deufringen
END:VEVENT
BEGIN:VEVENT
DTSTAMP:20260421T152538
DTSTART;TZID=Europe/Berlin:20261203T184500
DTEND;TZID=Europe/Berlin:20261203T193000
UID:W36140411-20261203T184500@VHSBÖBLINGEN-SINDELFINGEN
SUMMARY:Aqua-Fitness (W36140411) 
LOCATION:AI, Schallenbergschule, Schwimmhalle, Dachteler Weg 18, 71134 Aidlingen-Deufringen
END:VEVENT
BEGIN:VEVENT
DTSTAMP:20260421T152538
DTSTART;TZID=Europe/Berlin:20261217T184500
DTEND;TZID=Europe/Berlin:20261217T193000
UID:W36140411-20261217T184500@VHSBÖBLINGEN-SINDELFINGEN
SUMMARY:Aqua-Fitness (W36140411) 
LOCATION:AI, Schallenbergschule, Schwimmhalle, Dachteler Weg 18, 71134 Aidlingen-Deufringen
END:VEVENT
BEGIN:VEVENT
DTSTAMP:20260421T152538
DTSTART;TZID=Europe/Berlin:20270114T184500
DTEND;TZID=Europe/Berlin:20270114T193000
UID:W36140411-20270114T184500@VHSBÖBLINGEN-SINDELFINGEN
SUMMARY:Aqua-Fitness (W36140411) 
LOCATION:AI, Schallenbergschule, Schwimmhalle, Dachteler Weg 18, 71134 Aidlingen-Deufringen
END:VEVENT
BEGIN:VEVENT
DTSTAMP:20260421T152538
DTSTART;TZID=Europe/Berlin:20270128T184500
DTEND;TZID=Europe/Berlin:20270128T193000
UID:W36140411-20270128T184500@VHSBÖBLINGEN-SINDELFINGEN
SUMMARY:Aqua-Fitness (W36140411) 
LOCATION:AI, Schallenbergschule, Schwimmhalle, Dachteler Weg 18, 71134 Aidlingen-Deufringen
END:VEVENT
END:VCALENDAR