BEGIN:VCALENDAR
VERSION:2.0
PRODID:https://www.kufer.de/kuferweb / DE
METHOD:PUBLISH
CALSCALE:GREGORIAN
X-WR-TIMEZONE:Europe/Berlin
BEGIN:VTIMEZONE
TZID:Europe/Berlin
X-LIC-LOCATION:Europe/Berlin
BEGIN:DAYLIGHT
TZOFFSETFROM:+0100
TZOFFSETTO:+0200
TZNAME:CEST
DTSTART:19700329T020000
RRULE:FREQ=YEARLY;INTERVAL=1;BYDAY=-1SU;BYMONTH=3
END:DAYLIGHT
BEGIN:STANDARD
TZOFFSETFROM:+0200
TZOFFSETTO:+0100
TZNAME:CET
DTSTART:19701025T030000
RRULE:FREQ=YEARLY;INTERVAL=1;BYDAY=-1SU;BYMONTH=10
END:STANDARD
END:VTIMEZONE
BEGIN:VEVENT
DTSTAMP:20260420T220429
DTSTART;TZID=Europe/Berlin:20260923T150000
DTEND;TZID=Europe/Berlin:20260923T160000
UID:W35756129-20260923T150000@VHSBÖBLINGEN-SINDELFINGEN
SUMMARY:Beckenbodentraining + Entspannung (W35756129) 
LOCATION:SC, Altes Schulhaus, Raum 13, Große Gasse 3, 71101 Schönaich
END:VEVENT
BEGIN:VEVENT
DTSTAMP:20260420T220429
DTSTART;TZID=Europe/Berlin:20260930T150000
DTEND;TZID=Europe/Berlin:20260930T160000
UID:W35756129-20260930T150000@VHSBÖBLINGEN-SINDELFINGEN
SUMMARY:Beckenbodentraining + Entspannung (W35756129) 
LOCATION:SC, Altes Schulhaus, Raum 13, Große Gasse 3, 71101 Schönaich
END:VEVENT
BEGIN:VEVENT
DTSTAMP:20260420T220429
DTSTART;TZID=Europe/Berlin:20261007T150000
DTEND;TZID=Europe/Berlin:20261007T160000
UID:W35756129-20261007T150000@VHSBÖBLINGEN-SINDELFINGEN
SUMMARY:Beckenbodentraining + Entspannung (W35756129) 
LOCATION:SC, Altes Schulhaus, Raum 13, Große Gasse 3, 71101 Schönaich
END:VEVENT
BEGIN:VEVENT
DTSTAMP:20260420T220429
DTSTART;TZID=Europe/Berlin:20261014T150000
DTEND;TZID=Europe/Berlin:20261014T160000
UID:W35756129-20261014T150000@VHSBÖBLINGEN-SINDELFINGEN
SUMMARY:Beckenbodentraining + Entspannung (W35756129) 
LOCATION:SC, Altes Schulhaus, Raum 13, Große Gasse 3, 71101 Schönaich
END:VEVENT
BEGIN:VEVENT
DTSTAMP:20260420T220429
DTSTART;TZID=Europe/Berlin:20261021T150000
DTEND;TZID=Europe/Berlin:20261021T160000
UID:W35756129-20261021T150000@VHSBÖBLINGEN-SINDELFINGEN
SUMMARY:Beckenbodentraining + Entspannung (W35756129) 
LOCATION:SC, Altes Schulhaus, Raum 13, Große Gasse 3, 71101 Schönaich
END:VEVENT
BEGIN:VEVENT
DTSTAMP:20260420T220429
DTSTART;TZID=Europe/Berlin:20261104T150000
DTEND;TZID=Europe/Berlin:20261104T160000
UID:W35756129-20261104T150000@VHSBÖBLINGEN-SINDELFINGEN
SUMMARY:Beckenbodentraining + Entspannung (W35756129) 
LOCATION:SC, Altes Schulhaus, Raum 13, Große Gasse 3, 71101 Schönaich
END:VEVENT
BEGIN:VEVENT
DTSTAMP:20260420T220429
DTSTART;TZID=Europe/Berlin:20261111T150000
DTEND;TZID=Europe/Berlin:20261111T160000
UID:W35756129-20261111T150000@VHSBÖBLINGEN-SINDELFINGEN
SUMMARY:Beckenbodentraining + Entspannung (W35756129) 
LOCATION:SC, Altes Schulhaus, Raum 13, Große Gasse 3, 71101 Schönaich
END:VEVENT
BEGIN:VEVENT
DTSTAMP:20260420T220429
DTSTART;TZID=Europe/Berlin:20261118T150000
DTEND;TZID=Europe/Berlin:20261118T160000
UID:W35756129-20261118T150000@VHSBÖBLINGEN-SINDELFINGEN
SUMMARY:Beckenbodentraining + Entspannung (W35756129) 
LOCATION:SC, Altes Schulhaus, Raum 13, Große Gasse 3, 71101 Schönaich
END:VEVENT
BEGIN:VEVENT
DTSTAMP:20260420T220429
DTSTART;TZID=Europe/Berlin:20261125T150000
DTEND;TZID=Europe/Berlin:20261125T160000
UID:W35756129-20261125T150000@VHSBÖBLINGEN-SINDELFINGEN
SUMMARY:Beckenbodentraining + Entspannung (W35756129) 
LOCATION:SC, Altes Schulhaus, Raum 13, Große Gasse 3, 71101 Schönaich
END:VEVENT
BEGIN:VEVENT
DTSTAMP:20260420T220429
DTSTART;TZID=Europe/Berlin:20261202T150000
DTEND;TZID=Europe/Berlin:20261202T160000
UID:W35756129-20261202T150000@VHSBÖBLINGEN-SINDELFINGEN
SUMMARY:Beckenbodentraining + Entspannung (W35756129) 
LOCATION:SC, Altes Schulhaus, Raum 13, Große Gasse 3, 71101 Schönaich
END:VEVENT
BEGIN:VEVENT
DTSTAMP:20260420T220429
DTSTART;TZID=Europe/Berlin:20261209T150000
DTEND;TZID=Europe/Berlin:20261209T160000
UID:W35756129-20261209T150000@VHSBÖBLINGEN-SINDELFINGEN
SUMMARY:Beckenbodentraining + Entspannung (W35756129) 
LOCATION:SC, Altes Schulhaus, Raum 13, Große Gasse 3, 71101 Schönaich
END:VEVENT
BEGIN:VEVENT
DTSTAMP:20260420T220429
DTSTART;TZID=Europe/Berlin:20261216T150000
DTEND;TZID=Europe/Berlin:20261216T160000
UID:W35756129-20261216T150000@VHSBÖBLINGEN-SINDELFINGEN
SUMMARY:Beckenbodentraining + Entspannung (W35756129) 
LOCATION:SC, Altes Schulhaus, Raum 13, Große Gasse 3, 71101 Schönaich
END:VEVENT
BEGIN:VEVENT
DTSTAMP:20260420T220429
DTSTART;TZID=Europe/Berlin:20270113T150000
DTEND;TZID=Europe/Berlin:20270113T160000
UID:W35756129-20270113T150000@VHSBÖBLINGEN-SINDELFINGEN
SUMMARY:Beckenbodentraining + Entspannung (W35756129) 
LOCATION:SC, Altes Schulhaus, Raum 13, Große Gasse 3, 71101 Schönaich
END:VEVENT
BEGIN:VEVENT
DTSTAMP:20260420T220429
DTSTART;TZID=Europe/Berlin:20270120T150000
DTEND;TZID=Europe/Berlin:20270120T160000
UID:W35756129-20270120T150000@VHSBÖBLINGEN-SINDELFINGEN
SUMMARY:Beckenbodentraining + Entspannung (W35756129) 
LOCATION:SC, Altes Schulhaus, Raum 13, Große Gasse 3, 71101 Schönaich
END:VEVENT
BEGIN:VEVENT
DTSTAMP:20260420T220429
DTSTART;TZID=Europe/Berlin:20270127T150000
DTEND;TZID=Europe/Berlin:20270127T160000
UID:W35756129-20270127T150000@VHSBÖBLINGEN-SINDELFINGEN
SUMMARY:Beckenbodentraining + Entspannung (W35756129) 
LOCATION:SC, Altes Schulhaus, Raum 13, Große Gasse 3, 71101 Schönaich
END:VEVENT
END:VCALENDAR