BEGIN:VCALENDAR
VERSION:2.0
PRODID:https://www.kufer.de/kuferweb / DE
METHOD:PUBLISH
CALSCALE:GREGORIAN
X-WR-TIMEZONE:Europe/Berlin
BEGIN:VTIMEZONE
TZID:Europe/Berlin
X-LIC-LOCATION:Europe/Berlin
BEGIN:DAYLIGHT
TZOFFSETFROM:+0100
TZOFFSETTO:+0200
TZNAME:CEST
DTSTART:19700329T020000
RRULE:FREQ=YEARLY;INTERVAL=1;BYDAY=-1SU;BYMONTH=3
END:DAYLIGHT
BEGIN:STANDARD
TZOFFSETFROM:+0200
TZOFFSETTO:+0100
TZNAME:CET
DTSTART:19701025T030000
RRULE:FREQ=YEARLY;INTERVAL=1;BYDAY=-1SU;BYMONTH=10
END:STANDARD
END:VTIMEZONE
BEGIN:VEVENT
DTSTAMP:20260421T134550
DTSTART;TZID=Europe/Berlin:20260924T104000
DTEND;TZID=Europe/Berlin:20260924T114000
UID:W35756031-20260924T104000@VHSBÖBLINGEN-SINDELFINGEN
SUMMARY:Sturzprävention, Rückentraining und Entspannung - Gymnastik für Ältere (W35756031) 
LOCATION:ST, Bürgerhaus, Bürgersaal, Kleingruppe
END:VEVENT
BEGIN:VEVENT
DTSTAMP:20260421T134550
DTSTART;TZID=Europe/Berlin:20261001T104000
DTEND;TZID=Europe/Berlin:20261001T114000
UID:W35756031-20261001T104000@VHSBÖBLINGEN-SINDELFINGEN
SUMMARY:Sturzprävention, Rückentraining und Entspannung - Gymnastik für Ältere (W35756031) 
LOCATION:ST, Bürgerhaus, Bürgersaal, Kleingruppe
END:VEVENT
BEGIN:VEVENT
DTSTAMP:20260421T134550
DTSTART;TZID=Europe/Berlin:20261008T104000
DTEND;TZID=Europe/Berlin:20261008T114000
UID:W35756031-20261008T104000@VHSBÖBLINGEN-SINDELFINGEN
SUMMARY:Sturzprävention, Rückentraining und Entspannung - Gymnastik für Ältere (W35756031) 
LOCATION:ST, Bürgerhaus, Bürgersaal, Kleingruppe
END:VEVENT
BEGIN:VEVENT
DTSTAMP:20260421T134550
DTSTART;TZID=Europe/Berlin:20261015T104000
DTEND;TZID=Europe/Berlin:20261015T114000
UID:W35756031-20261015T104000@VHSBÖBLINGEN-SINDELFINGEN
SUMMARY:Sturzprävention, Rückentraining und Entspannung - Gymnastik für Ältere (W35756031) 
LOCATION:ST, Bürgerhaus, Bürgersaal, Kleingruppe
END:VEVENT
BEGIN:VEVENT
DTSTAMP:20260421T134550
DTSTART;TZID=Europe/Berlin:20261022T104000
DTEND;TZID=Europe/Berlin:20261022T114000
UID:W35756031-20261022T104000@VHSBÖBLINGEN-SINDELFINGEN
SUMMARY:Sturzprävention, Rückentraining und Entspannung - Gymnastik für Ältere (W35756031) 
LOCATION:ST, Bürgerhaus, Bürgersaal, Kleingruppe
END:VEVENT
BEGIN:VEVENT
DTSTAMP:20260421T134550
DTSTART;TZID=Europe/Berlin:20261105T104000
DTEND;TZID=Europe/Berlin:20261105T114000
UID:W35756031-20261105T104000@VHSBÖBLINGEN-SINDELFINGEN
SUMMARY:Sturzprävention, Rückentraining und Entspannung - Gymnastik für Ältere (W35756031) 
LOCATION:ST, Bürgerhaus, Bürgersaal, Kleingruppe
END:VEVENT
BEGIN:VEVENT
DTSTAMP:20260421T134550
DTSTART;TZID=Europe/Berlin:20261112T104000
DTEND;TZID=Europe/Berlin:20261112T114000
UID:W35756031-20261112T104000@VHSBÖBLINGEN-SINDELFINGEN
SUMMARY:Sturzprävention, Rückentraining und Entspannung - Gymnastik für Ältere (W35756031) 
LOCATION:ST, Bürgerhaus, Bürgersaal, Kleingruppe
END:VEVENT
BEGIN:VEVENT
DTSTAMP:20260421T134550
DTSTART;TZID=Europe/Berlin:20261119T104000
DTEND;TZID=Europe/Berlin:20261119T114000
UID:W35756031-20261119T104000@VHSBÖBLINGEN-SINDELFINGEN
SUMMARY:Sturzprävention, Rückentraining und Entspannung - Gymnastik für Ältere (W35756031) 
LOCATION:ST, Bürgerhaus, Bürgersaal, Kleingruppe
END:VEVENT
BEGIN:VEVENT
DTSTAMP:20260421T134550
DTSTART;TZID=Europe/Berlin:20261126T104000
DTEND;TZID=Europe/Berlin:20261126T114000
UID:W35756031-20261126T104000@VHSBÖBLINGEN-SINDELFINGEN
SUMMARY:Sturzprävention, Rückentraining und Entspannung - Gymnastik für Ältere (W35756031) 
LOCATION:ST, Bürgerhaus, Bürgersaal, Kleingruppe
END:VEVENT
BEGIN:VEVENT
DTSTAMP:20260421T134550
DTSTART;TZID=Europe/Berlin:20261203T104000
DTEND;TZID=Europe/Berlin:20261203T114000
UID:W35756031-20261203T104000@VHSBÖBLINGEN-SINDELFINGEN
SUMMARY:Sturzprävention, Rückentraining und Entspannung - Gymnastik für Ältere (W35756031) 
LOCATION:ST, Bürgerhaus, Bürgersaal, Kleingruppe
END:VEVENT
BEGIN:VEVENT
DTSTAMP:20260421T134550
DTSTART;TZID=Europe/Berlin:20261210T104000
DTEND;TZID=Europe/Berlin:20261210T114000
UID:W35756031-20261210T104000@VHSBÖBLINGEN-SINDELFINGEN
SUMMARY:Sturzprävention, Rückentraining und Entspannung - Gymnastik für Ältere (W35756031) 
LOCATION:ST, Bürgerhaus, Bürgersaal, Kleingruppe
END:VEVENT
BEGIN:VEVENT
DTSTAMP:20260421T134550
DTSTART;TZID=Europe/Berlin:20261217T104000
DTEND;TZID=Europe/Berlin:20261217T114000
UID:W35756031-20261217T104000@VHSBÖBLINGEN-SINDELFINGEN
SUMMARY:Sturzprävention, Rückentraining und Entspannung - Gymnastik für Ältere (W35756031) 
LOCATION:ST, Bürgerhaus, Bürgersaal, Kleingruppe
END:VEVENT
BEGIN:VEVENT
DTSTAMP:20260421T134550
DTSTART;TZID=Europe/Berlin:20270114T104000
DTEND;TZID=Europe/Berlin:20270114T114000
UID:W35756031-20270114T104000@VHSBÖBLINGEN-SINDELFINGEN
SUMMARY:Sturzprävention, Rückentraining und Entspannung - Gymnastik für Ältere (W35756031) 
LOCATION:ST, Bürgerhaus, Bürgersaal, Kleingruppe
END:VEVENT
BEGIN:VEVENT
DTSTAMP:20260421T134550
DTSTART;TZID=Europe/Berlin:20270121T104000
DTEND;TZID=Europe/Berlin:20270121T114000
UID:W35756031-20270121T104000@VHSBÖBLINGEN-SINDELFINGEN
SUMMARY:Sturzprävention, Rückentraining und Entspannung - Gymnastik für Ältere (W35756031) 
LOCATION:ST, Bürgerhaus, Bürgersaal, Kleingruppe
END:VEVENT
BEGIN:VEVENT
DTSTAMP:20260421T134550
DTSTART;TZID=Europe/Berlin:20270128T104000
DTEND;TZID=Europe/Berlin:20270128T114000
UID:W35756031-20270128T104000@VHSBÖBLINGEN-SINDELFINGEN
SUMMARY:Sturzprävention, Rückentraining und Entspannung - Gymnastik für Ältere (W35756031) 
LOCATION:ST, Bürgerhaus, Bürgersaal, Kleingruppe
END:VEVENT
END:VCALENDAR