BEGIN:VCALENDAR
VERSION:2.0
PRODID:https://www.kufer.de/kuferweb / DE
METHOD:PUBLISH
CALSCALE:GREGORIAN
X-WR-TIMEZONE:Europe/Berlin
BEGIN:VTIMEZONE
TZID:Europe/Berlin
X-LIC-LOCATION:Europe/Berlin
BEGIN:DAYLIGHT
TZOFFSETFROM:+0100
TZOFFSETTO:+0200
TZNAME:CEST
DTSTART:19700329T020000
RRULE:FREQ=YEARLY;INTERVAL=1;BYDAY=-1SU;BYMONTH=3
END:DAYLIGHT
BEGIN:STANDARD
TZOFFSETFROM:+0200
TZOFFSETTO:+0100
TZNAME:CET
DTSTART:19701025T030000
RRULE:FREQ=YEARLY;INTERVAL=1;BYDAY=-1SU;BYMONTH=10
END:STANDARD
END:VTIMEZONE
BEGIN:VEVENT
DTSTAMP:20260421T035252
DTSTART;TZID=Europe/Berlin:20260917T083000
DTEND;TZID=Europe/Berlin:20260917T093000
UID:W35755822-20260917T083000@VHSBÖBLINGEN-SINDELFINGEN
SUMMARY:Gesundheitsgymnastik (W35755822) 
LOCATION:MA, Neues Schulhaus, Gymnastikraum, EG, Neue Stuttgarter Str. 1, 71106 Magstadt
END:VEVENT
BEGIN:VEVENT
DTSTAMP:20260421T035252
DTSTART;TZID=Europe/Berlin:20260924T083000
DTEND;TZID=Europe/Berlin:20260924T093000
UID:W35755822-20260924T083000@VHSBÖBLINGEN-SINDELFINGEN
SUMMARY:Gesundheitsgymnastik (W35755822) 
LOCATION:MA, Neues Schulhaus, Gymnastikraum, EG, Neue Stuttgarter Str. 1, 71106 Magstadt
END:VEVENT
BEGIN:VEVENT
DTSTAMP:20260421T035252
DTSTART;TZID=Europe/Berlin:20261001T083000
DTEND;TZID=Europe/Berlin:20261001T093000
UID:W35755822-20261001T083000@VHSBÖBLINGEN-SINDELFINGEN
SUMMARY:Gesundheitsgymnastik (W35755822) 
LOCATION:MA, Neues Schulhaus, Gymnastikraum, EG, Neue Stuttgarter Str. 1, 71106 Magstadt
END:VEVENT
BEGIN:VEVENT
DTSTAMP:20260421T035252
DTSTART;TZID=Europe/Berlin:20261008T083000
DTEND;TZID=Europe/Berlin:20261008T093000
UID:W35755822-20261008T083000@VHSBÖBLINGEN-SINDELFINGEN
SUMMARY:Gesundheitsgymnastik (W35755822) 
LOCATION:MA, Neues Schulhaus, Gymnastikraum, EG, Neue Stuttgarter Str. 1, 71106 Magstadt
END:VEVENT
BEGIN:VEVENT
DTSTAMP:20260421T035252
DTSTART;TZID=Europe/Berlin:20261015T083000
DTEND;TZID=Europe/Berlin:20261015T093000
UID:W35755822-20261015T083000@VHSBÖBLINGEN-SINDELFINGEN
SUMMARY:Gesundheitsgymnastik (W35755822) 
LOCATION:MA, Neues Schulhaus, Gymnastikraum, EG, Neue Stuttgarter Str. 1, 71106 Magstadt
END:VEVENT
BEGIN:VEVENT
DTSTAMP:20260421T035252
DTSTART;TZID=Europe/Berlin:20261022T083000
DTEND;TZID=Europe/Berlin:20261022T093000
UID:W35755822-20261022T083000@VHSBÖBLINGEN-SINDELFINGEN
SUMMARY:Gesundheitsgymnastik (W35755822) 
LOCATION:MA, Neues Schulhaus, Gymnastikraum, EG, Neue Stuttgarter Str. 1, 71106 Magstadt
END:VEVENT
BEGIN:VEVENT
DTSTAMP:20260421T035252
DTSTART;TZID=Europe/Berlin:20261105T083000
DTEND;TZID=Europe/Berlin:20261105T093000
UID:W35755822-20261105T083000@VHSBÖBLINGEN-SINDELFINGEN
SUMMARY:Gesundheitsgymnastik (W35755822) 
LOCATION:MA, Neues Schulhaus, Gymnastikraum, EG, Neue Stuttgarter Str. 1, 71106 Magstadt
END:VEVENT
BEGIN:VEVENT
DTSTAMP:20260421T035252
DTSTART;TZID=Europe/Berlin:20261112T083000
DTEND;TZID=Europe/Berlin:20261112T093000
UID:W35755822-20261112T083000@VHSBÖBLINGEN-SINDELFINGEN
SUMMARY:Gesundheitsgymnastik (W35755822) 
LOCATION:MA, Neues Schulhaus, Gymnastikraum, EG, Neue Stuttgarter Str. 1, 71106 Magstadt
END:VEVENT
BEGIN:VEVENT
DTSTAMP:20260421T035252
DTSTART;TZID=Europe/Berlin:20261119T083000
DTEND;TZID=Europe/Berlin:20261119T093000
UID:W35755822-20261119T083000@VHSBÖBLINGEN-SINDELFINGEN
SUMMARY:Gesundheitsgymnastik (W35755822) 
LOCATION:MA, Neues Schulhaus, Gymnastikraum, EG, Neue Stuttgarter Str. 1, 71106 Magstadt
END:VEVENT
BEGIN:VEVENT
DTSTAMP:20260421T035252
DTSTART;TZID=Europe/Berlin:20261126T083000
DTEND;TZID=Europe/Berlin:20261126T093000
UID:W35755822-20261126T083000@VHSBÖBLINGEN-SINDELFINGEN
SUMMARY:Gesundheitsgymnastik (W35755822) 
LOCATION:MA, Neues Schulhaus, Gymnastikraum, EG, Neue Stuttgarter Str. 1, 71106 Magstadt
END:VEVENT
BEGIN:VEVENT
DTSTAMP:20260421T035252
DTSTART;TZID=Europe/Berlin:20261203T083000
DTEND;TZID=Europe/Berlin:20261203T093000
UID:W35755822-20261203T083000@VHSBÖBLINGEN-SINDELFINGEN
SUMMARY:Gesundheitsgymnastik (W35755822) 
LOCATION:MA, Neues Schulhaus, Gymnastikraum, EG, Neue Stuttgarter Str. 1, 71106 Magstadt
END:VEVENT
BEGIN:VEVENT
DTSTAMP:20260421T035252
DTSTART;TZID=Europe/Berlin:20261210T083000
DTEND;TZID=Europe/Berlin:20261210T093000
UID:W35755822-20261210T083000@VHSBÖBLINGEN-SINDELFINGEN
SUMMARY:Gesundheitsgymnastik (W35755822) 
LOCATION:MA, Neues Schulhaus, Gymnastikraum, EG, Neue Stuttgarter Str. 1, 71106 Magstadt
END:VEVENT
BEGIN:VEVENT
DTSTAMP:20260421T035252
DTSTART;TZID=Europe/Berlin:20261217T083000
DTEND;TZID=Europe/Berlin:20261217T093000
UID:W35755822-20261217T083000@VHSBÖBLINGEN-SINDELFINGEN
SUMMARY:Gesundheitsgymnastik (W35755822) 
LOCATION:MA, Neues Schulhaus, Gymnastikraum, EG, Neue Stuttgarter Str. 1, 71106 Magstadt
END:VEVENT
BEGIN:VEVENT
DTSTAMP:20260421T035252
DTSTART;TZID=Europe/Berlin:20270114T083000
DTEND;TZID=Europe/Berlin:20270114T093000
UID:W35755822-20270114T083000@VHSBÖBLINGEN-SINDELFINGEN
SUMMARY:Gesundheitsgymnastik (W35755822) 
LOCATION:MA, Neues Schulhaus, Gymnastikraum, EG, Neue Stuttgarter Str. 1, 71106 Magstadt
END:VEVENT
BEGIN:VEVENT
DTSTAMP:20260421T035252
DTSTART;TZID=Europe/Berlin:20270121T083000
DTEND;TZID=Europe/Berlin:20270121T093000
UID:W35755822-20270121T083000@VHSBÖBLINGEN-SINDELFINGEN
SUMMARY:Gesundheitsgymnastik (W35755822) 
LOCATION:MA, Neues Schulhaus, Gymnastikraum, EG, Neue Stuttgarter Str. 1, 71106 Magstadt
END:VEVENT
BEGIN:VEVENT
DTSTAMP:20260421T035252
DTSTART;TZID=Europe/Berlin:20270128T083000
DTEND;TZID=Europe/Berlin:20270128T093000
UID:W35755822-20270128T083000@VHSBÖBLINGEN-SINDELFINGEN
SUMMARY:Gesundheitsgymnastik (W35755822) 
LOCATION:MA, Neues Schulhaus, Gymnastikraum, EG, Neue Stuttgarter Str. 1, 71106 Magstadt
END:VEVENT
BEGIN:VEVENT
DTSTAMP:20260421T035252
DTSTART;TZID=Europe/Berlin:20270204T083000
DTEND;TZID=Europe/Berlin:20270204T093000
UID:W35755822-20270204T083000@VHSBÖBLINGEN-SINDELFINGEN
SUMMARY:Gesundheitsgymnastik (W35755822) 
LOCATION:MA, Neues Schulhaus, Gymnastikraum, EG, Neue Stuttgarter Str. 1, 71106 Magstadt
END:VEVENT
END:VCALENDAR