BEGIN:VCALENDAR
VERSION:2.0
PRODID:https://www.kufer.de/kuferweb / DE
METHOD:PUBLISH
CALSCALE:GREGORIAN
X-WR-TIMEZONE:Europe/Berlin
BEGIN:VTIMEZONE
TZID:Europe/Berlin
X-LIC-LOCATION:Europe/Berlin
BEGIN:DAYLIGHT
TZOFFSETFROM:+0100
TZOFFSETTO:+0200
TZNAME:CEST
DTSTART:19700329T020000
RRULE:FREQ=YEARLY;INTERVAL=1;BYDAY=-1SU;BYMONTH=3
END:DAYLIGHT
BEGIN:STANDARD
TZOFFSETFROM:+0200
TZOFFSETTO:+0100
TZNAME:CET
DTSTART:19701025T030000
RRULE:FREQ=YEARLY;INTERVAL=1;BYDAY=-1SU;BYMONTH=10
END:STANDARD
END:VTIMEZONE
BEGIN:VEVENT
DTSTAMP:20260421T134713
DTSTART;TZID=Europe/Berlin:20260914T193000
DTEND;TZID=Europe/Berlin:20260914T203000
UID:W35534021-20260914T193000@VHSBÖBLINGEN-SINDELFINGEN
SUMMARY:HIIT: High-Intensity-Intervall-Training (W35534021) 
LOCATION:HO, Grund- und Werkrealschule, Gymnastikpavillon, Berkenstr. 18, 71088 Holzgerlingen
END:VEVENT
BEGIN:VEVENT
DTSTAMP:20260421T134713
DTSTART;TZID=Europe/Berlin:20260921T193000
DTEND;TZID=Europe/Berlin:20260921T203000
UID:W35534021-20260921T193000@VHSBÖBLINGEN-SINDELFINGEN
SUMMARY:HIIT: High-Intensity-Intervall-Training (W35534021) 
LOCATION:HO, Grund- und Werkrealschule, Gymnastikpavillon, Berkenstr. 18, 71088 Holzgerlingen
END:VEVENT
BEGIN:VEVENT
DTSTAMP:20260421T134713
DTSTART;TZID=Europe/Berlin:20260928T193000
DTEND;TZID=Europe/Berlin:20260928T203000
UID:W35534021-20260928T193000@VHSBÖBLINGEN-SINDELFINGEN
SUMMARY:HIIT: High-Intensity-Intervall-Training (W35534021) 
LOCATION:HO, Grund- und Werkrealschule, Gymnastikpavillon, Berkenstr. 18, 71088 Holzgerlingen
END:VEVENT
BEGIN:VEVENT
DTSTAMP:20260421T134713
DTSTART;TZID=Europe/Berlin:20261005T193000
DTEND;TZID=Europe/Berlin:20261005T203000
UID:W35534021-20261005T193000@VHSBÖBLINGEN-SINDELFINGEN
SUMMARY:HIIT: High-Intensity-Intervall-Training (W35534021) 
LOCATION:HO, Grund- und Werkrealschule, Gymnastikpavillon, Berkenstr. 18, 71088 Holzgerlingen
END:VEVENT
BEGIN:VEVENT
DTSTAMP:20260421T134713
DTSTART;TZID=Europe/Berlin:20261012T193000
DTEND;TZID=Europe/Berlin:20261012T203000
UID:W35534021-20261012T193000@VHSBÖBLINGEN-SINDELFINGEN
SUMMARY:HIIT: High-Intensity-Intervall-Training (W35534021) 
LOCATION:HO, Grund- und Werkrealschule, Gymnastikpavillon, Berkenstr. 18, 71088 Holzgerlingen
END:VEVENT
BEGIN:VEVENT
DTSTAMP:20260421T134713
DTSTART;TZID=Europe/Berlin:20261019T193000
DTEND;TZID=Europe/Berlin:20261019T203000
UID:W35534021-20261019T193000@VHSBÖBLINGEN-SINDELFINGEN
SUMMARY:HIIT: High-Intensity-Intervall-Training (W35534021) 
LOCATION:HO, Grund- und Werkrealschule, Gymnastikpavillon, Berkenstr. 18, 71088 Holzgerlingen
END:VEVENT
BEGIN:VEVENT
DTSTAMP:20260421T134713
DTSTART;TZID=Europe/Berlin:20261102T193000
DTEND;TZID=Europe/Berlin:20261102T203000
UID:W35534021-20261102T193000@VHSBÖBLINGEN-SINDELFINGEN
SUMMARY:HIIT: High-Intensity-Intervall-Training (W35534021) 
LOCATION:HO, Grund- und Werkrealschule, Gymnastikpavillon, Berkenstr. 18, 71088 Holzgerlingen
END:VEVENT
BEGIN:VEVENT
DTSTAMP:20260421T134713
DTSTART;TZID=Europe/Berlin:20261109T193000
DTEND;TZID=Europe/Berlin:20261109T203000
UID:W35534021-20261109T193000@VHSBÖBLINGEN-SINDELFINGEN
SUMMARY:HIIT: High-Intensity-Intervall-Training (W35534021) 
LOCATION:HO, Grund- und Werkrealschule, Gymnastikpavillon, Berkenstr. 18, 71088 Holzgerlingen
END:VEVENT
BEGIN:VEVENT
DTSTAMP:20260421T134713
DTSTART;TZID=Europe/Berlin:20261116T193000
DTEND;TZID=Europe/Berlin:20261116T203000
UID:W35534021-20261116T193000@VHSBÖBLINGEN-SINDELFINGEN
SUMMARY:HIIT: High-Intensity-Intervall-Training (W35534021) 
LOCATION:HO, Grund- und Werkrealschule, Gymnastikpavillon, Berkenstr. 18, 71088 Holzgerlingen
END:VEVENT
BEGIN:VEVENT
DTSTAMP:20260421T134713
DTSTART;TZID=Europe/Berlin:20261123T193000
DTEND;TZID=Europe/Berlin:20261123T203000
UID:W35534021-20261123T193000@VHSBÖBLINGEN-SINDELFINGEN
SUMMARY:HIIT: High-Intensity-Intervall-Training (W35534021) 
LOCATION:HO, Grund- und Werkrealschule, Gymnastikpavillon, Berkenstr. 18, 71088 Holzgerlingen
END:VEVENT
BEGIN:VEVENT
DTSTAMP:20260421T134713
DTSTART;TZID=Europe/Berlin:20261130T193000
DTEND;TZID=Europe/Berlin:20261130T203000
UID:W35534021-20261130T193000@VHSBÖBLINGEN-SINDELFINGEN
SUMMARY:HIIT: High-Intensity-Intervall-Training (W35534021) 
LOCATION:HO, Grund- und Werkrealschule, Gymnastikpavillon, Berkenstr. 18, 71088 Holzgerlingen
END:VEVENT
BEGIN:VEVENT
DTSTAMP:20260421T134713
DTSTART;TZID=Europe/Berlin:20261207T193000
DTEND;TZID=Europe/Berlin:20261207T203000
UID:W35534021-20261207T193000@VHSBÖBLINGEN-SINDELFINGEN
SUMMARY:HIIT: High-Intensity-Intervall-Training (W35534021) 
LOCATION:HO, Grund- und Werkrealschule, Gymnastikpavillon, Berkenstr. 18, 71088 Holzgerlingen
END:VEVENT
BEGIN:VEVENT
DTSTAMP:20260421T134713
DTSTART;TZID=Europe/Berlin:20261214T193000
DTEND;TZID=Europe/Berlin:20261214T203000
UID:W35534021-20261214T193000@VHSBÖBLINGEN-SINDELFINGEN
SUMMARY:HIIT: High-Intensity-Intervall-Training (W35534021) 
LOCATION:HO, Grund- und Werkrealschule, Gymnastikpavillon, Berkenstr. 18, 71088 Holzgerlingen
END:VEVENT
BEGIN:VEVENT
DTSTAMP:20260421T134713
DTSTART;TZID=Europe/Berlin:20261221T193000
DTEND;TZID=Europe/Berlin:20261221T203000
UID:W35534021-20261221T193000@VHSBÖBLINGEN-SINDELFINGEN
SUMMARY:HIIT: High-Intensity-Intervall-Training (W35534021) 
LOCATION:HO, Grund- und Werkrealschule, Gymnastikpavillon, Berkenstr. 18, 71088 Holzgerlingen
END:VEVENT
BEGIN:VEVENT
DTSTAMP:20260421T134713
DTSTART;TZID=Europe/Berlin:20270111T193000
DTEND;TZID=Europe/Berlin:20270111T203000
UID:W35534021-20270111T193000@VHSBÖBLINGEN-SINDELFINGEN
SUMMARY:HIIT: High-Intensity-Intervall-Training (W35534021) 
LOCATION:HO, Grund- und Werkrealschule, Gymnastikpavillon, Berkenstr. 18, 71088 Holzgerlingen
END:VEVENT
BEGIN:VEVENT
DTSTAMP:20260421T134713
DTSTART;TZID=Europe/Berlin:20270118T193000
DTEND;TZID=Europe/Berlin:20270118T203000
UID:W35534021-20270118T193000@VHSBÖBLINGEN-SINDELFINGEN
SUMMARY:HIIT: High-Intensity-Intervall-Training (W35534021) 
LOCATION:HO, Grund- und Werkrealschule, Gymnastikpavillon, Berkenstr. 18, 71088 Holzgerlingen
END:VEVENT
BEGIN:VEVENT
DTSTAMP:20260421T134713
DTSTART;TZID=Europe/Berlin:20270125T193000
DTEND;TZID=Europe/Berlin:20270125T203000
UID:W35534021-20270125T193000@VHSBÖBLINGEN-SINDELFINGEN
SUMMARY:HIIT: High-Intensity-Intervall-Training (W35534021) 
LOCATION:HO, Grund- und Werkrealschule, Gymnastikpavillon, Berkenstr. 18, 71088 Holzgerlingen
END:VEVENT
END:VCALENDAR