BEGIN:VCALENDAR
VERSION:2.0
PRODID:https://www.kufer.de/kuferweb / DE
METHOD:PUBLISH
CALSCALE:GREGORIAN
X-WR-TIMEZONE:Europe/Berlin
BEGIN:VTIMEZONE
TZID:Europe/Berlin
X-LIC-LOCATION:Europe/Berlin
BEGIN:DAYLIGHT
TZOFFSETFROM:+0100
TZOFFSETTO:+0200
TZNAME:CEST
DTSTART:19700329T020000
RRULE:FREQ=YEARLY;INTERVAL=1;BYDAY=-1SU;BYMONTH=3
END:DAYLIGHT
BEGIN:STANDARD
TZOFFSETFROM:+0200
TZOFFSETTO:+0100
TZNAME:CET
DTSTART:19701025T030000
RRULE:FREQ=YEARLY;INTERVAL=1;BYDAY=-1SU;BYMONTH=10
END:STANDARD
END:VTIMEZONE
BEGIN:VEVENT
DTSTAMP:20260421T041335
DTSTART;TZID=Europe/Berlin:20260924T191000
DTEND;TZID=Europe/Berlin:20260924T201000
UID:W35451410-20260924T191000@VHSBÖBLINGEN-SINDELFINGEN
SUMMARY:Power-Fitness (W35451410) 
LOCATION:vhs.Werk, Halle 1, Wurmbergstr. 5, 71063 Sindelfingen
END:VEVENT
BEGIN:VEVENT
DTSTAMP:20260421T041335
DTSTART;TZID=Europe/Berlin:20261001T191000
DTEND;TZID=Europe/Berlin:20261001T201000
UID:W35451410-20261001T191000@VHSBÖBLINGEN-SINDELFINGEN
SUMMARY:Power-Fitness (W35451410) 
LOCATION:vhs.Werk, Halle 1, Wurmbergstr. 5, 71063 Sindelfingen
END:VEVENT
BEGIN:VEVENT
DTSTAMP:20260421T041335
DTSTART;TZID=Europe/Berlin:20261008T191000
DTEND;TZID=Europe/Berlin:20261008T201000
UID:W35451410-20261008T191000@VHSBÖBLINGEN-SINDELFINGEN
SUMMARY:Power-Fitness (W35451410) 
LOCATION:vhs.Werk, Halle 1, Wurmbergstr. 5, 71063 Sindelfingen
END:VEVENT
BEGIN:VEVENT
DTSTAMP:20260421T041335
DTSTART;TZID=Europe/Berlin:20261015T191000
DTEND;TZID=Europe/Berlin:20261015T201000
UID:W35451410-20261015T191000@VHSBÖBLINGEN-SINDELFINGEN
SUMMARY:Power-Fitness (W35451410) 
LOCATION:vhs.Werk, Halle 1, Wurmbergstr. 5, 71063 Sindelfingen
END:VEVENT
BEGIN:VEVENT
DTSTAMP:20260421T041335
DTSTART;TZID=Europe/Berlin:20261022T191000
DTEND;TZID=Europe/Berlin:20261022T201000
UID:W35451410-20261022T191000@VHSBÖBLINGEN-SINDELFINGEN
SUMMARY:Power-Fitness (W35451410) 
LOCATION:vhs.Werk, Halle 1, Wurmbergstr. 5, 71063 Sindelfingen
END:VEVENT
BEGIN:VEVENT
DTSTAMP:20260421T041335
DTSTART;TZID=Europe/Berlin:20261105T191000
DTEND;TZID=Europe/Berlin:20261105T201000
UID:W35451410-20261105T191000@VHSBÖBLINGEN-SINDELFINGEN
SUMMARY:Power-Fitness (W35451410) 
LOCATION:vhs.Werk, Halle 1, Wurmbergstr. 5, 71063 Sindelfingen
END:VEVENT
BEGIN:VEVENT
DTSTAMP:20260421T041335
DTSTART;TZID=Europe/Berlin:20261112T191000
DTEND;TZID=Europe/Berlin:20261112T201000
UID:W35451410-20261112T191000@VHSBÖBLINGEN-SINDELFINGEN
SUMMARY:Power-Fitness (W35451410) 
LOCATION:vhs.Werk, Halle 1, Wurmbergstr. 5, 71063 Sindelfingen
END:VEVENT
BEGIN:VEVENT
DTSTAMP:20260421T041335
DTSTART;TZID=Europe/Berlin:20261126T191000
DTEND;TZID=Europe/Berlin:20261126T201000
UID:W35451410-20261126T191000@VHSBÖBLINGEN-SINDELFINGEN
SUMMARY:Power-Fitness (W35451410) 
LOCATION:vhs.Werk, Halle 1, Wurmbergstr. 5, 71063 Sindelfingen
END:VEVENT
BEGIN:VEVENT
DTSTAMP:20260421T041335
DTSTART;TZID=Europe/Berlin:20261203T191000
DTEND;TZID=Europe/Berlin:20261203T201000
UID:W35451410-20261203T191000@VHSBÖBLINGEN-SINDELFINGEN
SUMMARY:Power-Fitness (W35451410) 
LOCATION:vhs.Werk, Halle 1, Wurmbergstr. 5, 71063 Sindelfingen
END:VEVENT
BEGIN:VEVENT
DTSTAMP:20260421T041335
DTSTART;TZID=Europe/Berlin:20261210T191000
DTEND;TZID=Europe/Berlin:20261210T201000
UID:W35451410-20261210T191000@VHSBÖBLINGEN-SINDELFINGEN
SUMMARY:Power-Fitness (W35451410) 
LOCATION:vhs.Werk, Halle 1, Wurmbergstr. 5, 71063 Sindelfingen
END:VEVENT
BEGIN:VEVENT
DTSTAMP:20260421T041335
DTSTART;TZID=Europe/Berlin:20261217T191000
DTEND;TZID=Europe/Berlin:20261217T201000
UID:W35451410-20261217T191000@VHSBÖBLINGEN-SINDELFINGEN
SUMMARY:Power-Fitness (W35451410) 
LOCATION:vhs.Werk, Halle 1, Wurmbergstr. 5, 71063 Sindelfingen
END:VEVENT
BEGIN:VEVENT
DTSTAMP:20260421T041335
DTSTART;TZID=Europe/Berlin:20270114T191000
DTEND;TZID=Europe/Berlin:20270114T201000
UID:W35451410-20270114T191000@VHSBÖBLINGEN-SINDELFINGEN
SUMMARY:Power-Fitness (W35451410) 
LOCATION:vhs.Werk, Halle 1, Wurmbergstr. 5, 71063 Sindelfingen
END:VEVENT
BEGIN:VEVENT
DTSTAMP:20260421T041335
DTSTART;TZID=Europe/Berlin:20270121T191000
DTEND;TZID=Europe/Berlin:20270121T201000
UID:W35451410-20270121T191000@VHSBÖBLINGEN-SINDELFINGEN
SUMMARY:Power-Fitness (W35451410) 
LOCATION:vhs.Werk, Halle 1, Wurmbergstr. 5, 71063 Sindelfingen
END:VEVENT
BEGIN:VEVENT
DTSTAMP:20260421T041335
DTSTART;TZID=Europe/Berlin:20270128T191000
DTEND;TZID=Europe/Berlin:20270128T201000
UID:W35451410-20270128T191000@VHSBÖBLINGEN-SINDELFINGEN
SUMMARY:Power-Fitness (W35451410) 
LOCATION:vhs.Werk, Halle 1, Wurmbergstr. 5, 71063 Sindelfingen
END:VEVENT
BEGIN:VEVENT
DTSTAMP:20260421T041335
DTSTART;TZID=Europe/Berlin:20270204T191000
DTEND;TZID=Europe/Berlin:20270204T201000
UID:W35451410-20270204T191000@VHSBÖBLINGEN-SINDELFINGEN
SUMMARY:Power-Fitness (W35451410) 
LOCATION:vhs.Werk, Halle 1, Wurmbergstr. 5, 71063 Sindelfingen
END:VEVENT
END:VCALENDAR