BEGIN:VCALENDAR
VERSION:2.0
PRODID:https://www.kufer.de/kuferweb / DE
METHOD:PUBLISH
CALSCALE:GREGORIAN
X-WR-TIMEZONE:Europe/Berlin
BEGIN:VTIMEZONE
TZID:Europe/Berlin
X-LIC-LOCATION:Europe/Berlin
BEGIN:DAYLIGHT
TZOFFSETFROM:+0100
TZOFFSETTO:+0200
TZNAME:CEST
DTSTART:19700329T020000
RRULE:FREQ=YEARLY;INTERVAL=1;BYDAY=-1SU;BYMONTH=3
END:DAYLIGHT
BEGIN:STANDARD
TZOFFSETFROM:+0200
TZOFFSETTO:+0100
TZNAME:CET
DTSTART:19701025T030000
RRULE:FREQ=YEARLY;INTERVAL=1;BYDAY=-1SU;BYMONTH=10
END:STANDARD
END:VTIMEZONE
BEGIN:VEVENT
DTSTAMP:20260421T203133
DTSTART;TZID=Europe/Berlin:20260914T202000
DTEND;TZID=Europe/Berlin:20260914T212000
UID:W35255061-20260914T202000@VHSBÖBLINGEN-SINDELFINGEN
SUMMARY:Tiefenwirksames Muskeltraining  mit Flexibar & Pilateselementen (W35255061) 
LOCATION:WE, Halle Neuweiler, ___, Hennersdorfer Straße, 71093 Weil im Schönbuch
END:VEVENT
BEGIN:VEVENT
DTSTAMP:20260421T203133
DTSTART;TZID=Europe/Berlin:20260921T202000
DTEND;TZID=Europe/Berlin:20260921T212000
UID:W35255061-20260921T202000@VHSBÖBLINGEN-SINDELFINGEN
SUMMARY:Tiefenwirksames Muskeltraining  mit Flexibar & Pilateselementen (W35255061) 
LOCATION:WE, Halle Neuweiler, ___, Hennersdorfer Straße, 71093 Weil im Schönbuch
END:VEVENT
BEGIN:VEVENT
DTSTAMP:20260421T203133
DTSTART;TZID=Europe/Berlin:20260928T202000
DTEND;TZID=Europe/Berlin:20260928T212000
UID:W35255061-20260928T202000@VHSBÖBLINGEN-SINDELFINGEN
SUMMARY:Tiefenwirksames Muskeltraining  mit Flexibar & Pilateselementen (W35255061) 
LOCATION:WE, Halle Neuweiler, ___, Hennersdorfer Straße, 71093 Weil im Schönbuch
END:VEVENT
BEGIN:VEVENT
DTSTAMP:20260421T203133
DTSTART;TZID=Europe/Berlin:20261005T202000
DTEND;TZID=Europe/Berlin:20261005T212000
UID:W35255061-20261005T202000@VHSBÖBLINGEN-SINDELFINGEN
SUMMARY:Tiefenwirksames Muskeltraining  mit Flexibar & Pilateselementen (W35255061) 
LOCATION:WE, Halle Neuweiler, ___, Hennersdorfer Straße, 71093 Weil im Schönbuch
END:VEVENT
BEGIN:VEVENT
DTSTAMP:20260421T203133
DTSTART;TZID=Europe/Berlin:20261012T202000
DTEND;TZID=Europe/Berlin:20261012T212000
UID:W35255061-20261012T202000@VHSBÖBLINGEN-SINDELFINGEN
SUMMARY:Tiefenwirksames Muskeltraining  mit Flexibar & Pilateselementen (W35255061) 
LOCATION:WE, Halle Neuweiler, ___, Hennersdorfer Straße, 71093 Weil im Schönbuch
END:VEVENT
BEGIN:VEVENT
DTSTAMP:20260421T203133
DTSTART;TZID=Europe/Berlin:20261019T202000
DTEND;TZID=Europe/Berlin:20261019T212000
UID:W35255061-20261019T202000@VHSBÖBLINGEN-SINDELFINGEN
SUMMARY:Tiefenwirksames Muskeltraining  mit Flexibar & Pilateselementen (W35255061) 
LOCATION:WE, Halle Neuweiler, ___, Hennersdorfer Straße, 71093 Weil im Schönbuch
END:VEVENT
BEGIN:VEVENT
DTSTAMP:20260421T203133
DTSTART;TZID=Europe/Berlin:20261102T202000
DTEND;TZID=Europe/Berlin:20261102T212000
UID:W35255061-20261102T202000@VHSBÖBLINGEN-SINDELFINGEN
SUMMARY:Tiefenwirksames Muskeltraining  mit Flexibar & Pilateselementen (W35255061) 
LOCATION:WE, Halle Neuweiler, ___, Hennersdorfer Straße, 71093 Weil im Schönbuch
END:VEVENT
BEGIN:VEVENT
DTSTAMP:20260421T203133
DTSTART;TZID=Europe/Berlin:20261109T202000
DTEND;TZID=Europe/Berlin:20261109T212000
UID:W35255061-20261109T202000@VHSBÖBLINGEN-SINDELFINGEN
SUMMARY:Tiefenwirksames Muskeltraining  mit Flexibar & Pilateselementen (W35255061) 
LOCATION:WE, Halle Neuweiler, ___, Hennersdorfer Straße, 71093 Weil im Schönbuch
END:VEVENT
BEGIN:VEVENT
DTSTAMP:20260421T203133
DTSTART;TZID=Europe/Berlin:20261116T202000
DTEND;TZID=Europe/Berlin:20261116T212000
UID:W35255061-20261116T202000@VHSBÖBLINGEN-SINDELFINGEN
SUMMARY:Tiefenwirksames Muskeltraining  mit Flexibar & Pilateselementen (W35255061) 
LOCATION:WE, Halle Neuweiler, ___, Hennersdorfer Straße, 71093 Weil im Schönbuch
END:VEVENT
BEGIN:VEVENT
DTSTAMP:20260421T203133
DTSTART;TZID=Europe/Berlin:20261123T202000
DTEND;TZID=Europe/Berlin:20261123T212000
UID:W35255061-20261123T202000@VHSBÖBLINGEN-SINDELFINGEN
SUMMARY:Tiefenwirksames Muskeltraining  mit Flexibar & Pilateselementen (W35255061) 
LOCATION:WE, Halle Neuweiler, ___, Hennersdorfer Straße, 71093 Weil im Schönbuch
END:VEVENT
BEGIN:VEVENT
DTSTAMP:20260421T203133
DTSTART;TZID=Europe/Berlin:20261130T202000
DTEND;TZID=Europe/Berlin:20261130T212000
UID:W35255061-20261130T202000@VHSBÖBLINGEN-SINDELFINGEN
SUMMARY:Tiefenwirksames Muskeltraining  mit Flexibar & Pilateselementen (W35255061) 
LOCATION:WE, Halle Neuweiler, ___, Hennersdorfer Straße, 71093 Weil im Schönbuch
END:VEVENT
BEGIN:VEVENT
DTSTAMP:20260421T203133
DTSTART;TZID=Europe/Berlin:20261207T202000
DTEND;TZID=Europe/Berlin:20261207T212000
UID:W35255061-20261207T202000@VHSBÖBLINGEN-SINDELFINGEN
SUMMARY:Tiefenwirksames Muskeltraining  mit Flexibar & Pilateselementen (W35255061) 
LOCATION:WE, Halle Neuweiler, ___, Hennersdorfer Straße, 71093 Weil im Schönbuch
END:VEVENT
BEGIN:VEVENT
DTSTAMP:20260421T203133
DTSTART;TZID=Europe/Berlin:20261214T202000
DTEND;TZID=Europe/Berlin:20261214T212000
UID:W35255061-20261214T202000@VHSBÖBLINGEN-SINDELFINGEN
SUMMARY:Tiefenwirksames Muskeltraining  mit Flexibar & Pilateselementen (W35255061) 
LOCATION:WE, Halle Neuweiler, ___, Hennersdorfer Straße, 71093 Weil im Schönbuch
END:VEVENT
BEGIN:VEVENT
DTSTAMP:20260421T203133
DTSTART;TZID=Europe/Berlin:20261221T202000
DTEND;TZID=Europe/Berlin:20261221T212000
UID:W35255061-20261221T202000@VHSBÖBLINGEN-SINDELFINGEN
SUMMARY:Tiefenwirksames Muskeltraining  mit Flexibar & Pilateselementen (W35255061) 
LOCATION:WE, Halle Neuweiler, ___, Hennersdorfer Straße, 71093 Weil im Schönbuch
END:VEVENT
BEGIN:VEVENT
DTSTAMP:20260421T203133
DTSTART;TZID=Europe/Berlin:20270111T202000
DTEND;TZID=Europe/Berlin:20270111T212000
UID:W35255061-20270111T202000@VHSBÖBLINGEN-SINDELFINGEN
SUMMARY:Tiefenwirksames Muskeltraining  mit Flexibar & Pilateselementen (W35255061) 
LOCATION:WE, Halle Neuweiler, ___, Hennersdorfer Straße, 71093 Weil im Schönbuch
END:VEVENT
BEGIN:VEVENT
DTSTAMP:20260421T203133
DTSTART;TZID=Europe/Berlin:20270118T202000
DTEND;TZID=Europe/Berlin:20270118T212000
UID:W35255061-20270118T202000@VHSBÖBLINGEN-SINDELFINGEN
SUMMARY:Tiefenwirksames Muskeltraining  mit Flexibar & Pilateselementen (W35255061) 
LOCATION:WE, Halle Neuweiler, ___, Hennersdorfer Straße, 71093 Weil im Schönbuch
END:VEVENT
END:VCALENDAR